BEGIN:VCALENDAR
VERSION:2.0
PRODID:-//Javna ustanova Centar za edukaciju sudija i tužilaca u Republici Srpskoj - ECPv6.15.20//NONSGML v1.0//EN
CALSCALE:GREGORIAN
METHOD:PUBLISH
X-WR-CALNAME:Javna ustanova Centar za edukaciju sudija i tužilaca u Republici Srpskoj
X-ORIGINAL-URL:https://rs.cest.gov.ba
X-WR-CALDESC:Events for Javna ustanova Centar za edukaciju sudija i tužilaca u Republici Srpskoj
REFRESH-INTERVAL;VALUE=DURATION:PT1H
X-Robots-Tag:noindex
X-PUBLISHED-TTL:PT1H
BEGIN:VTIMEZONE
TZID:Europe/Sarajevo
BEGIN:DAYLIGHT
TZOFFSETFROM:+0100
TZOFFSETTO:+0200
TZNAME:CEST
DTSTART:20240331T010000
END:DAYLIGHT
BEGIN:STANDARD
TZOFFSETFROM:+0200
TZOFFSETTO:+0100
TZNAME:CET
DTSTART:20241027T010000
END:STANDARD
BEGIN:DAYLIGHT
TZOFFSETFROM:+0100
TZOFFSETTO:+0200
TZNAME:CEST
DTSTART:20250330T010000
END:DAYLIGHT
BEGIN:STANDARD
TZOFFSETFROM:+0200
TZOFFSETTO:+0100
TZNAME:CET
DTSTART:20251026T010000
END:STANDARD
BEGIN:DAYLIGHT
TZOFFSETFROM:+0100
TZOFFSETTO:+0200
TZNAME:CEST
DTSTART:20260329T010000
END:DAYLIGHT
BEGIN:STANDARD
TZOFFSETFROM:+0200
TZOFFSETTO:+0100
TZNAME:CET
DTSTART:20261025T010000
END:STANDARD
END:VTIMEZONE
BEGIN:VEVENT
DTSTART;TZID=Europe/Sarajevo:20251002T083000
DTEND;TZID=Europe/Sarajevo:20251003T170000
DTSTAMP:20260421T133203
CREATED:20250911T110445Z
LAST-MODIFIED:20250911T110445Z
UID:4509-1759393800-1759510800@rs.cest.gov.ba
SUMMARY:Finansijske istrage i oduzimanje imovine
DESCRIPTION:Na osnovu Programa stručnog usavršavanja i početne obuke za 2025. godinu\, Centar za edukaciju sudija i javnih tužilaca u Republici Srpskoj i Centar za edukaciju sudija i tužilaca u FBiH\, u saradnji sa Savjetom Evrope\, organizuje seminar na temu: „Finansijske istrage i oduzimanje imovine“\, koji će se održati 2. i 3. oktobra 2025. godine u hotelu Grand\, Neum. \nIzlagači: Bernard Crossey i Ian Richardson \nDnevni red: \n2.oktobar \n08:30 – 09:00      Registracija učesnika \n09:00 – 09:30      Uvodna sesija: Dobrodošlica\, predstavljanje i pregled kursa \n09:30 – 10:30       Modul 1: Preporuke i komentari iz prethodne analize okončanih slučajeva \n10:30 – 10:45        Pauza \n10:45 – 12:00        Modul 2: Etičke istrage \n12:00 – 13:00       Modul 3: Krivično gonjenje za pranje novca i posredni dokazi \n13:00 – 14:00       Ručak \n14:00 – 15:00       Modul 4: Specijalne istražne metode \n15:00 – 15:15        Pauza \n15:15 – 17:00        Modul 5: Praktična vježba o dokaznim pitanjima u finansijskoj istrazi \n3.oktobar \n09:00 – 10:00      Modul 6: Donošenje odluka i evidentiranje \n10:00 – 11:00       Modul 7: Pitanja oduzimanja i izricanja kazni \n11:00 – 11:15         Pauza \n11:15 – 13:00        Modul 8: Identifikacija imovine (Praktična vježba) i upravljanje imovinom/slučajevima \n13:00 – 14:00      Ručak \n14:00 – 15:30      Modul 9: Forenzičke mogućnosti u finansijskim istragama\, praktična vježba \n15:30 – 15:45       Pauza \n15:45 – 16:30       Modul 10: Provjera znanja \n16:30 – 17:00      Završne riječi / neriješena pitanja
URL:https://rs.cest.gov.ba/event/finansijske-istrage-i-oduzimanje-imovine/
LOCATION:Neum
CATEGORIES:Krivičnopravna oblast
END:VEVENT
BEGIN:VEVENT
DTSTART;TZID=Europe/Sarajevo:20251002T100000
DTEND;TZID=Europe/Sarajevo:20251003T133000
DTSTAMP:20260421T133203
CREATED:20250905T112255Z
LAST-MODIFIED:20250905T112255Z
UID:4501-1759399200-1759498200@rs.cest.gov.ba
SUMMARY:Ljudska prava LGBT osoba u Bosni i Hercegovini i pravni mehanizmi njihove zaštite
DESCRIPTION:Na osnovu Programa stručnog usavršavanja i početne obuke za 2025. godinu\, Centar za edukaciju sudija i javnih tužilaca u Republici Srpskoj  u saradnji sa Sarajevskim otvorenim Centrom\, organizuje seminar\, na temu: „Ljudska prava LGBT osoba u Bosni i Hercegovini i pravni mehanizmi njihove zaštite – iskustva iz Bosne i Hercegovine i regiona“\, koji će se održati 2 – 3. oktobra 2025. godine u Doboju\, hotel „Park“\, Kneza Lazara 2.\nEdukatorski tim čine spoljni saradnici Sarajevskog otvorenog centra.\nNapominjemo da Sarajevski otvoreni centar plaća troškove noćenja učesnika\, na bazi punog pansiona\, za jedno noćenje (02/03. oktobar)\, u hotelu „Park“\, u Doboju. \nIzlagači su: Darko Pandurević\, Rukovoditelj programa i zagovaranja\, Sarajevski otvoreni centar\, prof.dr. Marija Lučić-Ćatić\, Fakutlet za kriminalistiku\, kriminologiju i sigurnosne studije Univerziteta u Sarajevu i prof.dr. Midhat Izmirlija\, Pravni fakultet Univerziteta u Sarajevu \nDnevni red: \nČetvrtak 2.10.2025. \n10:00 – 10:15     Otvaranje i dobrodošlica \n10:15 – 11:00      Uvodno predavanje o LGBTI tematici \n11:00 – 11:30      Pauza \n11:30 – 12:45      Predrasude i stereotipi kao uzroci diskrimanacije i krivičnih djela počinjenih iz mržnje \n12:45 – 13:15      Pauza \n13:15 – 14:45      Krivična djela počinjena iz mržnje na osnovu seksualne orijentacije i rodnog identiteta – kontekstualni i pravni okvir \n14:45 – 15:45       Ručak \n15:45 – 17:15      Krivična djela počinjena iz mržnje na osnovu seksualne orijentacije i rodnog identiteta\, analiza slučajeva iz BiH i regije \nPetak 3.10.2025. \n09:00 – 10:30    Antidiskriminaciono pravo: prikaz pravnog okvira primjenjivog na suzbijanje diskriminacije na osnovu seksualne orijentacije i rodnog identiteta u BiH \n10:30 – 11:00      Pauza \n11:00 – 12:30      Antidiskriminaciono pravo: suzbijanje diskriminacije na osnovu seksualne orijentacije i rodnog identiteta u BiH\, slučajevi iz prakse\, regije i praksa Europskog suda za ljudska prava \n12:30 – 13:15      Živa biblioteka \n13:15 – 13:30      Diskusija i evaluacija
URL:https://rs.cest.gov.ba/event/ljudska-prava-lgbt-osoba-u-bosni-i-hercegovini-i-pravni-mehanizmi-njihove-zastite/
LOCATION:Doboj
CATEGORIES:Posebne teme
END:VEVENT
BEGIN:VEVENT
DTSTART;TZID=Europe/Sarajevo:20251008T103000
DTEND;TZID=Europe/Sarajevo:20251008T143000
DTSTAMP:20260421T133203
CREATED:20250919T100536Z
LAST-MODIFIED:20250919T100536Z
UID:4530-1759919400-1759933800@rs.cest.gov.ba
SUMMARY:Aktuelna praksa izvršnog postupka
DESCRIPTION:Na osnovu Programa stručnog usavršavanja i početne obuke za 2025. godinu\, Centar za edukaciju sudija i javnih tužilaca u Republici Srpskoj  i Centar za edukaciju sudija i tužilaca Federacije Bosne i Hercegovine\, organizuju seminar\, na temu: „Aktuelna praksa izvršnog postupka“\, koji će se održati 8. oktobra 2025. godine u Banjaluci\, sala CEST-a RS\, Bulevar vojvode Stepe Stepanovića 60. \nEdukatori su Nevenka Mitrić\, sudija Okružnog suda u Banjoj Luci i Muhamed Cimirotić\, sudija Kantonalnog suda u Bihaću.\nU skladu sa Odlukom Visokog sudskog i tužilačkog savjeta Bosne i Hercegovine o minimalnom obimu početne obuke i stručnog usavršavanja sudija i tužilaca u Bosni i Hercegovini od 24. oktobra 2018. godine\, ovaj seminar je obavezujući za novoimenovane sudije koji su imenovane i stupile na dužnost u 2025. godini.\nTakođe\, sudije koje su prvi put imenovane i stupile na dužnost u 2024. godini\, nakon realizovanja ove obuke u 2024. godini\, imaju obavezu da\, zajedno sa novoimenovanim sudijama koje su stupile na dužnost u 2025. godini\, pohađaju ovaj seminar. \nDnevni red: \n10:15 – 10:25             Dolazak učesnika \n10:25 – 10:30             Otvaranje seminara i pozdravna riječ predstavnika organizatora \n10:30 – 12:00             Izvršni postupak u FBiH: \n– prigovor protiv rješenje  o izvršenju na osnovu vjerodostojne isprave \n-promjena tražioca izvršenja u toku postupka (prijelaz potraživanja) \n-prekid izvršnog postupka \n-utvrđivanje dužnikove imovine \n-ograničenje izvršenje na plaći\, penziji\, naknadama… \n-izvršenje radi ponovnog smetanja posjeda \n-izvršenje vraćanjem zaposlenika na rad. \n12:00- 12:30               Pauza \n12:30- 14:00               Sudske prakse u izvršnom postupku i najčešći problemi u provođenju izvršnog postupka u RS \n14:00-14:30                Diskusija\, evaluacija seminara i registracija učesnika
URL:https://rs.cest.gov.ba/event/aktuelna-praksa-izvrsnog-postupka/
LOCATION:Banja Luka
CATEGORIES:Obuka za novoimenovane NPF
END:VEVENT
BEGIN:VEVENT
DTSTART;TZID=Europe/Sarajevo:20251010T100000
DTEND;TZID=Europe/Sarajevo:20251010T150000
DTSTAMP:20260421T133203
CREATED:20250919T101001Z
LAST-MODIFIED:20251003T083702Z
UID:4532-1760090400-1760108400@rs.cest.gov.ba
SUMMARY:Vještina zastupanja optužnice
DESCRIPTION:Na osnovu Programa stručnog usavršavanja i početne obuke za 2025. godinu\, Centar za edukaciju sudija i javnih tužilaca u Republici Srpskoj  i Centar za edukaciju sudija i tužilaca Federacije Bosne i Hercegovine\, organizuju seminar\, na temu: „Vještina zastupanja optužnice“\, koji će se održati 10. oktobra 2025. godine u Sarajevu\, sala CEST-a FBiH\, Halida Nazečića 4. \nU skladu sa Odlukom Visokog sudskog i tužilačkog savjeta Bosne i Hercegovine o minimalnom obimu početne obuke i stručnog usavršavanja sudija i tužilaca u Bosni i Hercegovini od 24. oktobra 2018. godine\, ovaj seminar je obavezujući za novoimenovane javne tužioce koji su imenovani i stupili na dužnost u 2025. godini. Takođe\, javni tužioci koji su prvi put imenovani i stupili na dužnost u 2024. godini\, nakon realizovanja ove obuke u 2024. godini\, imaju obavezu da\, zajedno sa novoimenovanim javnim tužiocima koji su stupili na dužnost u 2025. godini\, pohađaju ovaj seminar. \nIzlagači: Saša Sarajlić\, tužitelj Federalnog tužilaštva FBiH i Marko Močević – tužitelj Kantonalnog tužilaštva Kantona Sarajevo \nDnevni red: \n09:30 – 09:55          Registracija učesnika i najava edukatora \n10:00 – 11:00          Uvodna riječ \nGlavni pretres (prijedlozi stranaka i prigovori\, propusti u odlučivanju; praktična primjena čl. 266. ZKP F BiH-nastavljanje                                     odloženog glavnog pretresa) \n11:00 – 11:15            Pauza \n11:15 – 12:00            Izuzeci od neposrednog sprovođenja dokaza \n12:00 – 12:45           Direktno i unakrsno ispitivanje \n12:45 – 13:00           Pauza \n13:00 – 13:45           Izmjena optužnice i završna riječ \n13:45 – 14:15            Diskusija \n14:00                          Kraj seminara
URL:https://rs.cest.gov.ba/event/vjestina-zastupanja-optuznice/
LOCATION:Sarajevo
CATEGORIES:Obuka za novoimenovane NPF
END:VEVENT
BEGIN:VEVENT
DTSTART;TZID=Europe/Sarajevo:20251010T100000
DTEND;TZID=Europe/Sarajevo:20251011T140000
DTSTAMP:20260421T133203
CREATED:20250917T114907Z
LAST-MODIFIED:20250917T114907Z
UID:4516-1760090400-1760191200@rs.cest.gov.ba
SUMMARY:XXII Savjetovanje „Oktobarski pravnički dani
DESCRIPTION:Sa zadovoljstvom vas obavještavamo da Udruženje pravnika Republike Srpske u saradnji sa Pravnim fakultetom Univerziteta u Banjoj Luci\, Advokatskom i notarskom komorom Republike Srpske\, Centrom za edukaciju sudija i javnih tužilaca u Republici Srpskoj i Pravnim fakultetom Univerziteta u Istočnom Sarajevu\, i ove godine organizuju: XXII Savjetovanje „Oktobarski pravnički dani“\, koje će se održati 10. i 11. oktobra 2025. godine\, u Zdravstveno-turističkom centru „Banja Vrućica“\, u Tesliću\, u hotelu „Kardial”. \nSvim sudijama učešće na Savjetovanju će se priznati u dane obavezne edukacije za 2025. godinu\, i to onoliko dana koliko bude realno trajalo Savjetovanje.\nRegistracija učesnika Savjetovanja vršiće se kod ovlaštenih službenika CEST RS-a.
URL:https://rs.cest.gov.ba/event/xxii-savjetovanje-oktobarski-pravnicki-dani/
LOCATION:Teslić
CATEGORIES:Savjetovanje
END:VEVENT
BEGIN:VEVENT
DTSTART;TZID=Europe/Sarajevo:20251010T103000
DTEND;TZID=Europe/Sarajevo:20251010T143000
DTSTAMP:20260421T133203
CREATED:20250905T112626Z
LAST-MODIFIED:20250905T112626Z
UID:4504-1760092200-1760106600@rs.cest.gov.ba
SUMMARY:Postupak pred drugostepenim sudom u parničnom postupku
DESCRIPTION:Centar za edukaciju sudija i javnih tužilaca u Republici Srpskoj\, u okviru Programa stručnog usavršavanja i početne obuke za 2025. godinu\, organizuje seminar iz građanskopravne oblasti\, na temu: „Postupak pred drugostepenim sudom u parničnom postupku“\, koji će se održati utorak 10. oktobra 2025. godine\, u prostorijama Centra za edukaciju sudija i javnih tužilaca u RS\, u Ul. Bulevar vojvode Stepe Stepanovića 60\, Banja Luka.\nEdukator na ovom seminaru će biti gđa Biljana Vidimlić\, sudija Vrhovnog suda Republike Srpske. \nDnevni red: \n10:15 – 10:25     Dolazak učesnika \n10:30 – 12:00    Postupak pred drugostepenim sudom\,\nPropusti kod prethodnog ispitivanja tužbe\nPropusti prvostepenog suda u obrazlaganju odluka \n12:00 – 12:30 Pauza \n12:30 – 13:30 Troškovi postupka \n13\,30 – 14\,30 Diskusija\, evaluacija seminara i registracija učesnika
URL:https://rs.cest.gov.ba/event/postupak-pred-drugostepenim-sudom-u-parnicnom-postupku-3/
LOCATION:Banja Luka
CATEGORIES:Građanskopravna oblast
END:VEVENT
BEGIN:VEVENT
DTSTART;TZID=Europe/Sarajevo:20251014T103000
DTEND;TZID=Europe/Sarajevo:20251014T143000
DTSTAMP:20260421T133203
CREATED:20250917T115347Z
LAST-MODIFIED:20250917T115347Z
UID:4518-1760437800-1760452200@rs.cest.gov.ba
SUMMARY:Aktuelna praksa Okružnog suda u Banjaluci na parničnom referatu
DESCRIPTION:Na osnovu Programa stručnog usavršavanja i početne obuke za 2025. godinu\, Centar za edukaciju sudija i javnih tužilaca u Republici Srpskoj\, organizuje seminar za sudije iz građanskopravne oblasti na temu: „Aktuelna praksa Okružnog suda u Banjaluci na parničnom referatu”\, koji će se održati 14. oktobra 2025. godine\, u prostorijama u prostorijama Centra za edukaciju sudija i javnih tužilaca u RS\, u Bulevar vojvode Stepe Stepanovića 60\, Banja Luka. \nEdukator na ovom seminaru će biti gđa Nevenka Mitrić\, sudija i predsjednik Građanskog odjeljenja Okružnog suda u Banjaluci. \nDnevni red: \n10:25 – 10:30    Otvaranje seminara i pozdravna riječ organizatora \n10:30– 12:00     Aktuelna praksa Okružnog suda u Banja Luci \n12:00 – 12:30    Pauza \n12:30 – 14:00    Aktuelna praksa Okružnog suda u Banjoj Luci \n14:00 – 14:30    Diskusija\, evaluacija i registracija učesnika
URL:https://rs.cest.gov.ba/event/aktuelna-praksa-okruznog-suda-u-banjaluci-na-parnicnom-referatu/
LOCATION:Banja Luka
CATEGORIES:Građanskopravna oblast
END:VEVENT
BEGIN:VEVENT
DTSTART;TZID=Europe/Sarajevo:20251016T093000
DTEND;TZID=Europe/Sarajevo:20251017T130000
DTSTAMP:20260421T133203
CREATED:20250917T120214Z
LAST-MODIFIED:20250917T120214Z
UID:4520-1760607000-1760706000@rs.cest.gov.ba
SUMMARY:Kleveta i strateške parnice protiv javnog učešća (SLAPP tužbe)
DESCRIPTION:Centar za edukaciju sudija i javnih tužilaca u Republici Srpskoj\, u okviru Programa stručnog usavršavanja i početne obuke za 2025. godinu\, u saradnji sa Centrom za edukaciju sudija i tužilaca Federacije Bosne i Hercegovine\,  a uz podršku zajedničkog programa Evropske unije i Savjeta Evrope Horizontal Facility za Zapadni Balkan i Tursku 2023-2026 (Projekt “Zaštita slobode izrašavanja i slobode medija u Bosni i Hercegovini- PROFREX”)\, organizuje seminar iz građanskopravne oblasti\, na temu: „Kleveta i strateške parnice protiv javnog učešća (SLAPP tužbe)“\, koji će se održati 16-17. oktobra 2025. godine\, u hotelu Ibis\, Sarajevo. \nEdukator na ovom seminaru biće Svjetlana Milišić Veličkovski\, sudija Vrhovnog suda Federacije Bosne i Hercegovine i Amer Džihana\, profesor na Filozofskom fakultetu Univerziteta u Zenici. \nDnevni red: \n16.10. četvrtak  \n09:00 -09:30       Registracija učesnika i učesnica \n09.30 – 10.00       Dobrodošlica\, uvodne napomene pre/post testiranje \n10.00 – 11.15        Uslovi za ograničavanje slobode izražavanja kroz primjenu trodijelnog testa u slučajevima klevete                               \n11.15 – 11.35         Pauza za kafu \n11.35 – 12.45        Kleveta u Bosni i Hercegovini \n12.45 – 14.00       Pauza za ručak \n14.00 – 15.15        Istraživanje lokalnog konteksta. \n15.15 -15.35           Pauza za kafu \n15.35 – 17.00        Praktična vježba – Case study \n17. 10. petak \n09:00 – 10.15       Uvod u SLAPP tužbe i predstavljanje ebropskih standarda uključujući \n10.15 -11.00         Kako integrirati anti-SLAPP mehanizme u pravni okvir Bosne i Hercegovine? \n11.00 -11.20         Pauza za kafu \n11.20 – 12.45       Studija slučaja o SLAPP tužbama \n12.45 -13.00         Zaključci\, evaluacija\, post testiranje \n13.00                     Ručak i kraj obuke
URL:https://rs.cest.gov.ba/event/kleveta-i-strateske-parnice-protiv-javnog-ucesca-slapp-tuzbe/
LOCATION:Sarajevo
CATEGORIES:Građanskopravna oblast
END:VEVENT
BEGIN:VEVENT
DTSTART;TZID=Europe/Sarajevo:20251017T103000
DTEND;TZID=Europe/Sarajevo:20251017T143000
DTSTAMP:20260421T133203
CREATED:20250917T120623Z
LAST-MODIFIED:20250917T120623Z
UID:4522-1760697000-1760711400@rs.cest.gov.ba
SUMMARY:Aktuelna praksa Okružnih sudova u I.Sarajevu i Trebinju na parničnom referatu
DESCRIPTION:Na osnovu Programa stručnog usavršavanja i početne obuke za 2025. godinu\, Centar za edukaciju sudija i javnih tužilaca u Republici Srpskoj\, organizuje seminar za sudije iz građanskopravne oblasti na temu: „Aktuelna praksa Okružnog suda u Istočnom Sarajevu i Okružnog suda u Trebinju na parničnom referatu ”\, koji će se održati 17. oktobra 2025. godine\, u prostorijama Okružnog suda u Trebinju\, u Vojvode Stepe Stepanovića 18\, Trebinje.\nEdukatori na ovom seminaru će biti gđa Sonja Alvijaš\, sudija i predsjednica Građanskog odjeljenja Okružnog suda u Istočnom Sarajevu i gđa Vesna Ivković\, sudija i predsjednica Građanskog odjeljenja Okružnog suda u Trebinju. \nDnevni red: \n10:25 – 10:30    Otvaranje seminara i pozdravna riječ organizatora \n10:30– 12:00     Aktuelna praksa Okružnog suda u Trebinju \n12:00 – 12:30    Pauza \n12:30 – 14:00    Aktuelna praksa Okružnog suda u Istočnom Sarajevu \n14:00 – 14:30    Diskusija\, evaluacija i registracija učesnika
URL:https://rs.cest.gov.ba/event/aktuelna-praksa-okruznih-sudova-u-i-sarajevu-i-trebinju-na-parnicnom-referatu/
LOCATION:Trebinje
CATEGORIES:Građanskopravna oblast
END:VEVENT
BEGIN:VEVENT
DTSTART;TZID=Europe/Sarajevo:20251022T100000
DTEND;TZID=Europe/Sarajevo:20251022T140000
DTSTAMP:20260421T133203
CREATED:20250926T100313Z
LAST-MODIFIED:20250926T101723Z
UID:4541-1761127200-1761141600@rs.cest.gov.ba
SUMMARY:Aktuelna praksa Okružnih sudova u Doboju i Bijeljini na krivičnom referatu
DESCRIPTION:Na osnovu Programa početne obuke i stručnog usavršavanja za 2025. godinu\, Centar za edukaciju sudija i javnih tužilaca u Republici Srpskoj organizuje okrugli sto iz krivičnopravne oblasti na temu: „Aktuelna pitanja iz prakse na području Okružnog suda u Doboju i Okružnog suda u Bijeljini“\, koji će se održati u srijedu\, 22. oktobra 2025. godine\, u prostorijama Okružnog suda u Bijeljini. \nIzlagači će biti sudija Marijana Lazić Miladinović\, Okružni sud u Doboju i sudija Siniša Lazarević\, Okružni sud u Bijeljini. \nDnevni red: \n10.00 – 10.30    Registracija učesnika \n10.30 – 12.00    Aktuelna pitanja iz prakse Okružnog suda u Doboju \n12.00 – 12.30    Pauza \n12.30 – 14.00    Aktuelna pitanja iz prakse Okružnog suda u Bijeljini \n 
URL:https://rs.cest.gov.ba/event/aktuelna-praksa-okruznog-suda-u-doboju-i-bijeljini/
LOCATION:Bijeljina
CATEGORIES:Krivičnopravna oblast
END:VEVENT
BEGIN:VEVENT
DTSTART;TZID=Europe/Sarajevo:20251024T100000
DTEND;TZID=Europe/Sarajevo:20251024T133000
DTSTAMP:20260421T133203
CREATED:20250926T100716Z
LAST-MODIFIED:20250926T100904Z
UID:4543-1761300000-1761312600@rs.cest.gov.ba
SUMMARY:Aktuelna praksa Okružnih sudova u Istočnom Sarajevu i Trebinju na krivičnom referatu
DESCRIPTION:Na osnovu Programa početne obuke i stručnog usavršavanja za 2025. godinu\, Centar za edukaciju sudija i javnih tužilaca u Republici Srpskoj organizuje okrugli sto iz krivičnopravne oblasti na temu: „Aktuelna pitanja iz prakse na području Okružnog suda u Istočnom Sarajevu i Okružnog suda u Trebinju“\, koji će se održati u petak\, 24. oktobra 2025. godine\, u prostorijama Okružnog suda u Istočnom Sarajevu. \nIzlagači će biti sudija Veselinka Ivanović\, Okružni sud u Istočnom Sarajevu i sudija Duško Popić\, Okružni sud u Trebinju. \nDnevni red: \n09.30 – 10.00   Registracija učesnika \n10.00 – 11.30    Aktuelna pitanja iz prakse Okružnog suda u Istočnom Sarajevu \n11.30 – 12.00    Pauza \n12.00 – 13.30    Aktuelna pitanja iz prakse Okružnog suda u Trebinju
URL:https://rs.cest.gov.ba/event/aktuelna-praksa-okruznih-sudova-u-istocnom-sarajevu-i-trebinju-2/
LOCATION:Trebinje
CATEGORIES:Krivičnopravna oblast
END:VEVENT
BEGIN:VEVENT
DTSTART;TZID=Europe/Sarajevo:20251027T093000
DTEND;TZID=Europe/Sarajevo:20251027T150000
DTSTAMP:20260421T133203
CREATED:20251003T081602Z
LAST-MODIFIED:20251022T131533Z
UID:4558-1761557400-1761577200@rs.cest.gov.ba
SUMMARY:Radnje dokazivanja i zakonitost dokaza
DESCRIPTION:Na osnovu Programa stručnog usavršavanja i početne obuke za 2025. godinu\, Centar za edukaciju sudija i javnih tužilaca u Republici Srpskoj  i Centar za edukaciju sudija i tužilaca Federacije Bosne i Hercegovine\, organizuju seminar\, na temu: „Radnje dokazivanja i zakonitost dokaza“\, koji će se održati 27. oktobra 2025. godine u Banjaluci\, sala CEST-a RS\, Bulevar vojvode Stepe Stepanovića 60. \nEdukator će biti Igor Cimeša\, sudija Okružnog suda u Banjoj Luci.\nU skladu sa Odlukom Visokog sudskog i tužilačkog savjeta Bosne i Hercegovine o minimalnom obimu početne obuke i stručnog usavršavanja sudija i tužilaca u Bosni i Hercegovini od 24. oktobra 2018. godine\, ovaj seminar je obavezujući za novoimenovane javne tužioce koji su imenovani i stupili na dužnost u 2025. godini. Takođe\, javni tužioci koji su prvi put imenovani i stupili na dužnost u 2024. godini\, nakon realizovanja ove obuke u 2024. godini\, imaju obavezu da\, zajedno sa novoimenovanim javnim tužiocima koji su stupili na dužnost u 2025. godini\, pohađaju ovaj seminar. \nDnevni red: \n9:30 – 10:00      Dolazak i registracija učesnika \n10:00 – 10:15     Uvodno obraćanje predstavnika organizatora i predstavljanje učesnika \n10:15 – 11:30      Radnje dokazivanja i zakonitost dokaza: opšta pitanja\, pretresanje stana prostorija i lica\, otvaranje i pregled privremeno oduzetih predmeta\, dobrovoljna predaja predmeta \n11:30 – 12:00      Pauza \n12:00 – 13:30      Radnje dokazivanja i zakonitost dokaza: ispitivanje osumnjičenog\, saslušanje svjedoka\, prepoznavanje \n13:30 – 13:45      Pauza \n13:45 – 15:10      Radnje dokazivanja i zakonitost dokaza: uviđaj\, vještačenje\, tjelesni pregled i druge radnje\, posebne istražne radnje \n15:00 –                Diskusija\, evaluacija i završne riječi
URL:https://rs.cest.gov.ba/event/radnje-dokazivanja-i-zakonitost-dokaza-2/
LOCATION:Banja Luka
CATEGORIES:Obuka za novoimenovane NPF
END:VEVENT
BEGIN:VEVENT
DTSTART;TZID=Europe/Sarajevo:20251027T100000
DTEND;TZID=Europe/Sarajevo:20251027T150000
DTSTAMP:20260421T133203
CREATED:20251105T125919Z
LAST-MODIFIED:20251105T125919Z
UID:4604-1761559200-1761577200@rs.cest.gov.ba
SUMMARY:Korištenje Sky i Anom aplikacija kao dokaza u krivičnom postupku
DESCRIPTION:Na osnovu Programa stručnog usavršavanja i početne obuke za 2025. godinu\, Centar za edukaciju sudija i javnih tužilaca u Republici Srpskoj\, u saradnji sa Centrom za edukaciju sudija i tužilaca u FBiH i Pravosudnom komisijom Brčko distrikta BiH\, organizuje seminar iz krivičnopravne oblasti na temu: „Korištenje Sky i Anom aplikacija kao dokaza u krivičnom postupku“\, koji će se održati 27. oktobra 2025. godine u sali za edukaciju Pravosudne komisije Brčko distrikta BiH. \nEdukator će biti zamjenik glavnog tužioca Džermin Pašić\, Tužilaštvo BiH.
URL:https://rs.cest.gov.ba/event/koristenje-sky-i-anom-aplikacija-kao-dokaza-u-krivicnom-postupku/
LOCATION:Brčko
CATEGORIES:Krivičnopravna oblast
END:VEVENT
BEGIN:VEVENT
DTSTART;TZID=Europe/Sarajevo:20251027T103000
DTEND;TZID=Europe/Sarajevo:20251027T140000
DTSTAMP:20260421T133203
CREATED:20250926T102147Z
LAST-MODIFIED:20250926T102147Z
UID:4550-1761561000-1761573600@rs.cest.gov.ba
SUMMARY:Aktuelna praksa na području Okružnih sudova u Banjoj Luci i Prijedoru na krivičnom referatu
DESCRIPTION:Na osnovu Programa početne obuke i stručnog usavršavanja za 2025. godinu\, Centar za edukaciju sudija i javnih tužilaca u Republici Srpskoj organizuje okrugli sto iz krivičnopravne oblasti na temu: „Aktuelna pitanja iz prakse na području Okružnog suda u Banjoj Luci i Prijedoru“\, koji će se održati u ponedjeljak\, 27. oktobra 2025. godine\, u prostorijama Centra za edukaciju sudija i javnih tužilaca u Republici Srpskoj\, Banja Luka. \nIzlagači će biti sudija mr Srđan Forca\, Okružni sud u Banjoj Luci\, sudija Mirjana Miodragović Basrak\, Okružni sud u Prijedoru i sudija Nedeljka Eror\, Okružni sud u Prijedoru. \nDnevni red: \n10.00 – 10.30     Registracija učesnika \n10.30 – 12.00     Aktuelna pitanja iz prakse Okružnog suda u Banjoj Luci \n12.00 – 12.30     Pauza \n12.30 – 14.00     Aktuelna pitanja iz prakse Okružnog suda u Prijedoru
URL:https://rs.cest.gov.ba/event/aktuelna-praksa-na-podrucju-okruznih-sudova-u-banjoj-luci-i-prijedoru-na-krivicnom-referatu/
LOCATION:Banja Luka
CATEGORIES:Krivičnopravna oblast
END:VEVENT
BEGIN:VEVENT
DTSTART;TZID=Europe/Sarajevo:20251028T170000
DTEND;TZID=Europe/Sarajevo:20251031T110000
DTSTAMP:20260421T133203
CREATED:20250805T104300Z
LAST-MODIFIED:20250805T104906Z
UID:4392-1761670800-1761908400@rs.cest.gov.ba
SUMMARY:XIX Savjetovanje iz oblasti građanskog prava
DESCRIPTION:Sa zadovoljstvom vas obavještavamo da Udruženje sudija Republike Srpske u saradnji sa Udruženjem sudija u BiH\, Udruženjem sudija/sudaca u FBiH\, Centrima za edukaciju sudija i javnih tužilaca u RS i FBiH i Pravosudnom komisijom Brčko distrikta BiH\, Advokatskim komorama RS i FBiH\, i ove godine organizuju: XIX SAVJETOVANjE IZ OBLASTI GRAĐANSKOG PRAVA u periodu od 28-31. oktobra 2025. godine u hotelu „Termag” na Jahorini. \nOvim putem Vas pozivamo da dostavite imena zainteresovanih učesnika koji bi željeli da prisustvuju XIX Savjetovanju iz građanskopravne oblasti\, najkasnije do 10. oktobra 2025. godine\, na e-mail adresu Udruženja sudija Republike Srpske us.rs@pravosudje.ba.\nTakođe\, pozivamo sve zainteresovane gorenavedene institucije da\, najkasnije do 10. oktobra 2025. godine\, delegiraju teme iz navedene oblasti\, koje su aktuelne i od značaja za praksu\, kako bi se iste mogle odbraditi u okviru ovog Savjetovanja. Prijedloge Vaših tema molimo da dostavite na e-mail adresu Udruženja sudija Republike Srpske us.rs@pravosudje.ba. Napominjemo da će se na Savjetovanju obraditi i teme koje su iz upravnopravne oblasti.\nSvim sudijama učešće na Savjetovanju će se priznati u dane obavezne edukacije za 2025. godinu\, i to onoliko dana koliko bude realno trajalo Savjetovanje. \nPozivno pismo za XIX Savjetovanje iz oblasti građanskog prava
URL:https://rs.cest.gov.ba/event/xix-savjetovanje-iz-oblasti-gradjanskog-prava/
LOCATION:Jahorina
CATEGORIES:Građanskopravna oblast
END:VEVENT
END:VCALENDAR