BEGIN:VCALENDAR
VERSION:2.0
PRODID:-//Javna ustanova Centar za edukaciju sudija i tužilaca u Republici Srpskoj - ECPv6.15.20//NONSGML v1.0//EN
CALSCALE:GREGORIAN
METHOD:PUBLISH
X-WR-CALNAME:Javna ustanova Centar za edukaciju sudija i tužilaca u Republici Srpskoj
X-ORIGINAL-URL:https://rs.cest.gov.ba
X-WR-CALDESC:Events for Javna ustanova Centar za edukaciju sudija i tužilaca u Republici Srpskoj
REFRESH-INTERVAL;VALUE=DURATION:PT1H
X-Robots-Tag:noindex
X-PUBLISHED-TTL:PT1H
BEGIN:VTIMEZONE
TZID:Europe/Sarajevo
BEGIN:DAYLIGHT
TZOFFSETFROM:+0100
TZOFFSETTO:+0200
TZNAME:CEST
DTSTART:20240331T010000
END:DAYLIGHT
BEGIN:STANDARD
TZOFFSETFROM:+0200
TZOFFSETTO:+0100
TZNAME:CET
DTSTART:20241027T010000
END:STANDARD
BEGIN:DAYLIGHT
TZOFFSETFROM:+0100
TZOFFSETTO:+0200
TZNAME:CEST
DTSTART:20250330T010000
END:DAYLIGHT
BEGIN:STANDARD
TZOFFSETFROM:+0200
TZOFFSETTO:+0100
TZNAME:CET
DTSTART:20251026T010000
END:STANDARD
BEGIN:DAYLIGHT
TZOFFSETFROM:+0100
TZOFFSETTO:+0200
TZNAME:CEST
DTSTART:20260329T010000
END:DAYLIGHT
BEGIN:STANDARD
TZOFFSETFROM:+0200
TZOFFSETTO:+0100
TZNAME:CET
DTSTART:20261025T010000
END:STANDARD
END:VTIMEZONE
BEGIN:VEVENT
DTSTART;TZID=Europe/Sarajevo:20250602T090000
DTEND;TZID=Europe/Sarajevo:20250605T120000
DTSTAMP:20260421T193448
CREATED:20250313T130839Z
LAST-MODIFIED:20250526T080903Z
UID:4041-1748854800-1749124800@rs.cest.gov.ba
SUMMARY:XXIII Savjetovanje iz krivičnopravne oblasti
DESCRIPTION:Poštovani\,\nZadovoljstvo nam je obavijestiti Vas da Udruženje sudija/sudaca u Federaciji Bosne i Hercegovine\, zajedno sa Centrima za edukaciju sudija i tužilaca u Federaciji Bosne i Hercegovine\, Centrima za edukaciju sudija i javnih tužilaca Republike Srpske\, Udruženjem sudija u Bosni i Hercegovini\, Udruženjem sudija Republike Srpske\, Udruženjem sudija Suda Bosne i Hercegovine\, Udruženjem žena sudija u Bosni i Hercegovini\, Udruženjem sudija Brčko Distrikta Bosne i Hercegovine\, Udruženjem tužilaca Bosne i Hercegovine\, Udruženjem tužitelja/tužilaca Federacije Bosne i Hercegovine\, Udruženjem tužilaca Republike Srpske\, Advokatskim komorama Federacije Bosne i Hercegovine\, Advokatskim komorama Republike Srpske\, Pravosudnom komisijom Brčko Distrikta Bosne i Hercegovine i Ministarstvom pravde Bosne i Hercegovine organiziraju:\nXXIII SAVJETOVANJE IZ KRIVIČNOPRAVNE OBLASTI\nNeum\, hotel „Zenit“\, od 02 do 05.juna/lipnja.2025. godine \nDnevni red
URL:https://rs.cest.gov.ba/event/xxiii-savjetovanje-iz-krivicnopravne-oblasti/
LOCATION:Neum
CATEGORIES:Savjetovanje
END:VEVENT
BEGIN:VEVENT
DTSTART;TZID=Europe/Sarajevo:20250603T103000
DTEND;TZID=Europe/Sarajevo:20250604T153000
DTSTAMP:20260421T193448
CREATED:20250526T080429Z
LAST-MODIFIED:20250526T081557Z
UID:4194-1748946600-1749051000@rs.cest.gov.ba
SUMMARY:Simulacijska vježba na temu krivičnih istraga iz oblasti borbe protiv terorizma i organizovanog kriminala
DESCRIPTION:Projekat EUPA4BIH „Podrška Evropske unije policijskim agencijama u Bosni i Hercegovini” u saradnji sa Centrom za edukaciju sudija i javnih tužilaca u Republici Srpskoj i Centrom za edukaciju sudija i tužilaca u FBiH\, organizuje: „Simulacijsku vježbu na temu krivičnih istraga iz oblasti borbe protiv terorizma i organizovanog kriminala“\, koja će se održati 3. i 4. juna 2025. godine u Sarajevu. \nOva vježba predstavlja izvrsnu priliku da se identifikuju operativni izazovi pri provođenju složenih istraga i namijenjena je pružanju podrške\, kako policijskim agencijama\, tako i tužilaštvima i sudovima u BiH. To će biti posebno relevantno za operativne službenike višeg nivoa koji istražuju slučajeve borbe protiv terorizma i nasilnog ekstremizma i teškog i organizovanog kriminala. Vježbi će prisustvovati i viši policijski službenici iz cijele BiH koji rade na krivičnim istragama i rukovođenju kriminalističko-obavještajnim saznanjima. \nNamjera je da se kreira scenario događaja koji bi se mogao dogoditi u BiH\, a bio bi prikazan kao „realističan događaj“ u cilju podsticanja učesnika i predstavnika iz policijskih agencija\, tužilaštava i sudova iz BiH na interaktivno učešće u produktivnoj diskusiji. \nOva vježba će omogućiti da se prođe kroz cijeli proces istrage složenih slučajeva borbe protiv terorizma i nasilnog ekstremizma i teškog i organizovanog kriminala\, od početka intervencije\, koordinacije\, prikupljanja krim.obavještajnih podataka\, provođenja istraga\, pa sve do pokretanja krivičnog postupka\, kao i da se osigura interaktivno učešće u diskusijama pri donošenju ključnih odluka i davanju preporuka u vezi sa dodatnim metodama djelovanja i donošenja operativnih odluka. \nDnevni red: \nUtorak\, 3.juni \n10:30 – 10:45  Registracija i posluženje kafom \n10:45 – 11:00  (TTX) Simulacijska vježba – Dobrodošlica\, brifing i provedba: \nPredstavljanje metodologije\, grupa i govornik \n11:00 -12:00    Početak vježbe po scenariju i rad u grupama \n12:00 – 12:15  Pauza za kafu \n12:15 – 13:00  Rad na scenariju \n13:00 – 13:45  Ručak \n13:45 – 14:45  Rad na scenariju \n14:45 – 15:00  Pauza za kafu \n15:00 – 16:30  Rad na scenariju \n16:30   Završetak prvog dana radionice \nSrijeda\, 4. juni \n09:00 – 09:30  Kafa dobrodošlice \n09:30 – 10:45  Rad na scenariju \n10:45 -11:15    Pauza za kafu \n11:15 – 13:00  Rad na scenariju \n13:00 – 14:00  Ručak \n14:00 – 15:30  Rad na scenariju i zaključak
URL:https://rs.cest.gov.ba/event/simulacijska-vjezba-na-temu-krivicnih-istraga-iz-oblasti-borbe-protiv-terorizma-i-organizovanog-kriminala/
LOCATION:Sarajevo
CATEGORIES:Krivičnopravna oblast
END:VEVENT
BEGIN:VEVENT
DTSTART;TZID=Europe/Sarajevo:20250610T100000
DTEND;TZID=Europe/Sarajevo:20250610T150000
DTSTAMP:20260421T193448
CREATED:20250416T081528Z
LAST-MODIFIED:20250507T100311Z
UID:4134-1749549600-1749567600@rs.cest.gov.ba
SUMMARY:Modul 2 – Građanska oblast
DESCRIPTION:Obavještavamo Vas da Centar za edukaciju sudija i javnih tužilaca u Republici Srpskoj\, na osnovu Programa stručnog usavršavanja i početne obuke za 2025. godinu\, a u okviru druge godine početne obuke stručnih saradnika\, organizuje obaveznu obuku za stručne saradnike zaposlene u sudovima i tužilaštvima\, i to: Modul 2 – Građanska oblast\, koji će se održati 10. juna 2025. godine u Banjaluci\, prostorije CEST-a RS\, Bulevar vojvode Stepe Stepanovića 60. \nIzlagač će biti Biljana Majkić Marinković\, sudija Vrhovnog suda Republike Srpske. \nDnevni red: \n09:30 – 09:55       Registracija učesnika\n09:55 – 10:00       Pozdravna riječ predstavnika CEST-a RS i otvaranje seminara \n10:00 – 12:00       1. Zakazivanje i održavanje pripremnog ročišta\n2. Zakazivanje i održavanje glavne rasprave \n12:00 – 12:30         Pauza \n12:30–14:30          1. Izvođenje dokaza\n2. Mjere obezbjeđenja \n14:30 – 15:00       Diskusija\, evaluacija seminara \n15:00 –                    Zatvaranje seminara
URL:https://rs.cest.gov.ba/event/modul-2-gradjanska-oblast/
LOCATION:Banja Luka
CATEGORIES:Obuka za stručne saradnike
END:VEVENT
BEGIN:VEVENT
DTSTART;TZID=Europe/Sarajevo:20250610T100000
DTEND;TZID=Europe/Sarajevo:20250611T150000
DTSTAMP:20260421T193448
CREATED:20250526T082302Z
LAST-MODIFIED:20250526T082302Z
UID:4203-1749549600-1749654000@rs.cest.gov.ba
SUMMARY:Faktori koji utiču na odlučivanje o vršenju roditeljskog prava u slučajevima nasilja u porodici
DESCRIPTION:Centar za edukaciju sudija i javnih tužilaca u Republici Srpskoj\, u okviru Programa stručnog usavršavanja i početne obuke za 2025. godinu\, u saradnji sa Centrom za jednakost i ravnopravnost polova Vlade Republike Srpske\, organizuje seminar iz građanskopravne oblasti\, na temu: „ Faktori koji utiču na odlučivanje o vršenju roditeljskog prava u slučajevima nasilja u porodici“\, koji će se održati 10-11. juna 2025. godine\, u hotelu Terme Ozren\, u Petrovu.
URL:https://rs.cest.gov.ba/event/faktori-koji-uticu-na-odlucivanje-o-vrsenju-roditeljskog-prava-u-slucajevima-nasilja-u-porodici/
LOCATION:Ozren
CATEGORIES:Krivičnopravna oblast
END:VEVENT
BEGIN:VEVENT
DTSTART;TZID=Europe/Sarajevo:20250616T093000
DTEND;TZID=Europe/Sarajevo:20250617T153000
DTSTAMP:20260421T193448
CREATED:20250526T090203Z
LAST-MODIFIED:20250526T090203Z
UID:4206-1750066200-1750174200@rs.cest.gov.ba
SUMMARY:Uloga predsjednika sudova i glavnih tužilaca u očuvanju integriteta pravosudnih institucija
DESCRIPTION:Na prijedlog Visokog sudskog i tužilačkog savjeta Bosne i Hercegovine (VSTS BiH)\, Centar za edukaciju sudija i javnih tužilaca u Republici Srpskoj (CEST RS) i Centar za edukaciju sudija i tužilaca Federacije Bosne i Hercegovine (CEST FBiH)\, u skladu s Programom stručnog usavršavanja i početne obuke za 2025. godinu\, organizuju seminar namijenjen predsjednicima sudova/glavnim tužiocima\, zamjenicima predsjednika sudova/glavnih tužilaca\, sekretarima sudova/tužilaštava\, na temu: „Uloga predsjednika sudova i glavnih tužilaca u očuvanju integriteta pravosudnih institucija“\, koji će se održati 16 – 17. juna 2025. godine u Sarajevu\, sala CEST-a FBiH\, Halida Nazečića 4. \nEdukatori će biti rukovodioci pravosudnih institucija\, predstavnici Ministarstva sigurnosti BiH\, predstavnici Odjela za integritet VSTS- a BiH\, te povjerljivi savjetnici u pravosudnim institucijama.
URL:https://rs.cest.gov.ba/event/uloga-predsjednika-sudova-i-glavnih-tuzilaca-u-ocuvanju-integriteta-pravosudnih-institucija-2/
LOCATION:Sarajevo
CATEGORIES:Posebne teme
END:VEVENT
BEGIN:VEVENT
DTSTART;TZID=Europe/Sarajevo:20250617T090000
DTEND;TZID=Europe/Sarajevo:20250619T130000
DTSTAMP:20260421T193448
CREATED:20250528T103259Z
LAST-MODIFIED:20250528T103259Z
UID:4229-1750150800-1750338000@rs.cest.gov.ba
SUMMARY:Pisanje i obrazlaganje presude u krivičnom i parničnom postupku
DESCRIPTION:Na osnovu Programa stručnog usavršavanja i početne obuke za 2025. godinu\, Centar za edukaciju sudija i javnih tužilaca u Republici Srpskoj (CEST RS) i Centar za edukaciju sudija i tužilaca Federacije Bosne i Hercegovine (CEST FBiH)\, u saradnji sa Savjetom Evrope\, koji ipmlementira projekat „Podrška dosljednoj nacionalnoj provedbi Evropske konvencije o ljudskim pravima i olakšavanje izvršenja presuda Evropskog suda za ljudska prava u BiH“\, organizuju seminar\, na temu: „Pisanje i obrazlaganje presude u krivičnom i parničnom postupku“\, koji će se održati 17 – 19. juni 2025. godine u Sarajevu\, hotel „Ibis Styles“\, Džemala Bijedića 169A. \nEdukatori će biti Ljiljana Filipović i Emir Neradin\, sudije Vrhovnog suda FBiH (presuda krivičnog postupka)\, Fatima Mrdović\, sudija Vrhovnog suda FBiH i Senad Tica\, sudija Vrhovnog suda RS (presuda parničnog postupka). \nDnevni red: \nUtorak\, 17. juni 2025. Krivični postupak \n09:00 – 09:20     Registracija učesnika \n09:20 – 09:40     Otvaranje seminara; obraćanje predstavnika Centra i ulazni test \n09:40 – 10:30      Praktični rad – pisanje obrazloženja presude \n10:30 – 11:00       Pauza za kafu \n11:00 – 12:00       Zahtjevi na koje presuda mora odgovoriti\, primjeri \n12:00 – 13:00      Osnovna pravila o formi presude u parničnom postupku\, standardi obrazložene presude\, primjeri \n13:00 – 14:00      Ručak \n14:00 – 14:45     Obavezna sadržina obrazloženja presude presude (faktori koji utiču na mišljenje sudije\, struktuiranje zaključka na kojima se zasniva odluka sudije) \n14:45 – 15:00     Pauza za kafu \n15:00– 16:00      Pisanje obrazloženja presude: faze u pripremi izrade presude; razlozi presude – ocjena dokaza i pravna argumentacija; jezik i stil \nSrijeda\, 18. juni 2025. Krivični i parnični postupak \n09:00 – 11:00    Praktični rad – Analiza pismeno izrađenih presuda\, uočeni nedostaci \n11:00 – 11:15       Pauza za kafu \n11.15 – 12:30      Praktični rad – Analiza pismeno izrađenih presuda – primjeri iz prakse \n12:30 – 12:45     Izlazni test i ispravke \n12:45 – 13:45     Ručak \n13:45 – 14:45     Ulazni test i upoznavanje s presudama koje će se analizirati- Parnični postupak \n14:45 – 15:30     Praktični rad – obrazloženje presude \n15:30 – 16:15     Obavezan sadržaj izreke presude sa primjerima iz prakse \n16:15 – 16:45     Pauza za kafu \nČetvrtak\, 19. juni 2025. Parnični postupak \n9:00 – 10:00        Osnovna pravila o formi presude i zahtjevi na koje presuda treba odgovoriti \n10:00 – 11:00     Praktičan rad – analiza obrazložene presude\, uočene greške \n11:00 -11:30         Pauza za kafu \n11:30 – 12:30      Praktični rad – obrazloženje presude – primjeri iz prakse\, uključujući sentence \n12:30 – 13:00      Izlazni anonimni test\, evaluacija i zatvaranje seminara \n13:00     Ručak
URL:https://rs.cest.gov.ba/event/pisanje-i-obrazlaganje-presude-u-krivicnom-i-parnicnom-postupku-2/
LOCATION:Sarajevo
CATEGORIES:Obuka za novoimenovane NPF
END:VEVENT
BEGIN:VEVENT
DTSTART;TZID=Europe/Sarajevo:20250619T080000
DTEND;TZID=Europe/Sarajevo:20250620T170000
DTSTAMP:20260421T193448
CREATED:20250515T123326Z
LAST-MODIFIED:20250515T123326Z
UID:4190-1750320000-1750438800@rs.cest.gov.ba
SUMMARY:Psihologija maloljetnika i uloga organa starateljstva u postupcima prema maloljetnicima
DESCRIPTION:Centar za edukaciju sudija i javnih tužilaca u Republici Srpskoj\, na osnovu Programa edukacije za sticanje posebnih znanja i kontinuirano stručno osposobljavanje i usavršavanje sudija i tužilaca iz oblasti dječijih prava\, prestupništva mladih i njihove krivičnopravne zaštite\, organizuje treći ovogodišnji seminar za sudije i javne tužioce\, koji će postupati prema Zakonu o zaštiti i postupanju sa djecom i maloljetnicima u krivičnom postupku („Službeni glasnik Republike Srpske“\, br. 13/10\, 61/13 i 68/20)\, na temu: „Psihologija maloljetnika i uloga organa starateljstva u postupcima prema maloljetnicima“\, koji će se održati 19. i 20. juna 2025. godine u prostorijama Centra za edukaciju sudija i javnih tužilaca u Republici Srpskoj\, Bulevar vojvode Stepe Stepanovića 60\, Banja Luka. Drugog dana seminara će biti organizovana posjeta Kazneno-popravnom zavodu Banja Luka\, Odjeljenje vaspitno-popravnog doma. \nEdukatori su: Olga-Lola Ninković\, Okružni sud u Banjoj Luci i Nenad Mirkonj\, Ministarstvo pravde Republike Srpske \nDnevni red: \nI dan\, 19. juni 2025. \n10\,30 – 10\,35       Otvaranje obuke i uvodna riječ organizatora \n10\,35 – 12\,00     \,\,Kompetencije djece za učešće u postupku” \n12\,00 – 12\,15       Pauza \n12\,15 – 13\,15       „Psihološka priprema i procjena“ \n13\,15 – 13\,30       Pauza \n13\,30 – 15\,00     „Izazovi u ispitivanju“ \n15\,00 – 15\,30       Diskusija\, rezime i kraj prvog dana seminara \nII dan\, 20. juni 2025. \n09\,30 – 09\,35      Otvaranje obuke i uvodna riječ organizatora \n09\,35 – 11\,30      \,\,Uloga organa starateljstva u postupcima prema maloljetnicima” \n11\,30 – 13\,30        Organizovana posjeta u Kazneno-popravni zavod Tunjice (Odjeljenje Vaspitno-popravnog doma) \n14\,00 –                   Kraj seminara
URL:https://rs.cest.gov.ba/event/psihologija-maloljetnika-i-uloga-organa-starateljstva-u-postupcima-prema-maloljetnicima/
LOCATION:Banja Luka
CATEGORIES:Krivičnopravna oblast
END:VEVENT
BEGIN:VEVENT
DTSTART;TZID=Europe/Sarajevo:20250620T100000
DTEND;TZID=Europe/Sarajevo:20250620T150000
DTSTAMP:20260421T193448
CREATED:20250805T102519Z
LAST-MODIFIED:20250805T102717Z
UID:4384-1750413600-1750431600@rs.cest.gov.ba
SUMMARY:Provođenje istrage i zajednički istražni timovi
DESCRIPTION:Na osnovu Programa stručnog usavršavanja i početne obuke za 2025. godinu\, Centar za edukaciju sudija i javnih tužilaca u Republici Srpskoj (CEST RS) i Centar za edukaciju sudija i tužilaca Federacije Bosne i Hercegovine (CEST FBiH)\, organizuju seminar\, na temu: „Provođenje istrage i zajednički istražni timovi“\, koji će se održati 20. juna 2025. godine u Sarajevu\, sala CEST-a FBiH\, Halida Nazečića 4. \nEdukatori će biti Halida Vrabac\, glavni tužilac\, Okružno javno tužilaštvo u Istočnom Sarajevu i Šejla Herceglija\, kantonalni tužilac Kantonalnog tužilaštva u Sarajevu.\nU skladu sa Odlukom Visokog sudskog i tužilačkog savjeta Bosne i Hercegovine o minimalnom obimu početne obuke i stručnog usavršavanja sudija i tužilaca u Bosni i Hercegovini od 24. oktobra 2018. godine\, ovaj seminar je obavezujući za novoimenovane javne tužioce koji su imenovani i stupili na dužnost u 2025. godini. Takođe\, javni tužioci koji su prvi put imenovani i stupili na dužnost u 2024. godini\, nakon realizovanja ove obuke u 2024. godini\, imaju obavezu da\, zajedno sa novoimenovanim javnim tužiocima koji su stupili na dužnost u 2025. godini\, pohađaju ovaj seminar. \nDnevni red: \n10:00 – 10:20                       Registracija učesnika \n10:20 – 10:30                       Uvodno obraćanje predstavnika CEST FBiH \n10:30 – 11:30                       Istraga  \n\nUslovi za otvaranje istrage\nOvlaštenja tužioca i ovlaštenih službenih lica\nNadzor tužioca nad radom ovlaštenih službenih lica\n\n11:30 – 12:00                       Pauza \n12:00 – 13:00                      Posebne istražne radnje \n\nUslovi za primjenu posebnih istražnih radnji\nKrivična djela za koja se mogu odrediti posebne istražne radnje\nVrste posebnih istražnih radnji\n\n13:00 – 13:15                        Pauza \n13:15 – 14:15                       Zajednički istražni timovi i rukovođenje istim \nPrimjeri iz prakse \n14:15 –  14:45                       Diskusija\, evaluacija seminara \n14:45- 15:00                         Završetak seminara
URL:https://rs.cest.gov.ba/event/provodjenje-istrage-i-zajednicki-istrazni-timovi/
LOCATION:Sarajevo
CATEGORIES:Obuka za novoimenovane NPF
END:VEVENT
BEGIN:VEVENT
DTSTART;TZID=Europe/Sarajevo:20250626T100000
DTEND;TZID=Europe/Sarajevo:20250627T150000
DTSTAMP:20260421T193448
CREATED:20250526T092724Z
LAST-MODIFIED:20250526T092724Z
UID:4210-1750932000-1751036400@rs.cest.gov.ba
SUMMARY:Implementacija Istanbulske konvencije u praksi
DESCRIPTION:Na osnovu Programa stručnog usavršavanja i početne obuke za 2025. godinu\, Centar za edukaciju sudija i javnih tužilaca u Republici Srpskoj\, u saradnji sa Fondacijom Udružene žene Banja Luka\, uz podršku Savjeta Evrope\, organizuje seminar iz krivičnopravne oblasti na temu: „Implementacija Istanbulske konvencije u praksi: Izazovi i obaveze sa fokusom na seksualno nasilje i razumijevanje koncepta dobrovoljnog pristanka“\, koji će se održati 26. i 27. juna 2025. godine u Trebinju.
URL:https://rs.cest.gov.ba/event/implementacija-istanbulske-konvencije-u-praksi/
LOCATION:Trebinje
CATEGORIES:Krivičnopravna oblast
END:VEVENT
BEGIN:VEVENT
DTSTART;TZID=Europe/Sarajevo:20250630T100000
DTEND;TZID=Europe/Sarajevo:20250630T143000
DTSTAMP:20260421T193448
CREATED:20250617T115956Z
LAST-MODIFIED:20250617T115956Z
UID:4312-1751277600-1751293800@rs.cest.gov.ba
SUMMARY:Tehnike izrade tužilačkih akata
DESCRIPTION:Na osnovu Programa stručnog usavršavanja i početne obuke za 2025. godinu\, Centar za edukaciju sudija i javnih tužilaca u Republici Srpskoj (CEST RS) i Centar za edukaciju sudija i tužilaca Federacije Bosne i Hercegovine (CEST FBiH)\, organizuju seminar\, na temu: „Tehnike izrade tužilačkih akata“\, koji će se održati 30. juna 2025. godine u Banjaluci\, sala CEST-a RS\, Bulevar vojvode Stepe Stepanovića 60. \nEdukatori će biti Svetlanka Bijelić\, republički javni tužilac\, Republičko javno tužilaštvo Republike Srpske i Suada Salkić\, federalni tužilac\, Federalno tužilaštvo FBiH. \nU skladu sa Odlukom Visokog sudskog i tužilačkog savjeta Bosne i Hercegovine o minimalnom obimu početne obuke i stručnog usavršavanja sudija i tužilaca u Bosni i Hercegovini od 24. oktobra 2018. godine\, ovaj seminar je obavezujući za novoimenovane javne tužioce koji su imenovani i stupili na dužnost u 2025. godini. Takođe\, javni tužioci koji su prvi put imenovani i stupili na dužnost u 2024. godini\, nakon realizovanja ove obuke u 2024. godini\, imaju obavezu da\, zajedno sa novoimenovanim javnim tužiocima koji su stupili na dužnost u 2025. godini\, pohađaju ovaj seminar. \nDnevni red: \n10:00– 10:30    Dolazak učesnika i uvodno obraćanje predstavnika organizatora \n10:00 – 11:45    Uvodne napomene o tužilačkim aktima\, postupanje tužioca u fazi istrage i osnovni tužilački akti u toj fazi – naredba o sprovođenju istrage\, naredba o nesprovođenju istrage\, naredba o obustavi istrage i zamolnica za pružanje međunarodne pravne pomoći \n11:45– 12:15      Pauza \n12:15 – 13:45     Najvažniji tužilački akti nakon okončanja istrage – optužnica\, sporazum o priznanju krivice\, žalba (javnog) tužioca\n13:45 – 14:00    Diskusija\n14:00 – 14:15      Zaključci\, evaluacija seminara
URL:https://rs.cest.gov.ba/event/tehnike-izrade-tuzilackih-akata/
LOCATION:Banja Luka
CATEGORIES:Obuka za novoimenovane NPF
END:VEVENT
BEGIN:VEVENT
DTSTART;TZID=Europe/Sarajevo:20250630T100000
DTEND;TZID=Europe/Sarajevo:20250630T150000
DTSTAMP:20260421T193448
CREATED:20250526T093022Z
LAST-MODIFIED:20250526T093531Z
UID:4213-1751277600-1751295600@rs.cest.gov.ba
SUMMARY:Efikasan pristup pravdi i pravnim lijekovima za žrtve trgovine ljudima
DESCRIPTION:Na osnovu Programa stručnog usavršavanja i početne obuke za 2025. godinu\, Centar za edukaciju sudija i javnih tužilaca u Republici Srpskoj\, u okviru zajedničke aktivnosti sa Centrom za edukaciju sudija i tužilaca u Federaciji BiH\, a u saradnji sa programom Savjeta Evrope u okviru Projekta za borbu protiv trgovine ljudima u Bosni i Hercegovini i Ministarstvom bezbjednosti BiH\, organizuje seminar na temu: „Efikasan pristup pravdi i pravnim lijekovima za žrtve trgovine ljudima“\, koji će se održati 30. juna 2025. godine (lokacija će biti naknadno potvrđena). \nIzlagači: Eldan Mujanović\, profesor\, Fakultet za kriminalistiku\, kriminologiju i sigurnosne studije\, Univerzitet u Sarajevu\, Elvir Mraković\, istražitelj\, Državna agencija za istrage i zaštitu (SIPA) i Mirela Mujagić\, stručna savjetnica–psihologinja\, Kantonalni sud u Bihaću \nDnevni red: \n09h30     Uvodna sesija \n10h00      Sesija 1: Fenomen trgovine ljudima i pravni okvir \n11h00      Pauza za kafu \n11h30       Sesija 2: Finansijske istrage i oduzimanje nezakonito stečene imovine\, praksa \n12h30      Ručak \n13h30      Sesija 3: Oduzimanje imovinske koristi stečene trgovinom ljudima u cilju obeštećenja žrtava trgovine ljudima \n14h30      Sesija 4: Prava žrtava trgovine ljudima i značaj naknade štete žrtvama trgovine ljudima \n15h30      Pauza za kafu \n16h00      Praktična vježba \n17h00      Kraj obuke\, odlazak učesnika
URL:https://rs.cest.gov.ba/event/efikasan-pristup-pravdi-i-pravnim-lijekovima-za-zrtve-trgovine-ljudima/
CATEGORIES:Krivičnopravna oblast
END:VEVENT
END:VCALENDAR