BEGIN:VCALENDAR
VERSION:2.0
PRODID:-//Javna ustanova Centar za edukaciju sudija i tužilaca u Republici Srpskoj - ECPv6.15.20//NONSGML v1.0//EN
CALSCALE:GREGORIAN
METHOD:PUBLISH
X-ORIGINAL-URL:https://rs.cest.gov.ba
X-WR-CALDESC:Events for Javna ustanova Centar za edukaciju sudija i tužilaca u Republici Srpskoj
REFRESH-INTERVAL;VALUE=DURATION:PT1H
X-Robots-Tag:noindex
X-PUBLISHED-TTL:PT1H
BEGIN:VTIMEZONE
TZID:Europe/Sarajevo
BEGIN:DAYLIGHT
TZOFFSETFROM:+0100
TZOFFSETTO:+0200
TZNAME:CEST
DTSTART:20230326T010000
END:DAYLIGHT
BEGIN:STANDARD
TZOFFSETFROM:+0200
TZOFFSETTO:+0100
TZNAME:CET
DTSTART:20231029T010000
END:STANDARD
BEGIN:DAYLIGHT
TZOFFSETFROM:+0100
TZOFFSETTO:+0200
TZNAME:CEST
DTSTART:20240331T010000
END:DAYLIGHT
BEGIN:STANDARD
TZOFFSETFROM:+0200
TZOFFSETTO:+0100
TZNAME:CET
DTSTART:20241027T010000
END:STANDARD
BEGIN:DAYLIGHT
TZOFFSETFROM:+0100
TZOFFSETTO:+0200
TZNAME:CEST
DTSTART:20250330T010000
END:DAYLIGHT
BEGIN:STANDARD
TZOFFSETFROM:+0200
TZOFFSETTO:+0100
TZNAME:CET
DTSTART:20251026T010000
END:STANDARD
END:VTIMEZONE
BEGIN:VEVENT
DTSTART;TZID=Europe/Sarajevo:20240510T080000
DTEND;TZID=Europe/Sarajevo:20240510T170000
DTSTAMP:20260422T115731
CREATED:20240510T094829Z
LAST-MODIFIED:20240704T094914Z
UID:2301-1715328000-1715360400@rs.cest.gov.ba
SUMMARY:Priručnik iz oblasti prava intelektualnog vlasništva
DESCRIPTION:Priručnik iz oblasti prava intelektualnog vlasništva \nDatum: 10.5.2024.god. \nmjesto: Banja Luka
URL:https://rs.cest.gov.ba/event/prirucnik-iz-oblasti-prava-intelektualnog-vlasnistva/
LOCATION:Banja Luka
END:VEVENT
BEGIN:VEVENT
DTSTART;TZID=Europe/Sarajevo:20240513T080000
DTEND;TZID=Europe/Sarajevo:20240514T170000
DTSTAMP:20260422T115731
CREATED:20240513T094714Z
LAST-MODIFIED:20240704T094807Z
UID:2298-1715587200-1715706000@rs.cest.gov.ba
SUMMARY:Osnovni principi tumačenja Konvencije i procesna ljudska prava
DESCRIPTION:Osnovni principi tumačenja Konvencije i procesna ljudska prava \nDatum: 13-14.5.2024.god. \nMjesto: Banja Luka
URL:https://rs.cest.gov.ba/event/osnovni-principi-tumacenja-konvencije-i-procesna-ljudska-prava/
LOCATION:Banja Luka
END:VEVENT
BEGIN:VEVENT
DTSTART;TZID=Europe/Sarajevo:20240516T080000
DTEND;TZID=Europe/Sarajevo:20240517T170000
DTSTAMP:20260422T115731
CREATED:20240516T094240Z
LAST-MODIFIED:20240704T094348Z
UID:2292-1715846400-1715965200@rs.cest.gov.ba
SUMMARY:Izgradnja liderskih vještina
DESCRIPTION:Izgradnja liderskih vještina \nDatum: 16-17.5.2024.god. \nMjesto: Banja Luka \nPredavači: Slavica Tadić
URL:https://rs.cest.gov.ba/event/izgradnja-liderskih-vjestina/
LOCATION:Banja Luka
END:VEVENT
BEGIN:VEVENT
DTSTART;TZID=Europe/Sarajevo:20240516T080000
DTEND;TZID=Europe/Sarajevo:20240517T170000
DTSTAMP:20260422T115731
CREATED:20240516T094411Z
LAST-MODIFIED:20240704T094555Z
UID:2295-1715846400-1715965200@rs.cest.gov.ba
SUMMARY:Diskriminacija u pravosudnoj praksi
DESCRIPTION:Diskriminacija u pravosudnoj praksi \nDatum: 16-17.5.2024.god \nMjesto: Mostar
URL:https://rs.cest.gov.ba/event/diskriminacija-u-pravosudnoj-praksi/
LOCATION:Mostar
END:VEVENT
BEGIN:VEVENT
DTSTART;TZID=Europe/Sarajevo:20240520T080000
DTEND;TZID=Europe/Sarajevo:20240521T170000
DTSTAMP:20260422T115731
CREATED:20240520T093715Z
LAST-MODIFIED:20240704T093838Z
UID:2290-1716192000-1716310800@rs.cest.gov.ba
SUMMARY:Digitalni dokazi
DESCRIPTION:Digitalni dokazi \nDatum: 20-21.5.2024.god. \nMjesto: Banja Luka
URL:https://rs.cest.gov.ba/event/digitalni-dokazi/
LOCATION:Banja Luka
END:VEVENT
BEGIN:VEVENT
DTSTART;TZID=Europe/Sarajevo:20240522T080000
DTEND;TZID=Europe/Sarajevo:20240522T170000
DTSTAMP:20260422T115731
CREATED:20240522T093515Z
LAST-MODIFIED:20240704T093556Z
UID:2288-1716364800-1716397200@rs.cest.gov.ba
SUMMARY:Digitalni dokazi i pravosuđe
DESCRIPTION:Digitalni dokazi i pravosuđe \nDatum: 22.5.2024.god. \nMjesto: Banja Luka
URL:https://rs.cest.gov.ba/event/digitalni-dokazi-i-pravosudje/
LOCATION:Banja Luka
END:VEVENT
BEGIN:VEVENT
DTSTART;TZID=Europe/Sarajevo:20240527T080000
DTEND;TZID=Europe/Sarajevo:20240527T170000
DTSTAMP:20260422T115732
CREATED:20240527T093343Z
LAST-MODIFIED:20240704T093442Z
UID:2286-1716796800-1716829200@rs.cest.gov.ba
SUMMARY:Primjena Zakona o zaštiti i postupanju sa djecom i maloljetnicima u krivičnom postupku
DESCRIPTION:Primjena Zakona o zaštiti i postupanju sa djecom i maloljetnicima u krivičnom postupku \nDatum: 27.5.2024.god. \nMjesto: Banja Luka \nPredavači: Željka Fabić\nDragan Uletilović
URL:https://rs.cest.gov.ba/event/primjena-zakona-o-zastiti-i-postupanju-sa-djecom-i-maloljetnicima-u-krivicnom-postupku/
LOCATION:Banja Luka
END:VEVENT
BEGIN:VEVENT
DTSTART;TZID=Europe/Sarajevo:20240528T080000
DTEND;TZID=Europe/Sarajevo:20240528T170000
DTSTAMP:20260422T115732
CREATED:20240528T102555Z
LAST-MODIFIED:20240827T103012Z
UID:2829-1716883200-1716915600@rs.cest.gov.ba
SUMMARY:Proces ocjene dokaza
DESCRIPTION:Proces ocjene dokaza \nDatum: 28.5.2024.god. \nMjesto: Sarajevo \nPredavač: Smajo Šabić
URL:https://rs.cest.gov.ba/event/proces-ocjene-dokaza/
LOCATION:Sarajevo
END:VEVENT
BEGIN:VEVENT
DTSTART;TZID=Europe/Sarajevo:20240529T080000
DTEND;TZID=Europe/Sarajevo:20240529T170000
DTSTAMP:20260422T115732
CREATED:20240529T090518Z
LAST-MODIFIED:20240829T091652Z
UID:2886-1716969600-1717002000@rs.cest.gov.ba
SUMMARY:Izbor vrste krivične sankcije i odmjeravanje kazne
DESCRIPTION:Izbor vrste krivične sankcije i odmjeravanje kazne \nDatum: 29.5.2024.god. \nMjesto: Sarajevo \nIzlagač: Svetlana Marić
URL:https://rs.cest.gov.ba/event/izbor-vrste-krivicne-sankcije-i-odmjeravanje-kazne/
LOCATION:Sarajevo
END:VEVENT
BEGIN:VEVENT
DTSTART;TZID=Europe/Sarajevo:20240529T080000
DTEND;TZID=Europe/Sarajevo:20240529T170000
DTSTAMP:20260422T115732
CREATED:20240529T104403Z
LAST-MODIFIED:20240827T104604Z
UID:2838-1716969600-1717002000@rs.cest.gov.ba
SUMMARY:Etički standardi i disciplinska praksa za sudije i tužioce
DESCRIPTION:Etički standardi i disciplinska praksa za sudije i tužioce \nDatum: 29.5.2024.god. \nMjesto: Sarajevo \nIzlagači: Ledi Bianku i Aldijana Porča
URL:https://rs.cest.gov.ba/event/eticki-standardi-i-disciplinska-praksa-za-sudije-i-tuzioce/
LOCATION:Sarajevo
END:VEVENT
BEGIN:VEVENT
DTSTART;TZID=Europe/Sarajevo:20240529T080000
DTEND;TZID=Europe/Sarajevo:20240531T170000
DTSTAMP:20260422T115732
CREATED:20240529T085926Z
LAST-MODIFIED:20240829T090212Z
UID:2880-1716969600-1717174800@rs.cest.gov.ba
SUMMARY:VII Savjetovanje iz prekršajno-pravne oblasti
DESCRIPTION:VII Savjetovanje iz prekršajno-pravne oblasti \nDatum: 29-31.5.2024.god. \nMjesto: Bijeljina \n 
URL:https://rs.cest.gov.ba/event/vii-savjetovanje-iz-prekrsajno-pravne-oblasti/
LOCATION:Bijeljina
END:VEVENT
BEGIN:VEVENT
DTSTART;TZID=Europe/Sarajevo:20240530T080000
DTEND;TZID=Europe/Sarajevo:20240530T170000
DTSTAMP:20260422T115732
CREATED:20240530T091354Z
LAST-MODIFIED:20240829T091535Z
UID:2890-1717056000-1717088400@rs.cest.gov.ba
SUMMARY:Sudska praksa iz vanparničnih postupaka
DESCRIPTION:Sudska praksa iz vanparničnih postupaka \nDatum: 30.5.2024.god. \nMjesto: Banja Luka \nIzlagač: Selma Šaćirović
URL:https://rs.cest.gov.ba/event/sudska-praksa-iz-vanparnicnih-postupaka/
LOCATION:Banja Luka
END:VEVENT
BEGIN:VEVENT
DTSTART;TZID=Europe/Sarajevo:20240530T080000
DTEND;TZID=Europe/Sarajevo:20240530T170000
DTSTAMP:20260422T115732
CREATED:20240530T091702Z
LAST-MODIFIED:20240829T092417Z
UID:2896-1717056000-1717088400@rs.cest.gov.ba
SUMMARY:Panel diskusija s novinarima: pravosuđe i mediji u Bosni i Hercegovini
DESCRIPTION:Panel diskusija s novinarima: pravosuđe i mediji u Bosni i Hercegovini \nDatum: 30.5.2024.god. \nMjesto: Sarajevo
URL:https://rs.cest.gov.ba/event/panel-diskusija-s-novinarima-pravosudje-i-mediji-u-bosni-i-hercegovini/
LOCATION:Sarajevo
END:VEVENT
BEGIN:VEVENT
DTSTART;TZID=Europe/Sarajevo:20240530T080000
DTEND;TZID=Europe/Sarajevo:20240531T170000
DTSTAMP:20260422T115732
CREATED:20240530T092740Z
LAST-MODIFIED:20240829T093014Z
UID:2901-1717056000-1717174800@rs.cest.gov.ba
SUMMARY:Specijalistička edukacija iz oblasti visokotehnološkog/kibernetičkog kriminala
DESCRIPTION:Specijalistička edukacija iz oblasti visokotehnološkog/kibernetičkog kriminala \nDatum: 30-31.5.2024.god. \nMjesto: Sarajevo \nIzlagači: Saša Petrović i Srđan Mičić
URL:https://rs.cest.gov.ba/event/specijalisticka-edukacija-iz-oblasti-visokotehnoloskog-kibernetickog-kriminala/
LOCATION:Sarajevo
END:VEVENT
END:VCALENDAR