BEGIN:VCALENDAR
VERSION:2.0
PRODID:-//Javna ustanova Centar za edukaciju sudija i tužilaca u Republici Srpskoj - ECPv6.15.20//NONSGML v1.0//EN
CALSCALE:GREGORIAN
METHOD:PUBLISH
X-WR-CALNAME:Javna ustanova Centar za edukaciju sudija i tužilaca u Republici Srpskoj
X-ORIGINAL-URL:https://rs.cest.gov.ba
X-WR-CALDESC:Events for Javna ustanova Centar za edukaciju sudija i tužilaca u Republici Srpskoj
REFRESH-INTERVAL;VALUE=DURATION:PT1H
X-Robots-Tag:noindex
X-PUBLISHED-TTL:PT1H
BEGIN:VTIMEZONE
TZID:Europe/Sarajevo
BEGIN:DAYLIGHT
TZOFFSETFROM:+0100
TZOFFSETTO:+0200
TZNAME:CEST
DTSTART:20230326T010000
END:DAYLIGHT
BEGIN:STANDARD
TZOFFSETFROM:+0200
TZOFFSETTO:+0100
TZNAME:CET
DTSTART:20231029T010000
END:STANDARD
BEGIN:DAYLIGHT
TZOFFSETFROM:+0100
TZOFFSETTO:+0200
TZNAME:CEST
DTSTART:20240331T010000
END:DAYLIGHT
BEGIN:STANDARD
TZOFFSETFROM:+0200
TZOFFSETTO:+0100
TZNAME:CET
DTSTART:20241027T010000
END:STANDARD
BEGIN:DAYLIGHT
TZOFFSETFROM:+0100
TZOFFSETTO:+0200
TZNAME:CEST
DTSTART:20250330T010000
END:DAYLIGHT
BEGIN:STANDARD
TZOFFSETFROM:+0200
TZOFFSETTO:+0100
TZNAME:CET
DTSTART:20251026T010000
END:STANDARD
BEGIN:DAYLIGHT
TZOFFSETFROM:+0100
TZOFFSETTO:+0200
TZNAME:CEST
DTSTART:20260329T010000
END:DAYLIGHT
BEGIN:STANDARD
TZOFFSETFROM:+0200
TZOFFSETTO:+0100
TZNAME:CET
DTSTART:20261025T010000
END:STANDARD
END:VTIMEZONE
BEGIN:VEVENT
DTSTART;TZID=Europe/Sarajevo:20250916T100000
DTEND;TZID=Europe/Sarajevo:20250916T150000
DTSTAMP:20260421T194349
CREATED:20250905T102915Z
LAST-MODIFIED:20250905T102915Z
UID:4487-1758016800-1758034800@rs.cest.gov.ba
SUMMARY:Aktuelna praksa iz upravne oblasti
DESCRIPTION:Na osnovu Programa stručnog usavršavanja i početne obuke za 2025. godinu\, Centar za edukaciju sudija i javnih tužilaca u Republici Srpskoj\, organizuje seminar\, na temu: „Aktuelna praksa iz upravne oblasti“\, koji će se održati 16. septembra 2025. godine u Banjaluci\, prostorije CEST-a RS\, Bulevar vojvode Stepe Stepanovića 60. \nEdukatori će biti Svjetlana Knežević\, sudija Vrhovnog suda Republike Srpske i dr.sc. Robert Jović\, sudija Apelacionog suda Brčko distriktra BiH.
URL:https://rs.cest.gov.ba/event/aktuelna-praksa-iz-upravne-oblasti/
LOCATION:Banja Luka
CATEGORIES:Upravnopravna oblast
END:VEVENT
BEGIN:VEVENT
DTSTART;TZID=Europe/Sarajevo:20241008T103000
DTEND;TZID=Europe/Sarajevo:20241008T143000
DTSTAMP:20260421T194349
CREATED:20240920T122150Z
LAST-MODIFIED:20240920T122314Z
UID:3347-1728383400-1728397800@rs.cest.gov.ba
SUMMARY:Aktuelna praksa Vrhovnog suda Republike Srpske na upravnom referatu
DESCRIPTION:Izlagač: Strahinja Ćurković\, sudija Vrhovnog suda Republike Srpske \nDnevni red: \n10:30 – 10:55   Dolazak učesnika\n10:55 – 11:00   Uvodna riječ organizatora i otvaranje seminara\n11:00 – 11:45   Praksa Vrhovnog suda Republike Srpske na upravnom referatu:\n– najčešći slučajevi ukidanja i preinačenja odluka nižestepenih sudova\n11:45 – 12:15    Pauza\n12:15 – 13:15    Upravni spor kroz primjenu Zakona o Visokom obrazovanju\n13:15 – 14:00   Diskusija\, zaključci i evaluacija seminara\n14:00 – 14:15   Registracija učesnika
URL:https://rs.cest.gov.ba/event/aktuelna-praksa-vrhovnog-suda-republike-srpske-na-upravnom-referatu/
LOCATION:Banja Luka
CATEGORIES:Upravnopravna oblast
END:VEVENT
END:VCALENDAR