BEGIN:VCALENDAR
VERSION:2.0
PRODID:-//Javna ustanova Centar za edukaciju sudija i tužilaca u Republici Srpskoj - ECPv6.15.20//NONSGML v1.0//EN
CALSCALE:GREGORIAN
METHOD:PUBLISH
X-WR-CALNAME:Javna ustanova Centar za edukaciju sudija i tužilaca u Republici Srpskoj
X-ORIGINAL-URL:https://rs.cest.gov.ba
X-WR-CALDESC:Events for Javna ustanova Centar za edukaciju sudija i tužilaca u Republici Srpskoj
REFRESH-INTERVAL;VALUE=DURATION:PT1H
X-Robots-Tag:noindex
X-PUBLISHED-TTL:PT1H
BEGIN:VTIMEZONE
TZID:Europe/Sarajevo
BEGIN:DAYLIGHT
TZOFFSETFROM:+0100
TZOFFSETTO:+0200
TZNAME:CEST
DTSTART:20250330T010000
END:DAYLIGHT
BEGIN:STANDARD
TZOFFSETFROM:+0200
TZOFFSETTO:+0100
TZNAME:CET
DTSTART:20251026T010000
END:STANDARD
BEGIN:DAYLIGHT
TZOFFSETFROM:+0100
TZOFFSETTO:+0200
TZNAME:CEST
DTSTART:20260329T010000
END:DAYLIGHT
BEGIN:STANDARD
TZOFFSETFROM:+0200
TZOFFSETTO:+0100
TZNAME:CET
DTSTART:20261025T010000
END:STANDARD
BEGIN:DAYLIGHT
TZOFFSETFROM:+0100
TZOFFSETTO:+0200
TZNAME:CEST
DTSTART:20270328T010000
END:DAYLIGHT
BEGIN:STANDARD
TZOFFSETFROM:+0200
TZOFFSETTO:+0100
TZNAME:CET
DTSTART:20271031T010000
END:STANDARD
END:VTIMEZONE
BEGIN:VEVENT
DTSTART;TZID=Europe/Sarajevo:20260429T100000
DTEND;TZID=Europe/Sarajevo:20260429T150000
DTSTAMP:20260421T175508
CREATED:20260305T112436Z
LAST-MODIFIED:20260305T112436Z
UID:4747-1777456800-1777474800@rs.cest.gov.ba
SUMMARY:Primjena Zakona o registraciji poslovnih subjekata Republike Srpske
DESCRIPTION:Centar za edukaciju sudija i javnih tužilaca u Republici Srpskoj\, u okviru Programa stručnog usavršavanja i početne obuke za 2026. godinu\, organizuje seminar iz privrednopravne oblasti\, na temu: „Primjena Zakona o registraciji poslovnih subjekata Republike Srpske“\, koji će se održati 29. aprila 2026. godine\, u prostorijama Centra za edukaciju sudija i javnih tužilaca u RS\,  Bulevar vojvode Stepe Stepanovića 60\, Banja Luka. \nIzlagač na ovom seminaru će biti gđa Ana Tomić – Ignjatić\, sudija Višeg privrednog suda Republike Srpske.
URL:https://rs.cest.gov.ba/event/primjena-zakona-o-registraciji-poslovnih-subjekata-republike-srpske/
LOCATION:Banja Luka
CATEGORIES:Privrednopravna oblast
END:VEVENT
END:VCALENDAR