BEGIN:VCALENDAR
VERSION:2.0
PRODID:-//Javna ustanova Centar za edukaciju sudija i tužilaca u Republici Srpskoj - ECPv6.15.20//NONSGML v1.0//EN
CALSCALE:GREGORIAN
METHOD:PUBLISH
X-WR-CALNAME:Javna ustanova Centar za edukaciju sudija i tužilaca u Republici Srpskoj
X-ORIGINAL-URL:https://rs.cest.gov.ba
X-WR-CALDESC:Events for Javna ustanova Centar za edukaciju sudija i tužilaca u Republici Srpskoj
REFRESH-INTERVAL;VALUE=DURATION:PT1H
X-Robots-Tag:noindex
X-PUBLISHED-TTL:PT1H
BEGIN:VTIMEZONE
TZID:Europe/Sarajevo
BEGIN:DAYLIGHT
TZOFFSETFROM:+0100
TZOFFSETTO:+0200
TZNAME:CEST
DTSTART:20230326T010000
END:DAYLIGHT
BEGIN:STANDARD
TZOFFSETFROM:+0200
TZOFFSETTO:+0100
TZNAME:CET
DTSTART:20231029T010000
END:STANDARD
BEGIN:DAYLIGHT
TZOFFSETFROM:+0100
TZOFFSETTO:+0200
TZNAME:CEST
DTSTART:20240331T010000
END:DAYLIGHT
BEGIN:STANDARD
TZOFFSETFROM:+0200
TZOFFSETTO:+0100
TZNAME:CET
DTSTART:20241027T010000
END:STANDARD
BEGIN:DAYLIGHT
TZOFFSETFROM:+0100
TZOFFSETTO:+0200
TZNAME:CEST
DTSTART:20250330T010000
END:DAYLIGHT
BEGIN:STANDARD
TZOFFSETFROM:+0200
TZOFFSETTO:+0100
TZNAME:CET
DTSTART:20251026T010000
END:STANDARD
END:VTIMEZONE
BEGIN:VEVENT
DTSTART;TZID=Europe/Sarajevo:20241101T100000
DTEND;TZID=Europe/Sarajevo:20241101T143000
DTSTAMP:20260422T201344
CREATED:20241014T114558Z
LAST-MODIFIED:20241014T114708Z
UID:3493-1730455200-1730471400@rs.cest.gov.ba
SUMMARY:Novine u Zakonu o privrednim društvima
DESCRIPTION:Novine u Zakonu o privrednim društvima sa posebnim osvrtom na skupštinsku većinu kod d.o.o. i statusne promjene privrednih društava \nIzlagač: gđa Branka Skoko \nDnevni red: \n10:15 – 10:25              Dolazak učesnika \n10:25 – 10:30              Otvaranje seminara \n10:30 – 12:00              Novine u Zakonu o privrednim društvima Republike Srpske \n12:00 – 12:30              Pauza \n12:30 – 14:00              Skupštinska većina kod društava sa ograničenom odgovornošću i statusne promjene privrednih društava \n14:00 – 14:30              Diskusija\, evaluacija seminara i registracija učesnika
URL:https://rs.cest.gov.ba/event/novine-u-zakonu-o-privrednim-drustvima/
LOCATION:Banja Luka
CATEGORIES:Privrednopravna oblast
END:VEVENT
BEGIN:VEVENT
DTSTART;TZID=Europe/Sarajevo:20241125T100000
DTEND;TZID=Europe/Sarajevo:20241125T140000
DTSTAMP:20260422T201344
CREATED:20241111T115511Z
LAST-MODIFIED:20241111T115511Z
UID:3729-1732528800-1732543200@rs.cest.gov.ba
SUMMARY:Aktuelna pitanja iz prakse privrednih sudova u Republici Srpskoj
DESCRIPTION:Centar za edukaciju sudija i javnih tužilaca u Republici Srpskoj\, u okviru Programa stručnog usavršavanja i početne obuke za 2024. godinu\, organizuje seminar iz privrednopravne oblasti\, na temu: „Aktuelna pitanja iz prakse privrednih sudova u Republici Srpskoj“ koji će se održati u ponedjeljak 25. novembra 2024. godine\, u prostorijama Centra za edukaciju sudija i javnih tužilaca u RS ( u daljem tekstu „CEST“ )\, u Ul. Bulevar vojvode Stepe Stepanovića 60\, Banja Luka. \nIzlagači: gđa Branka Skoko\, sudija i predsjednica Višeg privrednog suda Republike Srpske i gdin Bogdan Gajić\, sudija Višeg privrednog suda Republike Srpske.
URL:https://rs.cest.gov.ba/event/aktuelna-pitanja-iz-prakse-privrednih-sudova-u-republici-srpskoj/
LOCATION:Banja Luka
CATEGORIES:Privrednopravna oblast
END:VEVENT
END:VCALENDAR