BEGIN:VCALENDAR
VERSION:2.0
PRODID:-//Javna ustanova Centar za edukaciju sudija i tužilaca u Republici Srpskoj - ECPv6.15.20//NONSGML v1.0//EN
CALSCALE:GREGORIAN
METHOD:PUBLISH
X-ORIGINAL-URL:https://rs.cest.gov.ba
X-WR-CALDESC:Events for Javna ustanova Centar za edukaciju sudija i tužilaca u Republici Srpskoj
REFRESH-INTERVAL;VALUE=DURATION:PT1H
X-Robots-Tag:noindex
X-PUBLISHED-TTL:PT1H
BEGIN:VTIMEZONE
TZID:Europe/Sarajevo
BEGIN:DAYLIGHT
TZOFFSETFROM:+0100
TZOFFSETTO:+0200
TZNAME:CEST
DTSTART:20250330T010000
END:DAYLIGHT
BEGIN:STANDARD
TZOFFSETFROM:+0200
TZOFFSETTO:+0100
TZNAME:CET
DTSTART:20251026T010000
END:STANDARD
BEGIN:DAYLIGHT
TZOFFSETFROM:+0100
TZOFFSETTO:+0200
TZNAME:CEST
DTSTART:20260329T010000
END:DAYLIGHT
BEGIN:STANDARD
TZOFFSETFROM:+0200
TZOFFSETTO:+0100
TZNAME:CET
DTSTART:20261025T010000
END:STANDARD
BEGIN:DAYLIGHT
TZOFFSETFROM:+0100
TZOFFSETTO:+0200
TZNAME:CEST
DTSTART:20270328T010000
END:DAYLIGHT
BEGIN:STANDARD
TZOFFSETFROM:+0200
TZOFFSETTO:+0100
TZNAME:CET
DTSTART:20271031T010000
END:STANDARD
END:VTIMEZONE
BEGIN:VEVENT
DTSTART;TZID=Europe/Sarajevo:20260520T100000
DTEND;TZID=Europe/Sarajevo:20260522T140000
DTSTAMP:20260421T175713
CREATED:20260305T112724Z
LAST-MODIFIED:20260305T112724Z
UID:4749-1779271200-1779458400@rs.cest.gov.ba
SUMMARY:IX Savjetovanje iz prekršajno-pravne oblasti
DESCRIPTION:Obavještavamo Vas da Udruženje sudija Republike Srpske u saradnji sa Udruženjem sudija/sudaca u FBiH\, Udruženjem sudija u BiH\, Centrima za edukaciju sudija i tužilaca u RS i FBiH\, Advokatskim komorama RS i FBiH  organizuje IX Savjetovanje iz prekršajno-pravne oblasti u periodu od 20-22. maja 2026. godine u Bijeljini\, Etno selo „Stanišić“.  Predavači će biti eminentni pravnici i sudije iz naše zemlje i regiona. \nZa učešće na Savjetovanju potrebno je da svaki sud\, institucija ili učesnik lično (uz navođenje imena\, prezimena i profesije) izvrše rezervaciju smještaja. Rezervacije smještaja se mogu izvršiti putem telefona: 055/ 350-306\, putem  fax-a: 055/ 350-509 ; ili e-mail adrese office@etno-selo.com. \nKotizacija za Savjetovanje iznosi 150\,00 KM po učesniku i uplaćuje se na račun Udruženja sudija Republike Srpske broj : 562099-00018368-98 kod Razvojne Banke Banja Luka uz naznaku “kotizacija za Savjetovanje iz prekršajno-pravne oblasti”. Učesnici su dužni da kopiju virmana o uplaćenoj kotizaciji pošalju na e-mail udruženja sudija RS us.rs@pravosudje.ba\, a original predoče prilikom registracije i preuzimanja materijala za Savjetovanje. \nKrajnji rok za uplatu kotizacija i dostavljanje dokaza o uplati je 05.05.2026. godine. \nOkvirni program Savjetovanja će biti naknadno dostavljen.
URL:https://rs.cest.gov.ba/event/ix-savjetovanje-iz-prekrsajno-pravne-oblasti/
LOCATION:Bijeljina
CATEGORIES:Prekršajnopravna oblast
END:VEVENT
END:VCALENDAR