BEGIN:VCALENDAR
VERSION:2.0
PRODID:-//Javna ustanova Centar za edukaciju sudija i tužilaca u Republici Srpskoj - ECPv6.15.20//NONSGML v1.0//EN
CALSCALE:GREGORIAN
METHOD:PUBLISH
X-WR-CALNAME:Javna ustanova Centar za edukaciju sudija i tužilaca u Republici Srpskoj
X-ORIGINAL-URL:https://rs.cest.gov.ba
X-WR-CALDESC:Events for Javna ustanova Centar za edukaciju sudija i tužilaca u Republici Srpskoj
REFRESH-INTERVAL;VALUE=DURATION:PT1H
X-Robots-Tag:noindex
X-PUBLISHED-TTL:PT1H
BEGIN:VTIMEZONE
TZID:Europe/Sarajevo
BEGIN:DAYLIGHT
TZOFFSETFROM:+0100
TZOFFSETTO:+0200
TZNAME:CEST
DTSTART:20240331T010000
END:DAYLIGHT
BEGIN:STANDARD
TZOFFSETFROM:+0200
TZOFFSETTO:+0100
TZNAME:CET
DTSTART:20241027T010000
END:STANDARD
BEGIN:DAYLIGHT
TZOFFSETFROM:+0100
TZOFFSETTO:+0200
TZNAME:CEST
DTSTART:20250330T010000
END:DAYLIGHT
BEGIN:STANDARD
TZOFFSETFROM:+0200
TZOFFSETTO:+0100
TZNAME:CET
DTSTART:20251026T010000
END:STANDARD
BEGIN:DAYLIGHT
TZOFFSETFROM:+0100
TZOFFSETTO:+0200
TZNAME:CEST
DTSTART:20260329T010000
END:DAYLIGHT
BEGIN:STANDARD
TZOFFSETFROM:+0200
TZOFFSETTO:+0100
TZNAME:CET
DTSTART:20261025T010000
END:STANDARD
END:VTIMEZONE
BEGIN:VEVENT
DTSTART;TZID=Europe/Sarajevo:20250909T100000
DTEND;TZID=Europe/Sarajevo:20250910T143000
DTSTAMP:20260422T122138
CREATED:20250807T084846Z
LAST-MODIFIED:20250807T084846Z
UID:4451-1757412000-1757514600@rs.cest.gov.ba
SUMMARY:Ujednačavanje sudske prakse u prekršajnim predmetima okružnih sudova u RS
DESCRIPTION:Centar za edukaciju sudija i javnih tužilaca u Republici Srpskoj na osnovu Programa stručnog usavršavanja i početne obuke za 2025. godinu\, organizuje okrugli sto iz prekršajnopravne oblasti\, na temu: „Ujednačavanje sudske prakse u prekršajnim predmetima okružnih sudova u Republici Srpskoj“\, koji će se održati 09 – 10. septembar 2025. godine u Banjaluci\, prostorije CEST-a RS\, Bulevar vojvode Stepe Stepanovića 60. \nEdukatori će biti mr Duško Miloica\, predsjednik Okružnog suda u Prijedoru i mr Dragoslav Erdelić\, sudija Okružnog suda u Bijeljini.
URL:https://rs.cest.gov.ba/event/ujednacavanje-sudske-prakse-u-prekrsajnim-predmetima-okruznih-sudova-u-rs-2/
LOCATION:Banja Luka
CATEGORIES:Prekršajnopravna oblast
END:VEVENT
END:VCALENDAR