BEGIN:VCALENDAR
VERSION:2.0
PRODID:-//Javna ustanova Centar za edukaciju sudija i tužilaca u Republici Srpskoj - ECPv6.15.20//NONSGML v1.0//EN
CALSCALE:GREGORIAN
METHOD:PUBLISH
X-ORIGINAL-URL:https://rs.cest.gov.ba
X-WR-CALDESC:Events for Javna ustanova Centar za edukaciju sudija i tužilaca u Republici Srpskoj
REFRESH-INTERVAL;VALUE=DURATION:PT1H
X-Robots-Tag:noindex
X-PUBLISHED-TTL:PT1H
BEGIN:VTIMEZONE
TZID:Europe/Sarajevo
BEGIN:DAYLIGHT
TZOFFSETFROM:+0100
TZOFFSETTO:+0200
TZNAME:CEST
DTSTART:20240331T010000
END:DAYLIGHT
BEGIN:STANDARD
TZOFFSETFROM:+0200
TZOFFSETTO:+0100
TZNAME:CET
DTSTART:20241027T010000
END:STANDARD
BEGIN:DAYLIGHT
TZOFFSETFROM:+0100
TZOFFSETTO:+0200
TZNAME:CEST
DTSTART:20250330T010000
END:DAYLIGHT
BEGIN:STANDARD
TZOFFSETFROM:+0200
TZOFFSETTO:+0100
TZNAME:CET
DTSTART:20251026T010000
END:STANDARD
BEGIN:DAYLIGHT
TZOFFSETFROM:+0100
TZOFFSETTO:+0200
TZNAME:CEST
DTSTART:20260329T010000
END:DAYLIGHT
BEGIN:STANDARD
TZOFFSETFROM:+0200
TZOFFSETTO:+0100
TZNAME:CET
DTSTART:20261025T010000
END:STANDARD
END:VTIMEZONE
BEGIN:VEVENT
DTSTART;TZID=Europe/Sarajevo:20251208T100000
DTEND;TZID=Europe/Sarajevo:20251208T133000
DTSTAMP:20260422T002805
CREATED:20251111T102928Z
LAST-MODIFIED:20251111T102928Z
UID:4617-1765188000-1765200600@rs.cest.gov.ba
SUMMARY:Izazovi u primjeni Zakona o zaštiti lica koja prijavljuju korupciju
DESCRIPTION:Centar za edukaciju sudija i javnih tužilaca u Republici Srpskoj\, u skladu sa Programom stručnog usavršavanja i početne obuke za 2025. godinu\, i na prijedlog Ministarstva pravde Republike Srpske\, organizuje seminar\, na temu: „Izazovi u primjeni Zakona o zaštiti lica koja prijavljuju korupciju“\, koji će se održati 08. decembra 2025. godine u Banjaluci\, prostorije CEST-a RS\, Bulevar vojvode Stepe Stepanovića 60. \nIzlagač će biti Mladen Maksimović\, Ministarstvo pravde Republike Srpske. \nDnevni red: \n10:00 – 10:30      Registracija učešća i pozdravna riječ/predstavnik CEST-a RS \n10:30 – 11:30       Analiza Zakona o zaštiti lici koja prijavljuju korupciju (\,\,Službeni glasnik Republike Srpske“\, broj 62/17 i 98/24) s fokusom na mehanizme prijave korupcije \n11:30- 12:00         Pauza \n12:00- 13:00        Analiza nedostataka u Zakonu o zaštiti lica koja prijavljuje korupciju (\,\,Službeni glasnik Republike Srpske“\, broj 62/17 i 98/24) i preporuke za njegovo unapređenje \n13:00 – 13:30      Diskusija\, zaključna razmatranja\, evaluacija seminara \n13:30-                    Završne riječi
URL:https://rs.cest.gov.ba/event/izazovi-u-primjeni-zakona-o-zastiti-lica-koja-prijavljuju-korupciju-2/
LOCATION:Banja Luka
CATEGORIES:Posebne teme
END:VEVENT
END:VCALENDAR