BEGIN:VCALENDAR
VERSION:2.0
PRODID:-//Javna ustanova Centar za edukaciju sudija i tužilaca u Republici Srpskoj - ECPv6.15.20//NONSGML v1.0//EN
CALSCALE:GREGORIAN
METHOD:PUBLISH
X-ORIGINAL-URL:https://rs.cest.gov.ba
X-WR-CALDESC:Events for Javna ustanova Centar za edukaciju sudija i tužilaca u Republici Srpskoj
REFRESH-INTERVAL;VALUE=DURATION:PT1H
X-Robots-Tag:noindex
X-PUBLISHED-TTL:PT1H
BEGIN:VTIMEZONE
TZID:Europe/Sarajevo
BEGIN:DAYLIGHT
TZOFFSETFROM:+0100
TZOFFSETTO:+0200
TZNAME:CEST
DTSTART:20240331T010000
END:DAYLIGHT
BEGIN:STANDARD
TZOFFSETFROM:+0200
TZOFFSETTO:+0100
TZNAME:CET
DTSTART:20241027T010000
END:STANDARD
BEGIN:DAYLIGHT
TZOFFSETFROM:+0100
TZOFFSETTO:+0200
TZNAME:CEST
DTSTART:20250330T010000
END:DAYLIGHT
BEGIN:STANDARD
TZOFFSETFROM:+0200
TZOFFSETTO:+0100
TZNAME:CET
DTSTART:20251026T010000
END:STANDARD
BEGIN:DAYLIGHT
TZOFFSETFROM:+0100
TZOFFSETTO:+0200
TZNAME:CEST
DTSTART:20260329T010000
END:DAYLIGHT
BEGIN:STANDARD
TZOFFSETFROM:+0200
TZOFFSETTO:+0100
TZNAME:CET
DTSTART:20261025T010000
END:STANDARD
END:VTIMEZONE
BEGIN:VEVENT
DTSTART;TZID=Europe/Sarajevo:20250923T100000
DTEND;TZID=Europe/Sarajevo:20250924T143000
DTSTAMP:20260422T051012
CREATED:20250905T104236Z
LAST-MODIFIED:20250905T104236Z
UID:4495-1758621600-1758724200@rs.cest.gov.ba
SUMMARY:Savremeno komuniciranje s javnošću
DESCRIPTION:Na prijedlog Visokog sudskog i tužilačkog savjeta Bosne i Hercegovine\, Centar za edukaciju sudija i javnih tužilaca u Republici Srpskoj i Centar za edukaciju sudija i tužilaca Federacije Bosne i Hercegovine\, u saradnji sa Misijom OSCE-a u Bosni i Hercegovini\, i skladno sa Programom stručnog usavršavanja i početne obuke za 2025. godinu\, organizuju seminar\, na temu: „Savremeno komuniciranje s javnošću“ (obavezna obuka svih rukovodilaca pravosudnih institucija)\, koji će se održati 23 – 24. septembar 2025. godine u Sarajevu\, prostorije CEST-a FBiH\, Halida Nazečića 4. \nEdukatori će biti eksperti iz oblasti odnosa s javnošću.
URL:https://rs.cest.gov.ba/event/savremeno-komuniciranje-s-javnoscu-3/
LOCATION:Sarajevo
CATEGORIES:Posebne teme
END:VEVENT
END:VCALENDAR