BEGIN:VCALENDAR
VERSION:2.0
PRODID:-//Javna ustanova Centar za edukaciju sudija i tužilaca u Republici Srpskoj - ECPv6.15.20//NONSGML v1.0//EN
CALSCALE:GREGORIAN
METHOD:PUBLISH
X-ORIGINAL-URL:https://rs.cest.gov.ba
X-WR-CALDESC:Events for Javna ustanova Centar za edukaciju sudija i tužilaca u Republici Srpskoj
REFRESH-INTERVAL;VALUE=DURATION:PT1H
X-Robots-Tag:noindex
X-PUBLISHED-TTL:PT1H
BEGIN:VTIMEZONE
TZID:Europe/Sarajevo
BEGIN:DAYLIGHT
TZOFFSETFROM:+0100
TZOFFSETTO:+0200
TZNAME:CEST
DTSTART:20240331T010000
END:DAYLIGHT
BEGIN:STANDARD
TZOFFSETFROM:+0200
TZOFFSETTO:+0100
TZNAME:CET
DTSTART:20241027T010000
END:STANDARD
BEGIN:DAYLIGHT
TZOFFSETFROM:+0100
TZOFFSETTO:+0200
TZNAME:CEST
DTSTART:20250330T010000
END:DAYLIGHT
BEGIN:STANDARD
TZOFFSETFROM:+0200
TZOFFSETTO:+0100
TZNAME:CET
DTSTART:20251026T010000
END:STANDARD
BEGIN:DAYLIGHT
TZOFFSETFROM:+0100
TZOFFSETTO:+0200
TZNAME:CEST
DTSTART:20260329T010000
END:DAYLIGHT
BEGIN:STANDARD
TZOFFSETFROM:+0200
TZOFFSETTO:+0100
TZNAME:CET
DTSTART:20261025T010000
END:STANDARD
END:VTIMEZONE
BEGIN:VEVENT
DTSTART;TZID=Europe/Sarajevo:20250414T100000
DTEND;TZID=Europe/Sarajevo:20250414T140000
DTSTAMP:20260422T132855
CREATED:20250313T124644Z
LAST-MODIFIED:20250411T081045Z
UID:4036-1744624800-1744639200@rs.cest.gov.ba
SUMMARY:Ćutanje administracije
DESCRIPTION:Na osnovu Programa stručnog usavršavanja i početne obuke za 2025. godinu\, Centar za edukaciju sudija i javnih tužilaca u Republici Srpskoj (CEST RS)\, organizuje seminar iz upravnopravne oblasti\, na temu: „Ćutanje administracije“\, koji će se održati 14. aprila 2025. godine u Banjaluci\, prostorije CEST-a RS\, Bulevar vojvode Stepe Stepanovića 60. \nIzlagači će biti Aleksandra Ždral i Milica Đurić\, sudije Okružnog suda u Banjoj Luci. \nDnevni red: \n9:30 – 10:00           Dolazak učesnika \n10:00– 10:05          Otvaranje seminara i pozdravna riječ predstavnika organizatora \n10:05 – 11:00         „Ćutanje administracije“\, uz kratki osvrt na Zakona o upravnim   sporovima\, Zakon o opštem upravnom postupku \n11:00 – 11:30           Pauza \n11:30 – 12:30          Aktuelna sudska praksa\, uz prezentaciju primjeraka presuda \n12:30 – 13:00         Diskusija\, evaluacija seminara i registracija učesnika
URL:https://rs.cest.gov.ba/event/cutanje-administracije/
LOCATION:Banja Luka
CATEGORIES:Posebne teme
END:VEVENT
END:VCALENDAR