BEGIN:VCALENDAR
VERSION:2.0
PRODID:-//Javna ustanova Centar za edukaciju sudija i tužilaca u Republici Srpskoj - ECPv6.15.20//NONSGML v1.0//EN
CALSCALE:GREGORIAN
METHOD:PUBLISH
X-WR-CALNAME:Javna ustanova Centar za edukaciju sudija i tužilaca u Republici Srpskoj
X-ORIGINAL-URL:https://rs.cest.gov.ba
X-WR-CALDESC:Events for Javna ustanova Centar za edukaciju sudija i tužilaca u Republici Srpskoj
REFRESH-INTERVAL;VALUE=DURATION:PT1H
X-Robots-Tag:noindex
X-PUBLISHED-TTL:PT1H
BEGIN:VTIMEZONE
TZID:Europe/Sarajevo
BEGIN:DAYLIGHT
TZOFFSETFROM:+0100
TZOFFSETTO:+0200
TZNAME:CEST
DTSTART:20230326T010000
END:DAYLIGHT
BEGIN:STANDARD
TZOFFSETFROM:+0200
TZOFFSETTO:+0100
TZNAME:CET
DTSTART:20231029T010000
END:STANDARD
BEGIN:DAYLIGHT
TZOFFSETFROM:+0100
TZOFFSETTO:+0200
TZNAME:CEST
DTSTART:20240331T010000
END:DAYLIGHT
BEGIN:STANDARD
TZOFFSETFROM:+0200
TZOFFSETTO:+0100
TZNAME:CET
DTSTART:20241027T010000
END:STANDARD
BEGIN:DAYLIGHT
TZOFFSETFROM:+0100
TZOFFSETTO:+0200
TZNAME:CEST
DTSTART:20250330T010000
END:DAYLIGHT
BEGIN:STANDARD
TZOFFSETFROM:+0200
TZOFFSETTO:+0100
TZNAME:CET
DTSTART:20251026T010000
END:STANDARD
END:VTIMEZONE
BEGIN:VEVENT
DTSTART;TZID=Europe/Sarajevo:20241211T100000
DTEND;TZID=Europe/Sarajevo:20241212T150000
DTSTAMP:20260422T214919
CREATED:20241118T102746Z
LAST-MODIFIED:20241211T082129Z
UID:3746-1733911200-1734015600@rs.cest.gov.ba
SUMMARY:Uloga predsjednika sudova i glavnih tužilaca u očuvanju integriteta pravosudnih institucija
DESCRIPTION:Na prijedlog Visokog sudskog i tužilačkog savjeta Bosne i Hercegovine\, Centar za edukaciju sudija i javnih tužilaca u Republici Srpskoj\, u skladu s Programom stručnog usavršavanja i početne obuke za 2024. godinu\, organizuje seminar\, na temu: „Uloga predsjednika sudova i glavnih tužilaca u očuvanju integriteta pravosudnih institucija“\nkoji će se održati od 10 – 11. decembara 2024. godine u Banjaluci\, prostorije CEST-a RS\, Bulevar vojvode Stepe Stepanovića 60. \nIzlagači: Vesna Trifunović\, sudija Suda Bosne i Hercegovine\, mr Dragoslav Erdelić\, sudija Okružnog suda u Bijeljini\, Neven Kramer\, sekretar Okružnog javnog tužilaštva u Istočnom Sarajevu i predstavnik Ministarstva sigurnosti Bosne i Hercegovine.
URL:https://rs.cest.gov.ba/event/uloga-predsjednika-sudova-i-glavnih-tuzilaca-u-ocuvanju-integriteta-pravosudnih-institucija/
LOCATION:Banja Luka
CATEGORIES:Posebne teme
END:VEVENT
END:VCALENDAR