BEGIN:VCALENDAR
VERSION:2.0
PRODID:-//Javna ustanova Centar za edukaciju sudija i tužilaca u Republici Srpskoj - ECPv6.15.20//NONSGML v1.0//EN
CALSCALE:GREGORIAN
METHOD:PUBLISH
X-WR-CALNAME:Javna ustanova Centar za edukaciju sudija i tužilaca u Republici Srpskoj
X-ORIGINAL-URL:https://rs.cest.gov.ba
X-WR-CALDESC:Events for Javna ustanova Centar za edukaciju sudija i tužilaca u Republici Srpskoj
REFRESH-INTERVAL;VALUE=DURATION:PT1H
X-Robots-Tag:noindex
X-PUBLISHED-TTL:PT1H
BEGIN:VTIMEZONE
TZID:Europe/Sarajevo
BEGIN:DAYLIGHT
TZOFFSETFROM:+0100
TZOFFSETTO:+0200
TZNAME:CEST
DTSTART:20240331T010000
END:DAYLIGHT
BEGIN:STANDARD
TZOFFSETFROM:+0200
TZOFFSETTO:+0100
TZNAME:CET
DTSTART:20241027T010000
END:STANDARD
BEGIN:DAYLIGHT
TZOFFSETFROM:+0100
TZOFFSETTO:+0200
TZNAME:CEST
DTSTART:20250330T010000
END:DAYLIGHT
BEGIN:STANDARD
TZOFFSETFROM:+0200
TZOFFSETTO:+0100
TZNAME:CET
DTSTART:20251026T010000
END:STANDARD
BEGIN:DAYLIGHT
TZOFFSETFROM:+0100
TZOFFSETTO:+0200
TZNAME:CEST
DTSTART:20260329T010000
END:DAYLIGHT
BEGIN:STANDARD
TZOFFSETFROM:+0200
TZOFFSETTO:+0100
TZNAME:CET
DTSTART:20261025T010000
END:STANDARD
END:VTIMEZONE
BEGIN:VEVENT
DTSTART;TZID=Europe/Sarajevo:20251103T080000
DTEND;TZID=Europe/Sarajevo:20251103T170000
DTSTAMP:20260422T002418
CREATED:20251107T125435Z
LAST-MODIFIED:20251107T125435Z
UID:4610-1762156800-1762189200@rs.cest.gov.ba
SUMMARY:Online obuku o rodnoj ravnopravnosti
DESCRIPTION:Poštovani/e\, \nAIRE centar je\, uz podršku Vlade Ujedinjenog kraljevstva\, kreirao Online obuku o rodnoj ravnopravnosti. \nNavedenu obuku mogu pohađati tužioci/tužiteljice\, sudije\, službenici/ce policije\, službenici/ce centara za socijalni rad\, studenti/ce pravnih fakulteta\, predstavnici/ce medija i svi drugi zainteresovani. Obuka je dostupna na svim jezicima sa govornog područja Zapadnog Balkana. \nCiljevi obuke su sljedeći: \n\nUnapređenje rodne ravnopravnosti kroz upoznavanje učesnika/ca s osnovnim pojmovima rodne ravnopravnosti\, kao što je definisanje i objašnjenje pojmova rodnih uloga\, rodnih identiteta\, seksualne orijentacije i razgraničenje između ovih pojmova;\nBorba protiv rodnih predrasuda i stereotipa koje se otvoreno ispoljavaju u sudnicama širom Zapadnog Balkana\, razvijanju svijesti o pitanjima rodne ravnopravnosti i ulozi pravosuđa;\nOmogućavanje dubljeg razumijevanja koncepta rodne ravnopravnosti\, razloga zbog kojih je rodna ravnopravnost važna tema\, odnosno kako se ovaj princip ostvaruje u praksi i do kakvih posljedica dovodi;\nRazgraničavanje pojmova diskriminacije\, seksualnog uznemiravanja i mobinga.\n\nOnline obuka o rodnoj ravnopravnosti se sastoji iz tri modula: \nModul I u kojem je objašnjeno zašto je rodna ravnopravnost naša tema\, nakon kojeg će polaznicima/ama biti omogućeno lakše: \n\nRazumijevanje koncepta rodne ravnopravnosti;\nRazumijevanje pojmova pola i roda\, kao i razlike između ovih pojmova;\nRazumijevanje pojmova rodne uloge\, rodnih identiteta\, seksualne orijentacije\, uključujući razlike između ovih pojmova.\n\nModul II koji je posvećen pitanju rodnih predrasuda i stereotipa kao uzroka diskriminacije\, nakon kojeg će polaznici/ce biti u mogućnosti da: \n\nRazumiju pojmove stereotipa i predrasuda\, te rodnih stereotipa i predrasuda;\nPrepoznaju rodne stereotipe i predrasude kao uzroke diskriminacije;\nRazumiju pojam i oblike diskriminacije i njihove specifičnosti s posebnim fokusom na diskriminaciju žena.\n\nModul III koji se bavi pitanjem nasilja prema ženama\, nakon čega će polaznici/ce biti u mogućnosti da: \n\nRazumiju koncept nasilja prema ženama kao rodno zasnovanog nasilja;\nPrepoznaju različite oblike i manifestacije nasilja prema ženama;\nRazumiju rasprostranjenost nasilja prema ženama u regionu Zapadnog Balkana.\n\nOnline obuka ne zahtijeva prethodnu niti dodatnu pripremu\, a za pregled materijala je potrebno 120 minuta aktivnog rada koji može biti raspoređen prema individualnim obavezama i potrebama. \nTakođe\, kako bi obuka bila savladana te testovi položeni potrebno je još oko 60 minuta (zavisi od prethodnog znanja svakog polaznika). \nNakon svake uspješno završene obuke\, AIRE centar će učesniku/ci izdati certifikat. \nRegistracija za obuku se vrši na sajtu AIRE centra https://edu.airewb.org\,  prilikom kojeg se formira profil na platformi. \nMolimo Vas da nakon zaprimanja certifikata o uspješno realizovanoj Online obuci o rodnoj ravnopravnosti\, isti dostavite na uvid na e-mail adresu: nikola.mitrovic@rs.cest.gov.ba\, radi evidencije jednog dana obavezne obuke u bazi podataka Centra za edukaciju sudija i javnih tužilaca u Republici Srpskoj. \nOnline obuka će biti dostupna na platformi do kraja kalendarske godine.
URL:https://rs.cest.gov.ba/event/online-obuku-o-rodnoj-ravnopravnosti/
LOCATION:Online obuka
CATEGORIES:Posebne teme
END:VEVENT
END:VCALENDAR