BEGIN:VCALENDAR
VERSION:2.0
PRODID:-//Javna ustanova Centar za edukaciju sudija i tužilaca u Republici Srpskoj - ECPv6.15.20//NONSGML v1.0//EN
CALSCALE:GREGORIAN
METHOD:PUBLISH
X-ORIGINAL-URL:https://rs.cest.gov.ba
X-WR-CALDESC:Events for Javna ustanova Centar za edukaciju sudija i tužilaca u Republici Srpskoj
REFRESH-INTERVAL;VALUE=DURATION:PT1H
X-Robots-Tag:noindex
X-PUBLISHED-TTL:PT1H
BEGIN:VTIMEZONE
TZID:Europe/Sarajevo
BEGIN:DAYLIGHT
TZOFFSETFROM:+0100
TZOFFSETTO:+0200
TZNAME:CEST
DTSTART:20230326T010000
END:DAYLIGHT
BEGIN:STANDARD
TZOFFSETFROM:+0200
TZOFFSETTO:+0100
TZNAME:CET
DTSTART:20231029T010000
END:STANDARD
BEGIN:DAYLIGHT
TZOFFSETFROM:+0100
TZOFFSETTO:+0200
TZNAME:CEST
DTSTART:20240331T010000
END:DAYLIGHT
BEGIN:STANDARD
TZOFFSETFROM:+0200
TZOFFSETTO:+0100
TZNAME:CET
DTSTART:20241027T010000
END:STANDARD
BEGIN:DAYLIGHT
TZOFFSETFROM:+0100
TZOFFSETTO:+0200
TZNAME:CEST
DTSTART:20250330T010000
END:DAYLIGHT
BEGIN:STANDARD
TZOFFSETFROM:+0200
TZOFFSETTO:+0100
TZNAME:CET
DTSTART:20251026T010000
END:STANDARD
END:VTIMEZONE
BEGIN:VEVENT
DTSTART;TZID=Europe/Sarajevo:20241031T090000
DTEND;TZID=Europe/Sarajevo:20241101T150000
DTSTAMP:20260422T214850
CREATED:20241009T123423Z
LAST-MODIFIED:20241009T123838Z
UID:3482-1730365200-1730473200@rs.cest.gov.ba
SUMMARY:Pripadnici ranjivih grupa kao svjedoci u postupku
DESCRIPTION:Izlagač: Dragana Ćuk Milankov \nDnevni red: \nČetvrtak\, 31. oktobar 2024. godine  \n09:00 – 10:30 \n\nOtvaranje Seminara\, predstavljanje učesnika i programa Seminara\nOsnovne vještine komunikacije – primjena u istražnom i sudskom postupku\n\n10:30 – 11:00 Pauza za kafu \n11:00 – 12:30 \n\nOsnovne tehnike komunikacije u radu tužilaca i sudija\nKomunikacija u situacijama intenzivnih osjećanja\n\n12:30 – 13:30 Ručak \n13:30 – 15:00  \n\nIspitivanje djeteta u okviru istražnog i sudskog postupka\n\nPetak\, 01. novembar 2024. godine  \n09:00 – 10:30 \n\nIspitivanje osoba snižene intelektualne efikasnosti u okviru istražnog i sudskog postupka\nIspitivanje osoba sa poremećajem iz autističnog spektra\n\n10:30 – 11:00 Pauza za kafu \n11:00 – 12:30 \n\nKomunikacija sa osobama umanjenih tjelesnih mogućnosti u istražnom i sudskom postupku\nKomunikacija sa osobama iz LGBTQIA+ populacije u istražnom i sudskom postupku\n\n12:30 – 13:30 Ručak \n13:30 – 15:00 \n\nKomunikacija sa žrtvama nasilja u istražnom i sudskom postupku\nMotivisanje za svjedočenje\nZatvaranje Seminara
URL:https://rs.cest.gov.ba/event/pripadnici-ranjivih-grupa-kao-svjedoci-u-postupku/
LOCATION:Banja Luka
CATEGORIES:Posebne teme
END:VEVENT
BEGIN:VEVENT
DTSTART;TZID=Europe/Sarajevo:20241106T100000
DTEND;TZID=Europe/Sarajevo:20241106T150000
DTSTAMP:20260422T214850
CREATED:20241021T120327Z
LAST-MODIFIED:20241021T120506Z
UID:3550-1730887200-1730905200@rs.cest.gov.ba
SUMMARY:Specifični aspekti pristupa pravdi sa stanovišta pripadnika ranjivih grupa
DESCRIPTION:Centar za edukaciju sudija i javnih tužilaca u Republici Srpskoj (CEST RS) i Centar za edukaciju sudija i tužilaca Federacije Bosne i Hercegovine (CEST FBiH) u skladu s Programom stručnog usavršavanja i početne obuke za 2024. godinu\, organizuju seminar primarno namijenjen novoimenovanim sudijama i javnim tužiocima\, na temu:\n„Specifični aspekti pristupa pravdi sa stanovišta pripadnika ranjivih grupa (djeca\, osobe sa invaliditetom\, Romi\, LGBTI osobe\, mariginalizovane kategorije žena)“\n06. novembar 2024. godine\, Sarajevo\, sala CEST-a FBiH\, Halida Nazečića 4
URL:https://rs.cest.gov.ba/event/specificni-aspekti-pristupa-pravdi-sa-stanovista-pripadnika-ranjivih-grupa/
LOCATION:Sarajevo
CATEGORIES:Posebne teme
END:VEVENT
BEGIN:VEVENT
DTSTART;TZID=Europe/Sarajevo:20241114T093000
DTEND;TZID=Europe/Sarajevo:20241115T153000
DTSTAMP:20260422T214850
CREATED:20241021T121203Z
LAST-MODIFIED:20241021T121203Z
UID:3552-1731576600-1731684600@rs.cest.gov.ba
SUMMARY:Izgradnja liderskih i upravljačkih kapacitata u pravosudnim institucijama
DESCRIPTION:Izlagači: Marija Aničić Zgonjanin\, predsjednica Okružnog suda u Banjaluci\, Dragana Đerić\, viši pravni savjetnik za sudsku praksu u VSTS-u BiH\, Dragiša Jokić\, viši pravni savjetnik/koordinator pravno-analitičke jedinice u VSTS-u BiH i Elma Turić\, viši projektant aplikacija II u VSTS-u BiH. \nDnevni red: \nČetvrtak\, 14. 11. 2024. godine \n09:30 – 10:00      Otvaranje seminara i pozdravna riječ  organizatora \n10:00 – 12:00    „Proces poslovnog planiranja\, sistem finansijskog upravljanja i kontrole\, planiranje i izrada prijedlog budžeta i rebalansa budžeta“ \n12:00- 12:30        Diskusija\, pitanja i odgovori \n12:30 – 13:00       Pauza \n13:00 – 14:30     „Izrada Planova rješavanja predmeta (godišnjih i kvartalnih)\, te njihove realizacije i provodjenja eventualnih mjera od strane rukovodilaca\, u slučaju neprovodjenja tih Planova ili odstupanja od istih“ \n14:30 – 15:00       Diskusija\, pitanja i odgovori \n15:00-                     Kraj prvog dana seminara \nPetak\, 15. 11. 2024. godine \n09:30 –  10:00       Registracija učesnika \n10:00 – 11:30         „Izrada i realizacija godišnjeg programa rada“ \n11:30 – 12:00          Diskusija\, pitanja i odgovori \n12:00 – 12:30          Pauza \n12:30 – 13:30          „Predstavljanje novih funkcionalnsti CMS/TCMS-a\, primjena  Pravilnika o CMS/TCMS-u sa naglaskom na važnost osiguranja kvaliteta podataka\, kreiranje specijalizacija za dodjelu predmeta“                                                       \n13:30 – 13:45           „Predstavljanje mogućnosti Sistema za izvještavanje i podršku  odlučivanju (SIPO)“ \n13:45 –   14:00         Diskusija\, pitanja i odgovori \n14:00- 14:15             Pauza \n14:15- 15:00            „Predstavljanje HRMIS sistema i njegovo korištenje za lakše upravljanje i unapređenje rada institucija“ \n15:00- 15:15              Diskusija\, pitanja i odgovori \n15:15- 15:30              Evaluacija i kraj seminara
URL:https://rs.cest.gov.ba/event/izgradnja-liderskih-i-upravljackih-kapacitata-u-pravosudnim-institucijama/
LOCATION:Banja Luka
CATEGORIES:Posebne teme
END:VEVENT
BEGIN:VEVENT
DTSTART;TZID=Europe/Sarajevo:20241118T100000
DTEND;TZID=Europe/Sarajevo:20241119T150000
DTSTAMP:20260422T214850
CREATED:20241021T121705Z
LAST-MODIFIED:20241105T103101Z
UID:3556-1731924000-1732028400@rs.cest.gov.ba
SUMMARY:Obuka o govoru mržnje i zločinu iz mržnje
DESCRIPTION:Izlagači: Sevima Sali-Terzić\, registrar\, Ustavni sud BiH i Ermina Dumanjić\, Odjeljenja za ustavnosudsku praksu\, Ustavni sud BiH \nDnevni red: \n18.novembar \n8:45 – 9:00        Registracije učesnika \n09:00 – 09:15    Otvaranje obuke\, predstavnik CEST FBiH i RS \n09:15 – 10:15      Zaštita prava na slobodu izražavanja \n10:15 – 11:00     Sloboda govora u odnosu na klevetu \n11:00 – 11:30     Pauza za kafu \n11:30 – 12:15      Šta je govor mržnje i domaći i evropski pravni okvir za borbu protiv govora mržnje \n12:13 – 13:15      Predrasude /  mržnja \n13:15 – 14:15      Pauza za ručak \n14:15 – 15:15      Borba protiv govora mržnje \n15:15 – 15:30     Pauza za kafu \n15:30 – 16:30    Primjeri iz prakse \n19.novembar \n9:30 – 10:30     Krivična djela počinjena iz mržnje \n9:45 – 10:30      Mete i počinioci krivičnog djela \n10:30 –  11:00   Pauza za kafu \n11:00 – 12:15    Praktični rad \n12:15 – 12:45    Izlazni test\, evaluacija i zatvaranje \n12:45                  Ručak
URL:https://rs.cest.gov.ba/event/obuka-o-govoru-mrznje-i-zlocinu-iz-mrznje/
LOCATION:Sarajevo
CATEGORIES:Posebne teme
END:VEVENT
BEGIN:VEVENT
DTSTART;TZID=Europe/Sarajevo:20241118T103000
DTEND;TZID=Europe/Sarajevo:20241118T143000
DTSTAMP:20260422T214850
CREATED:20241021T121519Z
LAST-MODIFIED:20241114T113100Z
UID:3554-1731925800-1731940200@rs.cest.gov.ba
SUMMARY:Primjena Zakona o utvrđivanju porijekla imovine i posebnog poreza na imovinu
DESCRIPTION:Izlagači: Željko Vučić\, pomoćnik direktora\, Sektor za utvrđivanje porijekla imovine i posebnog poreza na imovinu\, Veliborka Vrećo\, mlađi inspektor za operativni rizik i analitiku i Dragan Milinčić\, mlađi inspektor za prethodni postupak \nDnevni red: \n10:30-10:55    Registracija učesnika \n10:55 -11:00   Uvodna riječ organizatora i otvaranje seminara \n11:00-11:30     Pozitivna primjena Zakona o utvrđivanju porijekla imovine i posebnog poreza na imovinu \n11:30-11:45      Diskusija \n11:45-12:15      Pauza \n12:15-13:00     Operativni rizik i analitika\, prezentacija \n13:00-13:15     Diskusija \n13:15-14:00     Prethodni postupak\, prezentacija \n14:00-14:15     Diskusija \n14:15-14:30      Rezime\, zaključci i evaluacija seminara
URL:https://rs.cest.gov.ba/event/primjena-zakona-o-utvrdjivanju-porijekla-imovine-i-posebnog-poreza-na-imovinu/
LOCATION:Banja Luka
CATEGORIES:Posebne teme
END:VEVENT
BEGIN:VEVENT
DTSTART;TZID=Europe/Sarajevo:20241120T100000
DTEND;TZID=Europe/Sarajevo:20241120T140000
DTSTAMP:20260422T214851
CREATED:20241104T124712Z
LAST-MODIFIED:20241104T124712Z
UID:3626-1732096800-1732111200@rs.cest.gov.ba
SUMMARY:Primjena Smjernica za objavljivanje sudskih i tužilačkih odluka
DESCRIPTION:Izlagači: Predstavnici Odjela za sudsku dokumentaciju i edukaciju Sekretarijata VSTV-a BiH\, Nedžad Smailagić\, Pravni savjetnik za praćenje rada pravosuđa\, Misija OSCE u Bosni i Hercegovini\, Sevima Sali-Terzić i Ermina Dumanjić\, Ustavni sud Bosne i Hercegovine \nDnevni red: \n10:00   Uvodna obraćanja \n10:15   Objavljivanje sudskih i tužilačkih odluka\, akata i informacija o predmetima \n\nSmjernice za objavljivanje sudskih i tužilačkih odluka\, akata i informacija o predmetima\nPravilnik za objavljivanje sudskih odluka Ministarstva pravde RS\nUputstvo za anonimizaciju („Službeni glasnik BiH“\, br. 25/24)\n\n11:00   Prezentacija ključnih pitanja i izazova u svjetlu predmeta od javnog interesa \n11:30   Balansiranje javnog i privatnog interesa prilikom objave sudskih i tužilačkih odluka\, akata i informacija o predmetima \n\nmeđunarodni standardi\npraksa Ustavnog suda BiH\npraksa Evropskog suda za ljudska prava\nobjava osjetljivih podataka (fotografije i dr)\n\n12:15    Pauza \n12:45    Provedba testa javnog interesa – primjeri iz prakse \nMilena Marković\, sekretar Okružnog suda u Banja Luci\, \nMaja Đaković – Vidović\, rukovodilac za informisanje OJT Banja Luka \nNada Stevanović\, stručna savjetnica za odnose s javnošću\, Kantonalni sud u Zenici \nMirna Poljac -Stručni savjetnik – saradnik – istražitelj u Uredu Glavnog tužitelja (Ze-Do) \nPraktičan rad\, diskusija \n13:45   Zaključci i preporuke \n 
URL:https://rs.cest.gov.ba/event/primjena-smjernica-za-objavljivanje-sudskih-i-tuzilackih-odluka/
LOCATION:Banja Luka
CATEGORIES:Posebne teme
END:VEVENT
BEGIN:VEVENT
DTSTART;TZID=Europe/Sarajevo:20241121T100000
DTEND;TZID=Europe/Sarajevo:20241121T140000
DTSTAMP:20260422T214851
CREATED:20241104T124924Z
LAST-MODIFIED:20241104T124924Z
UID:3628-1732183200-1732197600@rs.cest.gov.ba
SUMMARY:Primjena Smjernica za objavljivanje sudskih i tužilačkih odluka
DESCRIPTION:Izlagači: Predstavnici Odjela za sudsku dokumentaciju i edukaciju Sekretarijata VSTV-a BiH\, Nedžad Smailagić\, Pravni savjetnik za praćenje rada pravosuđa\, Misija OSCE u Bosni i Hercegovini\, Sevima Sali-Terzić i Ermina Dumanjić\, Ustavni sud Bosne i Hercegovine \nDnevni red: \n10:00   Uvodna obraćanja \n10:15   Objavljivanje sudskih i tužilačkih odluka\, akata i informacija o predmetima \n\nSmjernice za objavljivanje sudskih i tužilačkih odluka\, akata i informacija o predmetima\nPravilnik za objavljivanje sudskih odluka Ministarstva pravde RS\nUputstvo za anonimizaciju („Službeni glasnik BiH“\, br. 25/24)\n\n11:00   Prezentacija ključnih pitanja i izazova u svjetlu predmeta od javnog interesa \n11:30   Balansiranje javnog i privatnog interesa prilikom objave sudskih i tužilačkih odluka\, akata i informacija o predmetima \n\nmeđunarodni standardi\npraksa Ustavnog suda BiH\npraksa Evropskog suda za ljudska prava\nobjava osjetljivih podataka (fotografije i dr)\n\n12:15    Pauza \n12:45    Provedba testa javnog interesa – primjeri iz prakse \nMilena Marković\, sekretar Okružnog suda u Banja Luci\, \nMaja Đaković – Vidović\, rukovodilac za informisanje OJT Banja Luka \nNada Stevanović\, stručna savjetnica za odnose s javnošću\, Kantonalni sud u Zenici \nMirna Poljac -Stručni savjetnik – saradnik – istražitelj u Uredu Glavnog tužitelja (Ze-Do) \nPraktičan rad\, diskusija \n13:45   Zaključci i preporuke
URL:https://rs.cest.gov.ba/event/primjena-smjernica-za-objavljivanje-sudskih-i-tuzilackih-odluka-2/
LOCATION:Brčko
CATEGORIES:Posebne teme
END:VEVENT
BEGIN:VEVENT
DTSTART;TZID=Europe/Sarajevo:20241126T100000
DTEND;TZID=Europe/Sarajevo:20241126T140000
DTSTAMP:20260422T214851
CREATED:20241104T125046Z
LAST-MODIFIED:20241104T125046Z
UID:3631-1732615200-1732629600@rs.cest.gov.ba
SUMMARY:Primjena Smjernica za objavljivanje sudskih i tužilačkih odluka
DESCRIPTION:Izlagači: Predstavnici Odjela za sudsku dokumentaciju i edukaciju Sekretarijata VSTV-a BiH\, Nedžad Smailagić\, Pravni savjetnik za praćenje rada pravosuđa\, Misija OSCE u Bosni i Hercegovini\, Sevima Sali-Terzić i Ermina Dumanjić\, Ustavni sud Bosne i Hercegovine \nDnevni red: \n10:00   Uvodna obraćanja \n10:15   Objavljivanje sudskih i tužilačkih odluka\, akata i informacija o predmetima \n\nSmjernice za objavljivanje sudskih i tužilačkih odluka\, akata i informacija o predmetima\nPravilnik za objavljivanje sudskih odluka Ministarstva pravde RS\nUputstvo za anonimizaciju („Službeni glasnik BiH“\, br. 25/24)\n\n11:00   Prezentacija ključnih pitanja i izazova u svjetlu predmeta od javnog interesa \n11:30   Balansiranje javnog i privatnog interesa prilikom objave sudskih i tužilačkih odluka\, akata i informacija o predmetima \n\nmeđunarodni standardi\npraksa Ustavnog suda BiH\npraksa Evropskog suda za ljudska prava\nobjava osjetljivih podataka (fotografije i dr)\n\n12:15    Pauza \n12:45    Provedba testa javnog interesa – primjeri iz prakse \nMilena Marković\, sekretar Okružnog suda u Banja Luci\, \nMaja Đaković – Vidović\, rukovodilac za informisanje OJT Banja Luka \nNada Stevanović\, stručna savjetnica za odnose s javnošću\, Kantonalni sud u Zenici \nMirna Poljac -Stručni savjetnik – saradnik – istražitelj u Uredu Glavnog tužitelja (Ze-Do) \nPraktičan rad\, diskusija \n13:45   Zaključci i preporuke
URL:https://rs.cest.gov.ba/event/primjena-smjernica-za-objavljivanje-sudskih-i-tuzilackih-odluka-3/
LOCATION:Sarajevo
CATEGORIES:Posebne teme
END:VEVENT
END:VCALENDAR