BEGIN:VCALENDAR
VERSION:2.0
PRODID:-//Javna ustanova Centar za edukaciju sudija i tužilaca u Republici Srpskoj - ECPv6.15.20//NONSGML v1.0//EN
CALSCALE:GREGORIAN
METHOD:PUBLISH
X-ORIGINAL-URL:https://rs.cest.gov.ba
X-WR-CALDESC:Events for Javna ustanova Centar za edukaciju sudija i tužilaca u Republici Srpskoj
REFRESH-INTERVAL;VALUE=DURATION:PT1H
X-Robots-Tag:noindex
X-PUBLISHED-TTL:PT1H
BEGIN:VTIMEZONE
TZID:Europe/Sarajevo
BEGIN:DAYLIGHT
TZOFFSETFROM:+0100
TZOFFSETTO:+0200
TZNAME:CEST
DTSTART:20250330T010000
END:DAYLIGHT
BEGIN:STANDARD
TZOFFSETFROM:+0200
TZOFFSETTO:+0100
TZNAME:CET
DTSTART:20251026T010000
END:STANDARD
BEGIN:DAYLIGHT
TZOFFSETFROM:+0100
TZOFFSETTO:+0200
TZNAME:CEST
DTSTART:20260329T010000
END:DAYLIGHT
BEGIN:STANDARD
TZOFFSETFROM:+0200
TZOFFSETTO:+0100
TZNAME:CET
DTSTART:20261025T010000
END:STANDARD
BEGIN:DAYLIGHT
TZOFFSETFROM:+0100
TZOFFSETTO:+0200
TZNAME:CEST
DTSTART:20270328T010000
END:DAYLIGHT
BEGIN:STANDARD
TZOFFSETFROM:+0200
TZOFFSETTO:+0100
TZNAME:CET
DTSTART:20271031T010000
END:STANDARD
END:VTIMEZONE
BEGIN:VEVENT
DTSTART;TZID=Europe/Sarajevo:20260415T100000
DTEND;TZID=Europe/Sarajevo:20260415T140000
DTSTAMP:20260422T003918
CREATED:20260319T133031Z
LAST-MODIFIED:20260402T111631Z
UID:4810-1776247200-1776261600@rs.cest.gov.ba
SUMMARY:Modul 4 – Nosioci pravosudne funkcije i društvo
DESCRIPTION:Obavještavamo Vas da Centar za edukaciju sudija i javnih tužilaca u Republici Srpskoj (CEST RS)\, na osnovu Programa stručnog usavršavanja i početne obuke za 2026. godinu\, u okviru treće godine početne obuke stručnih saradnika\, organizuje obaveznu obuku za stručne saradnike zaposlene u sudovima i tužilaštvima\, i to: Modul 4 – Nosioci pravosudne funkcije i društvo\, koji će se održati 15. april 2026. godine u Banjaluci\, prostorije CEST-a RS\, Bulevar vojvode Stepe Stepanovića 60. \nEdukatori će biti Dušan Đuričić\, sudija Okružnog suda u Istočnom Sarajevu i Marela Jevtović\, sudija Osnovnog suda u Banjoj Luci. \nDnevni red: \n09:30 – 10:00      Registracija učesnika i otvaranje seminara\n10:00-11:30         Profesionalno sagorijevanje nosilaca pravosudne funkcije (Dušan Đuričić)\n– Profesionalni stres/uzroci\, simptomi\, reakcije·\n– Suočavanje sa stresom\, nošenje sa stresnim situacijama u – profesionalnom okruženju\n– Tehnike rješavanja stresnih situacija u radu\n– Efikasno upravljanje postupkom\n– Efikasno upravljanje vremenom\n– Interaktivni dio – rad u grupama\n11:30 – 12:00        Pauza\n12:00 – 13:30       Komunikacija u sudnici – javni govor (Marela Jevtović)\n– Pojam i osnovne komponente\, vrste i stilovi komunikacije\, aktivno slušanje kao vještina komunikacije\n– Interaktivni dio – uticaj profesionalnog stresa na komunikaciju \n13:30: 14:00         Diskusija na izložene teme\, evaluacija\, zaključci
URL:https://rs.cest.gov.ba/event/modul-4-nosioci-pravosudne-funkcije-i-drustvo/
LOCATION:Banja Luka
CATEGORIES:Obuka za stručne saradnike
END:VEVENT
END:VCALENDAR