BEGIN:VCALENDAR
VERSION:2.0
PRODID:-//Javna ustanova Centar za edukaciju sudija i tužilaca u Republici Srpskoj - ECPv6.15.20//NONSGML v1.0//EN
CALSCALE:GREGORIAN
METHOD:PUBLISH
X-WR-CALNAME:Javna ustanova Centar za edukaciju sudija i tužilaca u Republici Srpskoj
X-ORIGINAL-URL:https://rs.cest.gov.ba
X-WR-CALDESC:Events for Javna ustanova Centar za edukaciju sudija i tužilaca u Republici Srpskoj
REFRESH-INTERVAL;VALUE=DURATION:PT1H
X-Robots-Tag:noindex
X-PUBLISHED-TTL:PT1H
BEGIN:VTIMEZONE
TZID:Europe/Sarajevo
BEGIN:DAYLIGHT
TZOFFSETFROM:+0100
TZOFFSETTO:+0200
TZNAME:CEST
DTSTART:20250330T010000
END:DAYLIGHT
BEGIN:STANDARD
TZOFFSETFROM:+0200
TZOFFSETTO:+0100
TZNAME:CET
DTSTART:20251026T010000
END:STANDARD
BEGIN:DAYLIGHT
TZOFFSETFROM:+0100
TZOFFSETTO:+0200
TZNAME:CEST
DTSTART:20260329T010000
END:DAYLIGHT
BEGIN:STANDARD
TZOFFSETFROM:+0200
TZOFFSETTO:+0100
TZNAME:CET
DTSTART:20261025T010000
END:STANDARD
BEGIN:DAYLIGHT
TZOFFSETFROM:+0100
TZOFFSETTO:+0200
TZNAME:CEST
DTSTART:20270328T010000
END:DAYLIGHT
BEGIN:STANDARD
TZOFFSETFROM:+0200
TZOFFSETTO:+0100
TZNAME:CET
DTSTART:20271031T010000
END:STANDARD
END:VTIMEZONE
BEGIN:VEVENT
DTSTART;TZID=Europe/Sarajevo:20260324T103000
DTEND;TZID=Europe/Sarajevo:20260324T140000
DTSTAMP:20260421T211438
CREATED:20260219T130233Z
LAST-MODIFIED:20260219T130233Z
UID:4721-1774348200-1774360800@rs.cest.gov.ba
SUMMARY:Modul 2 – Krivična oblast
DESCRIPTION:Obavještavamo Vas da Centar za edukaciju sudija i javnih tužilaca u Republici Srpskoj\, na osnovu Programa stručnog usavršavanja i početne obuke za 2026. godinu\, u okviru treće godine početne obuke stručnih saradnika\, organizuje obaveznu obuku za stručne saradnike zaposlene u sudovima i tužilaštvima\, i to: Modul 2 – Krivična oblast\, koji će se održati 24. marta 2026. godine u Banjaluci\, prostorije CEST-a RS\, Bulevar vojvode Stepe Stepanovića 60 \nIzlagač će biti mr Srđan Forca\, sudija Okružnog suda u Banjoj Luci. \nDnevni red: \n10:15 – 10:30      Dolazak učesnika i otvaranje seminara \n10:30 – 11:45      Skraćeni postupci \n11:45 – 12:00      Diskusija\, pitanja i odgovori \n12:00 – 12:30     Pauza \n12:30- 13:45        Redovni pravni lijekovi \n13:45 – 14:00      Diskusija\, evaluacija seminara i registracija učešća
URL:https://rs.cest.gov.ba/event/modul-2-krivicna-oblast/
LOCATION:Banja Luka
CATEGORIES:Obuka za stručne saradnike
END:VEVENT
END:VCALENDAR