BEGIN:VCALENDAR
VERSION:2.0
PRODID:-//Javna ustanova Centar za edukaciju sudija i tužilaca u Republici Srpskoj - ECPv6.15.20//NONSGML v1.0//EN
CALSCALE:GREGORIAN
METHOD:PUBLISH
X-WR-CALNAME:Javna ustanova Centar za edukaciju sudija i tužilaca u Republici Srpskoj
X-ORIGINAL-URL:https://rs.cest.gov.ba
X-WR-CALDESC:Events for Javna ustanova Centar za edukaciju sudija i tužilaca u Republici Srpskoj
REFRESH-INTERVAL;VALUE=DURATION:PT1H
X-Robots-Tag:noindex
X-PUBLISHED-TTL:PT1H
BEGIN:VTIMEZONE
TZID:Europe/Sarajevo
BEGIN:DAYLIGHT
TZOFFSETFROM:+0100
TZOFFSETTO:+0200
TZNAME:CEST
DTSTART:20250330T010000
END:DAYLIGHT
BEGIN:STANDARD
TZOFFSETFROM:+0200
TZOFFSETTO:+0100
TZNAME:CET
DTSTART:20251026T010000
END:STANDARD
BEGIN:DAYLIGHT
TZOFFSETFROM:+0100
TZOFFSETTO:+0200
TZNAME:CEST
DTSTART:20260329T010000
END:DAYLIGHT
BEGIN:STANDARD
TZOFFSETFROM:+0200
TZOFFSETTO:+0100
TZNAME:CET
DTSTART:20261025T010000
END:STANDARD
BEGIN:DAYLIGHT
TZOFFSETFROM:+0100
TZOFFSETTO:+0200
TZNAME:CEST
DTSTART:20270328T010000
END:DAYLIGHT
BEGIN:STANDARD
TZOFFSETFROM:+0200
TZOFFSETTO:+0100
TZNAME:CET
DTSTART:20271031T010000
END:STANDARD
END:VTIMEZONE
BEGIN:VEVENT
DTSTART;TZID=Europe/Sarajevo:20260223T100000
DTEND;TZID=Europe/Sarajevo:20260223T140000
DTSTAMP:20260421T213758
CREATED:20260204T121043Z
LAST-MODIFIED:20260204T121043Z
UID:4690-1771840800-1771855200@rs.cest.gov.ba
SUMMARY:Modul 1 – etika\, integritet i sprečavanje sukoba interesa
DESCRIPTION:Centar za edukaciju sudija i javnih tužilaca u Republici Srpskoj\, u okviru programa početne obuke\, te u skladu da Kurikulumom izrađenim za potrebe obuke pripravnika/volontera zaposlenih u sudovima i tužilaštvima\, organizuje seminar\, na temu: „Modul 1 – etika\, integritet i sprečavanje sukoba interesa“\, koji će se održati 23. februara 2026. godine u  Banjaluci\, prostorije CEST-a u RS\, Bulevar vojvode Stepe Stepanovića 60. \nIzlagač će biti Marela Jevtović\, sudija Osnovnog suda u Banjoj Luci \nDnevni red: \n10:00 -10:30        Otvaranje seminara \n10:30 – 11:30       Etika\, integritet i sukob interesa \n11:30 -12:00         Pauza \n12:00 – 13:30      Pitanja za samoprocjenu iz oblasti sudijske i tužilačke etike \n13:30 – 14:00      Diskusija\, evaluacija seminara i registracija učesnika
URL:https://rs.cest.gov.ba/event/modul-1-etika-integritet-i-sprecavanje-sukoba-interesa/
LOCATION:Banja Luka
CATEGORIES:Obuka za pripravnike
END:VEVENT
END:VCALENDAR