BEGIN:VCALENDAR
VERSION:2.0
PRODID:-//Javna ustanova Centar za edukaciju sudija i tužilaca u Republici Srpskoj - ECPv6.15.20//NONSGML v1.0//EN
CALSCALE:GREGORIAN
METHOD:PUBLISH
X-WR-CALNAME:Javna ustanova Centar za edukaciju sudija i tužilaca u Republici Srpskoj
X-ORIGINAL-URL:https://rs.cest.gov.ba
X-WR-CALDESC:Events for Javna ustanova Centar za edukaciju sudija i tužilaca u Republici Srpskoj
REFRESH-INTERVAL;VALUE=DURATION:PT1H
X-Robots-Tag:noindex
X-PUBLISHED-TTL:PT1H
BEGIN:VTIMEZONE
TZID:Europe/Sarajevo
BEGIN:DAYLIGHT
TZOFFSETFROM:+0100
TZOFFSETTO:+0200
TZNAME:CEST
DTSTART:20240331T010000
END:DAYLIGHT
BEGIN:STANDARD
TZOFFSETFROM:+0200
TZOFFSETTO:+0100
TZNAME:CET
DTSTART:20241027T010000
END:STANDARD
BEGIN:DAYLIGHT
TZOFFSETFROM:+0100
TZOFFSETTO:+0200
TZNAME:CEST
DTSTART:20250330T010000
END:DAYLIGHT
BEGIN:STANDARD
TZOFFSETFROM:+0200
TZOFFSETTO:+0100
TZNAME:CET
DTSTART:20251026T010000
END:STANDARD
BEGIN:DAYLIGHT
TZOFFSETFROM:+0100
TZOFFSETTO:+0200
TZNAME:CEST
DTSTART:20260329T010000
END:DAYLIGHT
BEGIN:STANDARD
TZOFFSETFROM:+0200
TZOFFSETTO:+0100
TZNAME:CET
DTSTART:20261025T010000
END:STANDARD
END:VTIMEZONE
BEGIN:VEVENT
DTSTART;TZID=Europe/Sarajevo:20250326T100000
DTEND;TZID=Europe/Sarajevo:20250326T130000
DTSTAMP:20260422T185907
CREATED:20250314T120840Z
LAST-MODIFIED:20250319T115752Z
UID:4045-1742983200-1742994000@rs.cest.gov.ba
SUMMARY:Aktuelna pitanja hipotekarnog prava u Republici Srpskoj
DESCRIPTION:Poštovana/i\, \nCentar za edukaciju sudija i javnih tužilaca u Republici Srpskoj (CEST RS)\, kao novinu u okviru početne obuke pripravnika\, organizuje seminar prvenstveno namijenjen pripravnicima i volonterima iz sudova i (javnih) tužilaštava\, ali i pripravnicima zapopslenim u adovkaturi\, notarijatu\, upravi\, pravoblanilaštvu i privredi\, u svrhu pripreme za polaganje Pravosudnog ispita. Prvi seminar iz ovog domena\, koji se organizuje u skladu sa Programom stručnog usavršavanja i početne obuke za 2025. godinu nosi naziv: „Aktuelna pitanja hipotekarnog prava u Republici Srpskoj“\, koji će biti održan 26. mart 2025. godine u Banjaluci\, prostorije CEST-a RS\, Bulevar vojvode Stepe Stepanovića 60. \nEdukator će biti prof. dr Radenko Jotanović\, profesor Pravnog fakulteta Univerziteta u Banjoj Luci i član Pravosudne komisije Republike Srpske. \nDnevni red: \n09:55 – 10:00           Pozdravna riječ predstavnika CEST-a RS i otvaranje seminara\n10:00 – 11:00            1. Načela hipotekarnog prava (s posebnim osvrtom na načelo akcesornosti)\n2. Ekstenzivnost (obim) hipoteke\n11:00 – 11:30              Pauza\n11:30–12:30               1. Način sticanja zakonske hipoteke\n2. Praktični primjer sticanja hipoteke i Načelo pouzdanja u Katastar nepokretnosti\n12:30 – 13:00           Diskusija\, pitanja i odgovori\n13:00 –                        Završne riječi\, evaluacija seminara
URL:https://rs.cest.gov.ba/event/aktuelna-pitanja-hipotekarnog-prava-u-republici-srpskoj/
LOCATION:Banja Luka
CATEGORIES:Obuka za pripravnike
END:VEVENT
END:VCALENDAR