BEGIN:VCALENDAR
VERSION:2.0
PRODID:-//Javna ustanova Centar za edukaciju sudija i tužilaca u Republici Srpskoj - ECPv6.15.20//NONSGML v1.0//EN
CALSCALE:GREGORIAN
METHOD:PUBLISH
X-ORIGINAL-URL:https://rs.cest.gov.ba
X-WR-CALDESC:Events for Javna ustanova Centar za edukaciju sudija i tužilaca u Republici Srpskoj
REFRESH-INTERVAL;VALUE=DURATION:PT1H
X-Robots-Tag:noindex
X-PUBLISHED-TTL:PT1H
BEGIN:VTIMEZONE
TZID:Europe/Sarajevo
BEGIN:DAYLIGHT
TZOFFSETFROM:+0100
TZOFFSETTO:+0200
TZNAME:CEST
DTSTART:20240331T010000
END:DAYLIGHT
BEGIN:STANDARD
TZOFFSETFROM:+0200
TZOFFSETTO:+0100
TZNAME:CET
DTSTART:20241027T010000
END:STANDARD
BEGIN:DAYLIGHT
TZOFFSETFROM:+0100
TZOFFSETTO:+0200
TZNAME:CEST
DTSTART:20250330T010000
END:DAYLIGHT
BEGIN:STANDARD
TZOFFSETFROM:+0200
TZOFFSETTO:+0100
TZNAME:CET
DTSTART:20251026T010000
END:STANDARD
BEGIN:DAYLIGHT
TZOFFSETFROM:+0100
TZOFFSETTO:+0200
TZNAME:CEST
DTSTART:20260329T010000
END:DAYLIGHT
BEGIN:STANDARD
TZOFFSETFROM:+0200
TZOFFSETTO:+0100
TZNAME:CET
DTSTART:20261025T010000
END:STANDARD
END:VTIMEZONE
BEGIN:VEVENT
DTSTART;TZID=Europe/Sarajevo:20250919T090000
DTEND;TZID=Europe/Sarajevo:20250919T150000
DTSTAMP:20260422T040541
CREATED:20250917T112755Z
LAST-MODIFIED:20250917T112755Z
UID:4511-1758272400-1758294000@rs.cest.gov.ba
SUMMARY:Predstavljanje baze sudskih odluka Odjela za sudsku dokumentaciju i edukaciju VSTS-a BiH
DESCRIPTION:Na osnovu Programa stručnog usavršavanja i početne obuke za 2025. godinu\, Centar za edukaciju sudija i javnih tužilaca u Republici Srpskoj i Centar za edukaciju sudija i tužilaca Federacije Bosne i Hercegovine\, u saradnji sa Visokim sudkim i tužilačkim savjetom Bosne i Hercegovine\, organizuju seminar\, na temu: „Predstavljanje baze sudskih odluka Odjela za sudsku dokumentaciju i edukaciju VSTS-a BiH\, portala sudske prakse i osnove CMS/TCMS-a“\, koji će se održati 19. septembra 2025. godine na Cisco Webex komunikacijskoj platformi. \nTemu seminara izložiće stručnjaci IKT Odjela Visokog sudskog i tužilačkog savjeta Bosne i Hercegovine i predstavnici Odjela sa sudsku dokumentaciju i edukaciju\, pri Visokom sudskom i tužilačkom savjetu Bosne i Hercegovine.\nPrije početka seminara\, prijavljeni učesnici će dobiti pozivnicu (link) putem koje će moći pristupiti seminaru.\nZa korišćenje ove platforme potrebno je da zainteresovani učesnici posjeduju kompjuter/laptop/telefon sa video kamerom i mikrofonom. \nIzlagači će biti: Edib Dautović\, pravni savjetnik/analitičar pravno-analitičke jedinice\, VSTV BiH\, Rialda Bijedić\, pravna savjetnica za sudsku praksu u Sudu BiH i Dragana Đerić\, Viši pravni savjetnik u Odjelu za sudsku dokumentaciju i edukaciju VSTV BiH \nDnevni red \n08:50 – 09:00      Registracija učesnika na Webex platformu i uvodno obraćanje predstavnika organizatora \n09:00 – 09:45       Pravilnik o sistemu za automatsko upravljanje predmetima u sudovima/tužilaštvima – ključne odredbe \n09:45 – 10:30        Sistem za automatsko upravljanje predmetima u sudovima (CMS) – uvod u poznavanje CMS funkcionalnosti za početnike\, Sistem za automatsko upravljanje predmetima u tužilaštvima (TCMS) – uvod u poznavanje TCMS funkcionalnosti za početnike I dio \n10:30 – 11:00          Pauza \n11:00 – 12:15          Sistem za automatsko upravljanje predmetima u sudovima (CMS) – uvod u poznavanje CMS funkcionalnosti za početnike\, Sistem za automatsko upravljanje predmetima u tužilaštvima (TCMS) – uvod u poznavanje TCMS funkcionalnosti za početnike II dio \n12:15 – 12:45          Pitanja\, diskusija \n12:45 – 13:00         Uvod – upoznavanje sa radom i nadležnostima OSDE-a \n13:00 – 13:20         Korištenje i funkcionalnosti baze sudskih odluka (pretraga i sadržaj) \n13:20  – 13:30          Pristup Službenim glasnicima i sadržaj (pretraga zakona u Bosni i Hercegovini) \n13:30 – 13:40          Sudska praksa (Ustavni sud BiH\, Bilteni Vrhovnih sudova i Suda BiH\, Odluke Evropskog suda za ljudska prava u predmetima  protiv BiH) \n13:40 – 14:00          Ostali sadržaj na web stranici OSDE-a \n14:00 – 14:30          Portal sudske prakse u Bosni i Hercegovini (stavovi\, sudske odluke\, pravna shvatanja) \nPitanja i odgovori \n14:30 – 14:45           Zaključci\, evaluacija i registracija učešća
URL:https://rs.cest.gov.ba/event/predstavljanje-baze-sudskih-odluka-odjela-za-sudsku-dokumentaciju-i-edukaciju-vsts-a-bih/
LOCATION:Online obuka
CATEGORIES:Obuka za novoimenovane NPF
END:VEVENT
BEGIN:VEVENT
DTSTART;TZID=Europe/Sarajevo:20250925T100000
DTEND;TZID=Europe/Sarajevo:20250925T140000
DTSTAMP:20260422T040541
CREATED:20250827T093648Z
LAST-MODIFIED:20250827T093648Z
UID:4474-1758794400-1758808800@rs.cest.gov.ba
SUMMARY:Postupanje u dežurstvima s posebnim osvrtom na rad na predmetima opšteg kriminala
DESCRIPTION:Na osnovu Programa stručnog usavršavanja i početne obuke za 2025. godinu\, Centar za edukaciju sudija i javnih tužilaca u Republici Srpskoj  i Centar za edukaciju sudija i tužilaca Federacije Bosne i Hercegovine\, organizuju seminar\, na temu: „Postupanje u dežurstvima s posebnim osvrtom na rad na predmetima opšteg kriminala sa kojima se novioimenovani tužilac susreće u dežurstvima“\, koji će se održati 25. septembar 2025. godine u Banjaluci\, sala CEST-a RS\, Bulevar vojvode Stepe Stepanovića 60. \nEdukator će biti Sanja Guzina\, okružni javni tužilac Okružnog javnog tužilaštva u Banjaluci. \nDnevni red: \n10:00 – 10:30             Registracija učesnika i pozdravna riječ \n10:30  – 11:30             Uloga tužioca u dežurstvu\, odnos između dežurnog tužioca\, policije i suda \n11:30  – 11:45              Diskusija \n11:45- 12:15                  Pauza \n12:15  – 13:15               Izazovi u dežurstvu – primjeri iz prakse  \n13:15  – 13:30              Diskusija \n13:30 – 14:00              Zaključci i evaluacija seminara
URL:https://rs.cest.gov.ba/event/postupanje-u-dezurstvima-s-posebnim-osvrtom-na-rad-na-predmetima-opsteg-kriminala-2/
LOCATION:Banja Luka
CATEGORIES:Obuka za novoimenovane NPF
END:VEVENT
END:VCALENDAR