BEGIN:VCALENDAR
VERSION:2.0
PRODID:-//Javna ustanova Centar za edukaciju sudija i tužilaca u Republici Srpskoj - ECPv6.15.20//NONSGML v1.0//EN
CALSCALE:GREGORIAN
METHOD:PUBLISH
X-WR-CALNAME:Javna ustanova Centar za edukaciju sudija i tužilaca u Republici Srpskoj
X-ORIGINAL-URL:https://rs.cest.gov.ba
X-WR-CALDESC:Events for Javna ustanova Centar za edukaciju sudija i tužilaca u Republici Srpskoj
REFRESH-INTERVAL;VALUE=DURATION:PT1H
X-Robots-Tag:noindex
X-PUBLISHED-TTL:PT1H
BEGIN:VTIMEZONE
TZID:Europe/Sarajevo
BEGIN:DAYLIGHT
TZOFFSETFROM:+0100
TZOFFSETTO:+0200
TZNAME:CEST
DTSTART:20250330T010000
END:DAYLIGHT
BEGIN:STANDARD
TZOFFSETFROM:+0200
TZOFFSETTO:+0100
TZNAME:CET
DTSTART:20251026T010000
END:STANDARD
BEGIN:DAYLIGHT
TZOFFSETFROM:+0100
TZOFFSETTO:+0200
TZNAME:CEST
DTSTART:20260329T010000
END:DAYLIGHT
BEGIN:STANDARD
TZOFFSETFROM:+0200
TZOFFSETTO:+0100
TZNAME:CET
DTSTART:20261025T010000
END:STANDARD
BEGIN:DAYLIGHT
TZOFFSETFROM:+0100
TZOFFSETTO:+0200
TZNAME:CEST
DTSTART:20270328T010000
END:DAYLIGHT
BEGIN:STANDARD
TZOFFSETFROM:+0200
TZOFFSETTO:+0100
TZNAME:CET
DTSTART:20271031T010000
END:STANDARD
END:VTIMEZONE
BEGIN:VEVENT
DTSTART;TZID=Europe/Sarajevo:20260518T093000
DTEND;TZID=Europe/Sarajevo:20260518T140000
DTSTAMP:20260422T003147
CREATED:20260310T115752Z
LAST-MODIFIED:20260310T115752Z
UID:4765-1779096600-1779112800@rs.cest.gov.ba
SUMMARY:Pismena izrada presude
DESCRIPTION:U skladu sa Programom početne obuke i programom stručnog usavršavanja Centra za edukaciju sudija i tužilaca FBiH i Centra za edukaciju sudija i javnih tužilaca u RS za 2026. godinu\, realizovat će se Specijalistička obuka za sudije i tužioce koji rade na predmetima korupcije\, privrednog i organizovanog kriminala visokog nivoa – III godina.
URL:https://rs.cest.gov.ba/event/pismena-izrada-presude/
LOCATION:Banja Luka
CATEGORIES:Krivičnopravna oblast
END:VEVENT
BEGIN:VEVENT
DTSTART;TZID=Europe/Sarajevo:20260519T100000
DTEND;TZID=Europe/Sarajevo:20260519T150000
DTSTAMP:20260422T003147
CREATED:20260319T132505Z
LAST-MODIFIED:20260319T132505Z
UID:4807-1779184800-1779202800@rs.cest.gov.ba
SUMMARY:Sprovođenje istraga za krivično djelo Nasilje u porodici ili porodičnoj zajednici
DESCRIPTION:Na osnovu Programa stručnog usavršavanja i početne obuke za 2026. godinu\, Centar za edukaciju sudija i javnih tužilaca u Republici Srpskoj\, u saradnji sa Fondacijom Lara iz Bijeljine\, organizuje seminar iz krivičnopravne oblasti na temu: „Sprovođenje istraga za krivično djelo Nasilje u porodici ili porodičnoj zajednici“\, koji će se održati 19. maja 2026. godine u hotelu „Pirg“\, Etno selo Stanišići\, Bijeljina. \nEdukator će biti sudija Igor Cimeša\, Okružni sud u Banjoj Luci.\nPozivamo Vas\, da nam putem obrasca za prijavu (potpisanim od strane rukovodioca institucije)\, dostavite imena zainteresovanih učesnika koji bi željeli da prisustvuju seminaru\, najkasnije do 4. maja 2026. godine. Vaše prijave\, uz naznaku da li je potrebno obezbijediti noćenje u hotelu (18/19.5)\, molimo da dostavite na e-mail adresu: nikola.mitrovic@rs.cest.gov.ba ili faksom na broj: 051/434-040. \nDnevni red: \n10:15 – 11:00          Međunarodni okvir u istragama nasilja u porodici \n\nNasilje u porodici i Istanbulska konvencija\nNasilje u porodici u praksi Evropskog suda za ljudska prava\n\n11:00 – 11:45           Krivično djelo Nasilje u porodici ili porodičnoj zajednici \n\nKrivično djelo nasilje u porodici ili porodičnoj zajednici prema Krivičnom zakoniku Republike Srpske\nOdnos krivičnog djela nasilje u porodici ili porodičnoj zajednici sa povezanim krivičnim djelima i odnos prema radnjama nasilja u porodici prema Zakonu o zaštiti od nasilja u porodici\n\n11:45 – 12:15             Pauza \n12:15 – 13:15             Istraga krivičnog djela Nasilje u porodici ili porodičnoj zajednici \n\nStandard postupanja bez neopravdanog odgađanja\nPostupanje nakon prijema prijave o izvršenom krivičnom djelu\nDonošenje naredbe o sprovođenju istrage i obavještavanje oštećenog\nPrikupljanje dokaza o izvršenom krivičnom djelu\n\n13:15 – 14:15              Istraga krivičnog djela Nasilje u porodici ili porodičnoj zajednici – (nastavak) \n\nSaslušanje oštećenog krivičnim djelom i svjedoka krivičnog djela\nMjere zaštite svjedoka\nVještačenja u predmetima nasilja u porodici\nIspitivanje osumnjičenog\n\n14:15 – 14:45              Diskusija\, pitanja i odgovori \n14:45 – 15:00             Evaluacija seminara i završetak \n15:00                           Zajednički ručak
URL:https://rs.cest.gov.ba/event/sprovodjenje-istraga-za-krivicno-djelo-nasilje-u-porodici-ili-porodicnoj-zajednici/
LOCATION:Bijeljina
CATEGORIES:Krivičnopravna oblast
END:VEVENT
BEGIN:VEVENT
DTSTART;TZID=Europe/Sarajevo:20260603T180000
DTEND;TZID=Europe/Sarajevo:20260606T120000
DTSTAMP:20260422T003147
CREATED:20260318T131659Z
LAST-MODIFIED:20260420T100226Z
UID:4783-1780509600-1780747200@rs.cest.gov.ba
SUMMARY:XXIV Savjetovanje iz krivično pravne oblasti
DESCRIPTION:Zadovoljstvo nam je obavijestiti Vas da Udruženje sudija/sudaca u Federaciji Bosne i Hercegovine\, zajedno sa Centrom za edukaciju sudija i tužilaca u Federaciji Bosne i Hercegovine\, Centrom za edukaciju sudija i javnih tužilaca Republike Srpske\, Udruženjem sudija u Bosni i Hercegovini\, Udruženjem sudija Republike Srpske\, Udruženjem sudija Suda Bosne i Hercegovine\, Udruženjem žena sudija u Bosni i Hercegovini\, Udruženjem sudija Brčko Distrikta Bosne i Hercegovine\, Udruženjem tužilaca Bosne i Hercegovine\, Udruženjem tužitelja/tužilaca Federacije Bosne i Hercegovine\, Udruženjem tužilaca Republike Srpske\, Advokatskim komorama Federacije Bosne i Hercegovine\, Advokatskim komorama Republike Srpske\, Pravosudnom komisijom Brčko Distrikta Bosne i Hercegovine i Ministarstvom pravde Bosne i Hercegovine organiziraju  “XXIV SAVJETOVANJE IZ KRIVIČNOPRAVNE OBLASTI”\, koje će se održati u Neumu\, hotel „Zenit“\, od 03 do 06.juna/lipnja.2026. godine.\nTroškove sudjelovanja na savjetovanju učesnici snose sami. Za učešće na savjetovanju potrebno je da svaki sud\, tužilaštvo\, institucija ili učesnik osobno izvrše rezervaciju smještaja za vrijeme trajanja savjetovanja.\nPlanirani dolazak i registracija učesnika na savjetovanju je 03.06.2026. godine a savjetovanje počinje 04.06.2026. i traje do 06.06.2026. godine.\nCijene usluga u hotelu „Zenit“ u Neumu samo za učesnike savjetovanja su:\n➢ Jednokrevetna soba na bazi punog pansiona 152\,00 KM\,\n➢ Jednokrevetna soba na bazi polupansiona 140\,00 KM\,\n➢ Dvokrevetna soba na bazi punog pansiona 108\,00 KM\, po osobi\n➢ Dvokrevetna soba na bazi polupansiona 96\,00 KM\, po osobi\n➢ Noćenje sa doručkom u jednokrevetnoj sobi 128\,00 KM\,\n➢ Noćenje sa doručkom u dvokrevetnoj sobi 84\,00 KM\, po osobi\nBoravišna taksa 3\,00 KM po osobi i danu.\nMolimo Vas da rezervaciju smještaja izvršite na rezervacijskom obrascu koji je u prilogu pisma\, na fax hotela\, broj: +387(0)36-880-140 ili e-mail hotela info@hotel-zenit.com\nZa sve dodatne informacije o rezervaciji možete kontaktirati Hotel „Zenit“ Neum\, na broj telefona: +387(0)36- 880-144\, ili na e-mail: info@hotel-zenit.com\nUčesnici savjetovanja mogu biti slobodni i odabrati smještaj u nekom drugom objektu u Neumu po vlastitom izboru i po tržišnim cijenama.\nKOTIZACIJA za savjetovanje iznosi 150\,oo KM po učesniku \nProgram rada Neum 2026
URL:https://rs.cest.gov.ba/event/xxiv-savjetovanje-iz-krivicno-pravne-oblasti/
LOCATION:Neum
CATEGORIES:Krivičnopravna oblast
END:VEVENT
BEGIN:VEVENT
DTSTART;TZID=Europe/Sarajevo:20260922T093000
DTEND;TZID=Europe/Sarajevo:20260922T140000
DTSTAMP:20260422T003147
CREATED:20260310T115619Z
LAST-MODIFIED:20260310T115619Z
UID:4763-1790069400-1790085600@rs.cest.gov.ba
SUMMARY:Činjenični opis krivilnih djela korupcije i organizovanog kriminala
DESCRIPTION:U skladu sa Programom početne obuke i programom stručnog usavršavanja Centra za edukaciju sudija i tužilaca FBiH i Centra za edukaciju sudija i javnih tužilaca u RS za 2026. godinu\, realizovat će se Specijalistička obuka za sudije i tužioce koji rade na predmetima korupcije\, privrednog i organizovanog kriminala visokog nivoa – III godina.
URL:https://rs.cest.gov.ba/event/cinjenicni-opis-krivilnih-djela-korupcije-i-organizovanog-kriminala/
LOCATION:Sarajevo
CATEGORIES:Krivičnopravna oblast
END:VEVENT
BEGIN:VEVENT
DTSTART;TZID=Europe/Sarajevo:20261020T093000
DTEND;TZID=Europe/Sarajevo:20261020T140000
DTSTAMP:20260422T003147
CREATED:20260310T115408Z
LAST-MODIFIED:20260310T115408Z
UID:4761-1792488600-1792504800@rs.cest.gov.ba
SUMMARY:Aspekti oduzimanja imovinske koristi pribavljene krivičnim djelom
DESCRIPTION:U skladu sa Programom početne obuke i programom stručnog usavršavanja Centra za edukaciju sudija i tužilaca FBiH i Centra za edukaciju sudija i javnih tužilaca u RS za 2026. godinu\, realizovat će se Specijalistička obuka za sudije i tužioce koji rade na predmetima korupcije\, privrednog i organizovanog kriminala visokog nivoa – III godina.
URL:https://rs.cest.gov.ba/event/aspekti-oduzimanja-imovinske-koristi-pribavljene-krivicnim-djelom/
LOCATION:Sarajevo
CATEGORIES:Krivičnopravna oblast
END:VEVENT
BEGIN:VEVENT
DTSTART;TZID=Europe/Sarajevo:20261112T093000
DTEND;TZID=Europe/Sarajevo:20261112T140000
DTSTAMP:20260422T003147
CREATED:20260310T115933Z
LAST-MODIFIED:20260310T115933Z
UID:4767-1794475800-1794492000@rs.cest.gov.ba
SUMMARY:Vještina pisanja tužilačkih akata
DESCRIPTION:U skladu sa Programom početne obuke i programom stručnog usavršavanja Centra za edukaciju sudija i tužilaca FBiH i Centra za edukaciju sudija i javnih tužilaca u RS za 2026. godinu\, realizovat će se Specijalistička obuka za sudije i tužioce koji rade na predmetima korupcije\, privrednog i organizovanog kriminala visokog nivoa – III godina.
URL:https://rs.cest.gov.ba/event/vjestina-pisanja-tuzilackih-akata/
LOCATION:Sarajevo
CATEGORIES:Krivičnopravna oblast
END:VEVENT
BEGIN:VEVENT
DTSTART;TZID=Europe/Sarajevo:20261204T093000
DTEND;TZID=Europe/Sarajevo:20261204T140000
DTSTAMP:20260422T003147
CREATED:20260310T120106Z
LAST-MODIFIED:20260310T120106Z
UID:4769-1796376600-1796392800@rs.cest.gov.ba
SUMMARY:Završna aktivnost
DESCRIPTION:U skladu sa Programom početne obuke i programom stručnog usavršavanja Centra za edukaciju sudija i tužilaca FBiH i Centra za edukaciju sudija i javnih tužilaca u RS za 2026. godinu\, realizovat će se Specijalistička obuka za sudije i tužioce koji rade na predmetima korupcije\, privrednog i organizovanog kriminala visokog nivoa – III godina.
URL:https://rs.cest.gov.ba/event/zavrsna-aktivnost/
LOCATION:Banja Luka
CATEGORIES:Krivičnopravna oblast
END:VEVENT
END:VCALENDAR