BEGIN:VCALENDAR
VERSION:2.0
PRODID:-//Javna ustanova Centar za edukaciju sudija i tužilaca u Republici Srpskoj - ECPv6.15.20//NONSGML v1.0//EN
CALSCALE:GREGORIAN
METHOD:PUBLISH
X-ORIGINAL-URL:https://rs.cest.gov.ba
X-WR-CALDESC:Events for Javna ustanova Centar za edukaciju sudija i tužilaca u Republici Srpskoj
REFRESH-INTERVAL;VALUE=DURATION:PT1H
X-Robots-Tag:noindex
X-PUBLISHED-TTL:PT1H
BEGIN:VTIMEZONE
TZID:Europe/Sarajevo
BEGIN:DAYLIGHT
TZOFFSETFROM:+0100
TZOFFSETTO:+0200
TZNAME:CEST
DTSTART:20250330T010000
END:DAYLIGHT
BEGIN:STANDARD
TZOFFSETFROM:+0200
TZOFFSETTO:+0100
TZNAME:CET
DTSTART:20251026T010000
END:STANDARD
BEGIN:DAYLIGHT
TZOFFSETFROM:+0100
TZOFFSETTO:+0200
TZNAME:CEST
DTSTART:20260329T010000
END:DAYLIGHT
BEGIN:STANDARD
TZOFFSETFROM:+0200
TZOFFSETTO:+0100
TZNAME:CET
DTSTART:20261025T010000
END:STANDARD
BEGIN:DAYLIGHT
TZOFFSETFROM:+0100
TZOFFSETTO:+0200
TZNAME:CEST
DTSTART:20270328T010000
END:DAYLIGHT
BEGIN:STANDARD
TZOFFSETFROM:+0200
TZOFFSETTO:+0100
TZNAME:CET
DTSTART:20271031T010000
END:STANDARD
END:VTIMEZONE
BEGIN:VEVENT
DTSTART;TZID=Europe/Sarajevo:20260326T100000
DTEND;TZID=Europe/Sarajevo:20260327T153000
DTSTAMP:20260421T195723
CREATED:20260205T114800Z
LAST-MODIFIED:20260312T115833Z
UID:4698-1774519200-1774625400@rs.cest.gov.ba
SUMMARY:Primjena Zakona o zaštiti i postupanju sa djecom i maloljetnicima u krivičnom postupku u praksi
DESCRIPTION:Centar za edukaciju sudija i javnih tužilaca u Republici Srpskoj\, na osnovu Programa edukacije za sticanje posebnih znanja i kontinuirano stručno osposobljavanje i usavršavanje sudija i tužilaca iz oblasti prava djeteta\, prestupništva mladih i njihove krivičnopravne zaštite\, organizuje specijalističku obuku za nosioce pravosudnih koji će postupati prema Zakonu o zaštiti i postupanju sa djecom i maloljetnicima u krivičnom postupku („Službeni glasnik Republike Srpske“\, br. 13/10\, 61/13 i 68/20)\, u sljedećim terminima: \n1. ciklus: Krivični postupak prema djeci i maloljetnicima – 3. i 4. mart 2026. godine\, mjesto održavanja: Banja Luka\, CEST RS\,\n2. ciklus: Primjena Zakona o zaštiti i postupanju sa djecom i maloljetnicima u krivičnom postupku u praksi – 26. i 27. mart 2026. godine\, mjesto održavanja: Banja Luka\, CEST RS i\n3. ciklus: Psihologija maloljetnika i uloga organa starateljstva u postupcima prema maloljetnicima\, 16. i 17. april 2026. godine\, mjesto održavanja: Banja Luka\, CEST RS i KPZ Banja Luka\, Odjeljenje vaspitno-popravnog doma. \nVaše prijave\, uz naznaku za koju obuku se prijavljujete i da li Vam je potrebno obezbijediti noćenje\, potpisane od strane rukovodioca institucije\, molimo da dostavite na e-mail adresu: nikola.mitrovic@rs.cest.gov.ba najkasnije do 20. februara 2026. godine. \nNapomena: Za ispunjenje uslova za sticanje certifikata u skladu sa odredbom člana 197. Zakona o zaštiti i postupanju sa djecom i maloljetnicima u krivičnom postupku\, nosioci pravosudnih funkcija dužni su pohađati sve tematske cjeline iz odgovarajućeg Specijalističkog programa obuke\, u skladu sa odlukom Visokog sudskog i tužilačkog savjeta BiH od 15.01.2026. godine. \nEdukatori na ovom seminaru su: Dragan Uletilović\, sudija Okružnog suda u Banjoj Luci i Željka Fabić\, okružni javni tužilac\, Okružno javno tužilaštvo u Banjoj Luci \nDnevni red: \n26.mart \n10\,00 – 10\,15         Otvaranje obuke i uvodna riječ organizatora \n10\,15 – 11\,00          Prezentacija:  Vaspitne preporuke kao mjere preusmjeravanja od redovnog krivičnog postupka prema maloljetnicima (Pravilnik o primjeni vaspitnih preporuka prema maloljetnim izvršiocima krivičnih djela) sa primjerima iz sudske prakse (I dio) \n11\,00 – 11\,15           Pauza \n11\,15-  12\,00            Prezentacija:  Vaspitne preporuke kao mjere preusmjeravanja od redovnog krivičnog postupka prema maloljetnicima (Pravilnik o primjeni vaspitnih preporuka prema maloljetnim izvršiocima krivičnih djela) sa primjerima iz sudske prakse (II dio) \n12\,00– 12\,45          Prezentacija: Posebna pravila postupanja prema djeci i maloljetnicima koji se u krivičnom postupku protiv punoljetnih učinilaca krivičnih djela na štetu djece i maloljetnika pojavljuju kao žrtve ili svjedoci-očevici učinjenog djela\nProvođenje krivičnog postupka i postupanje\nUloga stručnih savjetnika i stručnih lica \n12\,45-13\,00             Pauza \n13\,00-13\,45             Primjena Zakona u praksi i zaštita djece žrtava i njihova resocijalizacija – praktični primjeri \n13\,45- 14\,15             Diskusija \n14\,15- 14\,30             Rezime\, zaključci\, evaluacija obuke \n27.mart \n10\,00 – 10\,05         Otvaranje obuke i uvodna riječ organizatora \n10\,05 – 11\,30          Krivična djela počinjena na štetu djece \n11\,30 – 12\,00          Pauza \n12\,00 – 13\,30          Saslušanje djece u krivičnom postupku (uloga stručnih savjetnika i stručnih lica) \n13\,30 – 13\,45           Pauza \n13\,45 – 15\,30            Praktični primjeri \n 
URL:https://rs.cest.gov.ba/event/primjena-zakona-o-zastiti-i-postupanju-sa-djecom-i-maloljetnicima-u-krivicnom-postupku-u-praksi-3/
LOCATION:Banja Luka
CATEGORIES:Krivičnopravna oblast
END:VEVENT
END:VCALENDAR