BEGIN:VCALENDAR
VERSION:2.0
PRODID:-//Javna ustanova Centar za edukaciju sudija i tužilaca u Republici Srpskoj - ECPv6.15.20//NONSGML v1.0//EN
CALSCALE:GREGORIAN
METHOD:PUBLISH
X-ORIGINAL-URL:https://rs.cest.gov.ba
X-WR-CALDESC:Events for Javna ustanova Centar za edukaciju sudija i tužilaca u Republici Srpskoj
REFRESH-INTERVAL;VALUE=DURATION:PT1H
X-Robots-Tag:noindex
X-PUBLISHED-TTL:PT1H
BEGIN:VTIMEZONE
TZID:Europe/Sarajevo
BEGIN:DAYLIGHT
TZOFFSETFROM:+0100
TZOFFSETTO:+0200
TZNAME:CEST
DTSTART:20250330T010000
END:DAYLIGHT
BEGIN:STANDARD
TZOFFSETFROM:+0200
TZOFFSETTO:+0100
TZNAME:CET
DTSTART:20251026T010000
END:STANDARD
BEGIN:DAYLIGHT
TZOFFSETFROM:+0100
TZOFFSETTO:+0200
TZNAME:CEST
DTSTART:20260329T010000
END:DAYLIGHT
BEGIN:STANDARD
TZOFFSETFROM:+0200
TZOFFSETTO:+0100
TZNAME:CET
DTSTART:20261025T010000
END:STANDARD
BEGIN:DAYLIGHT
TZOFFSETFROM:+0100
TZOFFSETTO:+0200
TZNAME:CEST
DTSTART:20270328T010000
END:DAYLIGHT
BEGIN:STANDARD
TZOFFSETFROM:+0200
TZOFFSETTO:+0100
TZNAME:CET
DTSTART:20271031T010000
END:STANDARD
END:VTIMEZONE
BEGIN:VEVENT
DTSTART;TZID=Europe/Sarajevo:20260313T090000
DTEND;TZID=Europe/Sarajevo:20260313T140000
DTSTAMP:20260421T195723
CREATED:20260304T105001Z
LAST-MODIFIED:20260310T104938Z
UID:4738-1773392400-1773410400@rs.cest.gov.ba
SUMMARY:Postupanje u predmetima krivičnih djela počinjenih iz mržnje i govora mržnje
DESCRIPTION:Na osnovu Programa stručnog usavršavanja i početne obuke za 2026. godinu\, Centar za edukaciju sudija i javnih tužilaca u RS\, u saradnji sa Centrom za edukaciju sudija i tužilaca u FBiH i Atlantskom inicijativom\, organizuje multisektorsku edukaciju za sudije\, tužioce i policije na temu: „Postupanje u predmetima krivičnih djela počinjenih iz mržnje i govora mržnje“\, koja će se održati 13. marta 2026. godine u hotelu “Monti”\, Igman. \nCilj radionice je unapređenje znanja i razmjena iskustava u vezi sa prepoznavanjem\, kvalifikacijom i procesuiranjem krivičnih djela iz mržnje i govora mržnje\, u skladu sa važećim pravnim okvirom i relevantnom sudskom praksom. Organizatori snose troškove putovanja\, smještaja i boravka učesnika. \nIzlagači: Melika Murtezić\, Kantonalni sud Sarajevo\, Dalibor Vrećo\, Okružni sud Banja Luka i Halisa Skopljak\, Misija OSCE-a u BiH \nDnevni red: \n9:00 – 9:15         Uvod u edukaciju i upoznavanje \n9:15-9:45             Koncept krivičnih djela učinjenih iz mržnje i govora mržnje \nVježba/diskusija \n9:45-10:45           Krivična djela iz mržnje i govor mržnje-zakonodavni okvir i sudska praksa \n10:45-11:15          Pauza \n11:30-12:30         Krivičnih djela učinjena iz mržnje: istraga i prikaz slučaja \n12:30-13:30         Praćenje krivičnih djela počinjenih iz mržnje i incidenata motivisanih predrasudama \nVježba/diskusija \n13:30-14:00         Zaključci i evaluacija radionice \n14:00                     Ručak
URL:https://rs.cest.gov.ba/event/4738/
LOCATION:Igman
CATEGORIES:Krivičnopravna oblast
END:VEVENT
END:VCALENDAR