BEGIN:VCALENDAR
VERSION:2.0
PRODID:-//Javna ustanova Centar za edukaciju sudija i tužilaca u Republici Srpskoj - ECPv6.15.20//NONSGML v1.0//EN
CALSCALE:GREGORIAN
METHOD:PUBLISH
X-WR-CALNAME:Javna ustanova Centar za edukaciju sudija i tužilaca u Republici Srpskoj
X-ORIGINAL-URL:https://rs.cest.gov.ba
X-WR-CALDESC:Events for Javna ustanova Centar za edukaciju sudija i tužilaca u Republici Srpskoj
REFRESH-INTERVAL;VALUE=DURATION:PT1H
X-Robots-Tag:noindex
X-PUBLISHED-TTL:PT1H
BEGIN:VTIMEZONE
TZID:Europe/Sarajevo
BEGIN:DAYLIGHT
TZOFFSETFROM:+0100
TZOFFSETTO:+0200
TZNAME:CEST
DTSTART:20240331T010000
END:DAYLIGHT
BEGIN:STANDARD
TZOFFSETFROM:+0200
TZOFFSETTO:+0100
TZNAME:CET
DTSTART:20241027T010000
END:STANDARD
BEGIN:DAYLIGHT
TZOFFSETFROM:+0100
TZOFFSETTO:+0200
TZNAME:CEST
DTSTART:20250330T010000
END:DAYLIGHT
BEGIN:STANDARD
TZOFFSETFROM:+0200
TZOFFSETTO:+0100
TZNAME:CET
DTSTART:20251026T010000
END:STANDARD
BEGIN:DAYLIGHT
TZOFFSETFROM:+0100
TZOFFSETTO:+0200
TZNAME:CEST
DTSTART:20260329T010000
END:DAYLIGHT
BEGIN:STANDARD
TZOFFSETFROM:+0200
TZOFFSETTO:+0100
TZNAME:CET
DTSTART:20261025T010000
END:STANDARD
END:VTIMEZONE
BEGIN:VEVENT
DTSTART;TZID=Europe/Sarajevo:20250923T090000
DTEND;TZID=Europe/Sarajevo:20250924T163000
DTSTAMP:20260422T051358
CREATED:20250905T103801Z
LAST-MODIFIED:20250905T103801Z
UID:4492-1758618000-1758731400@rs.cest.gov.ba
SUMMARY:Prevazilaženje razlika\, izgradnja povjerenja- Jačanje digitalne otpornosti i kapaciteta za sajber sigurnost
DESCRIPTION:Na osnovu Programa stručnog usavršavanja i početne obuke za 2025. godinu\, Centar za edukaciju sudija i javnih tužilaca u Republici Srpskoj i Centra za edukaciju sudija i tužilaca u FBiH\, u saradnji sa CRDF Global\, organizuju interaktivnu radionicu na temu: „Prevazilaženje razlika\, izgradnja povjerenja- Jačanje digitalne otpornosti i kapaciteta za sajber sigurnost u pravosudnom sektoru Bosne i Hercegovine “\, koji će se održati 23. i 24. septembra 2025. godine u hotelu Jelena\, Banja Luka. \n 
URL:https://rs.cest.gov.ba/event/prevazilazenje-razlika-izgradnja-povjerenja-jacanje-digitalne-otpornosti-i-kapaciteta-za-sajber-sigurnost/
LOCATION:Banja Luka
CATEGORIES:Krivičnopravna oblast
END:VEVENT
END:VCALENDAR