BEGIN:VCALENDAR
VERSION:2.0
PRODID:-//Javna ustanova Centar za edukaciju sudija i tužilaca u Republici Srpskoj - ECPv6.15.20//NONSGML v1.0//EN
CALSCALE:GREGORIAN
METHOD:PUBLISH
X-ORIGINAL-URL:https://rs.cest.gov.ba
X-WR-CALDESC:Events for Javna ustanova Centar za edukaciju sudija i tužilaca u Republici Srpskoj
REFRESH-INTERVAL;VALUE=DURATION:PT1H
X-Robots-Tag:noindex
X-PUBLISHED-TTL:PT1H
BEGIN:VTIMEZONE
TZID:Europe/Sarajevo
BEGIN:DAYLIGHT
TZOFFSETFROM:+0100
TZOFFSETTO:+0200
TZNAME:CEST
DTSTART:20240331T010000
END:DAYLIGHT
BEGIN:STANDARD
TZOFFSETFROM:+0200
TZOFFSETTO:+0100
TZNAME:CET
DTSTART:20241027T010000
END:STANDARD
BEGIN:DAYLIGHT
TZOFFSETFROM:+0100
TZOFFSETTO:+0200
TZNAME:CEST
DTSTART:20250330T010000
END:DAYLIGHT
BEGIN:STANDARD
TZOFFSETFROM:+0200
TZOFFSETTO:+0100
TZNAME:CET
DTSTART:20251026T010000
END:STANDARD
BEGIN:DAYLIGHT
TZOFFSETFROM:+0100
TZOFFSETTO:+0200
TZNAME:CEST
DTSTART:20260329T010000
END:DAYLIGHT
BEGIN:STANDARD
TZOFFSETFROM:+0200
TZOFFSETTO:+0100
TZNAME:CET
DTSTART:20261025T010000
END:STANDARD
END:VTIMEZONE
BEGIN:VEVENT
DTSTART;TZID=Europe/Sarajevo:20250505T080000
DTEND;TZID=Europe/Sarajevo:20250509T170000
DTSTAMP:20260422T121333
CREATED:20250401T090227Z
LAST-MODIFIED:20250401T090227Z
UID:4094-1746432000-1746810000@rs.cest.gov.ba
SUMMARY:Borba protiv nedozvoljene trgovine kulturnim dobrima korištenjem tehnologije
DESCRIPTION:Kancelarija UNESCO u BiH\, u saradnji sa Agencijom za školovanje i stručno usavršavanje kadrova\, Centrom za edukaciju sudija i javnih tužilaca u Republici Srpskoj i Centrom za edukaciju sudija i tužilaca u FBiH\, u okviru projekta “Borba protiv nedozvoljene trgovine kulturnim dobrima na Zapadnom Balkanu” organizuje: \n„Obuku budućih trenera: Borba protiv nedozvoljene trgovine kulturnim dobrima korištenjem tehnologije“\, koja će se održati od 5. do 9. maja 2025. godine u Mostaru\, u prostorijama Agencije za školovanje i stručno usavršavanje kadrova. \nPredavači na obuci koji će donijeti svoju stručnost i podijeliti svoje iskustvo kroz stvarne studije slučaja uključuju predstavnike međunarodnih organizacija kao što su UNESCO\, INTERPOL\, EUROPOL\, španjolska Guardia Civil\, turske policijske snage – Središnji ured za kulturna dobra KOM\, Ministarstvo kulture Španjolske\, Ministarstvo kulture i turizma Turske\, kao i stručnjaci iz regije.
URL:https://rs.cest.gov.ba/event/borba-protiv-nedozvoljene-trgovine-kulturnim-dobrima-koristenjem-tehnologije/
LOCATION:Mostar
CATEGORIES:Krivičnopravna oblast
END:VEVENT
BEGIN:VEVENT
DTSTART;TZID=Europe/Sarajevo:20250508T100000
DTEND;TZID=Europe/Sarajevo:20250508T143000
DTSTAMP:20260422T121333
CREATED:20250505T110121Z
LAST-MODIFIED:20250505T110121Z
UID:4167-1746698400-1746714600@rs.cest.gov.ba
SUMMARY:Trendovi u vezi nedozvoljenih sintetičkih droga i tehničke proizvodnje
DESCRIPTION:Ministarstvo unutrašnjih poslova Republike Srpske\, u saradnji sa Centrom za edukaciju sudija i javnih tužilaca u Republici Srpskoj\, organizuje seminar iz krivičnopravne oblasti za pripadnike MUP-a Republike Srpske i nosioce pravosudnih funkcija na temu: „Trendovi u vezi nedozvoljenih sintetičkih droga i tehničke proizvodnje“\, koji će se održati 8. maja 2025. godine u 10.00 časova u amfiteatru Uprave za policijsko obrazovanje u Centru za obuku „Zalužani“. \nEdukatori će biti pripadnici Nacionalnog tima za ilegalne laboratorije MUP-a Republike Srbije\, glavni instruktor Saša Gajić\, te instruktori tima Nataša Jovanović i Hernard Bem.
URL:https://rs.cest.gov.ba/event/trendovi-u-vezi-nedozvoljenih-sintetickih-droga-i-tehnicke-proizvodnje/
LOCATION:Banja Luka
CATEGORIES:Krivičnopravna oblast
END:VEVENT
BEGIN:VEVENT
DTSTART;TZID=Europe/Sarajevo:20250512T100000
DTEND;TZID=Europe/Sarajevo:20250513T140000
DTSTAMP:20260422T121333
CREATED:20250328T095001Z
LAST-MODIFIED:20250506T094234Z
UID:4087-1747044000-1747144800@rs.cest.gov.ba
SUMMARY:Primjena Zakona o zaštiti i postupanju sa djecom i maloljetnicima u krivičnom postupku u praksi
DESCRIPTION:Centar za edukaciju sudija i javnih tužilaca u Republici Srpskoj\, na osnovu Programa edukacije za sticanje posebnih znanja i kontinuirano stručno osposobljavanje i usavršavanje sudija i tužilaca iz oblasti dječijih prava\, prestupništva mladih i njihove krivičnopravne zaštite\, organizuje drugi ovogodišnji seminar za sudije i javne tužioce\, koji će postupati prema Zakonu o zaštiti i postupanju sa djecom i maloljetnicima u krivičnom postupku („Službeni glasnik Republike Srpske“\, br. 13/10\, 61/13 i 68/20)\, na temu: „Primjena Zakona o zaštiti i postupanju sa djecom i maloljetnicima u krivičnom postupku u praksi“\, koji će se održati 12. i 13. maja 2025. godine u prostorijama Centra za edukaciju sudija i javnih tužilaca u RS\, Bulevar vojvode Stepe Stepanovića 60\, Banja Luka. \nIzlagači na seminaru su: okružni javni tužilac Željka Fabić\, Okružno javno tužilaštvo u Banjoj Luci i sudija Dragan Uletilović\, Okružni sud u Banjoj Luci. \nDnevni red: \n10\,00 – 10\,05      Otvaranje obuke i uvodna riječ organizatora \n10\,05 – 11\,30        Krivična djela počinjena na štetu djece \n11\,30 – 12\,00        Pauza \n12\,00 – 13\,30       Saslušanje djece u krivičnom postupku (uloga stručnih savjetnika i stručnih lica) \n13\,30 – 13\,45        Pauza
URL:https://rs.cest.gov.ba/event/primjena-zakona-o-zastiti-i-postupanju-sa-djecom-i-maloljetnicima-u-krivicnom-postupku-u-praksi/
LOCATION:Banja Luka
CATEGORIES:Krivičnopravna oblast
END:VEVENT
BEGIN:VEVENT
DTSTART;TZID=Europe/Sarajevo:20250519T100000
DTEND;TZID=Europe/Sarajevo:20250520T143000
DTSTAMP:20260422T121333
CREATED:20250423T120742Z
LAST-MODIFIED:20250423T120742Z
UID:4151-1747648800-1747751400@rs.cest.gov.ba
SUMMARY:Prezentacija zakonskih rješenja i sudske prakse u BiH – neovlašteni promet oružjem i vojnom opremom te proizvodima dvojne namjene
DESCRIPTION:Na osnovu Programa stručnog usavršavanja i početne obuke za 2025. godinu\, Centar za edukaciju sudija i javnih tužilaca u Republici Srpskoj\, u saradnji sa UNODC-Globalnim programom za vatreno oružje\, organizuje seminar iz krivičnopravne oblasti na temu: „Prezentacija zakonskih rješenja i sudske prakse u BiH – neovlašteni promet oružjem i vojnom opremom te proizvodima dvojne namjene“\, koji će se održati 19. i 20. maja 2025. godine u prostorijama Centra za edukaciju sudija i javnih tužilaca u Republici Srpskoj\, Bulevar vojvode Stepe Stepanovića 60\, Banja Luka. \nEdukatori će biti dr Miodrag Bajić\, zamjenik glavnog republičkog tužioca-specijalni tužilac\, Republičko javno tužilaštvo RS\, Sanita Imamović\, tužilac Tužilaštva BiH\, Marijana Milić\, pomoćnik ministra\, Ministarstvo spoljne trgovine i ekonomskih odnosa i predstavnici MUP-a Republike Srpske. U okviru prvog dana seminara\, biće organizovana i posjeta balističkoj laboratoriji MUP-a Republike Srpske.
URL:https://rs.cest.gov.ba/event/prezentacija-zakonskih-rjesenja-i-sudske-prakse-u-bih-neovlasteni-promet-oruzjem-i-vojnom-opremom-te-proizvodima-dvojne-namjene/
LOCATION:Banja Luka
CATEGORIES:Krivičnopravna oblast
END:VEVENT
BEGIN:VEVENT
DTSTART;TZID=Europe/Sarajevo:20250523T093000
DTEND;TZID=Europe/Sarajevo:20250523T153000
DTSTAMP:20260422T121333
CREATED:20250423T122831Z
LAST-MODIFIED:20250423T122831Z
UID:4153-1747992600-1748014200@rs.cest.gov.ba
SUMMARY:Unaprijeđenje postupanja policijskih inspektora i tužilaca u istrazi i procesuiranju slučajeva seksualnog nasilja u RS
DESCRIPTION:Na osnovu Programa stručnog usavršavanja i početne obuke za 2025. godinu\, Centar za edukaciju sudija i javnih tužilaca u Republici Srpskoj\, u saradnji sa Atlantskom inicijativom\, organizuje seminar iz krivičnopravne oblasti na temu: „Unaprijeđenje postupanja policijskih inspektora i tužilaca u istrazi i procesuiranju slučajeva seksualnog nasilja u Republici Srpskoj“\, koji će se održati 23. maja 2025. godine u hotelu “Jelena”\, Banja Luka. \nIzlagači na ovom seminaru će biti: Nikolina Grbić-Pavlović\, inspektor Odsjeka za seksualne delikte\, maloljetničku delinkvenciju i nasilje u porodici MUP-a Republike Srpske\, Miroslav Kotur\, tužilac\, Okružno javno tužilaštvo u Banjoj Luci i Olga Lola Ninković\, rukovodilac Odjela za podršku svjedocima\, Okružni sud u Banjoj Luci \nDnevni red: \n9:30 – 11:00       Postupanje policijskih inspektora u istrazi i procesuiranju slučajeva seksualnog nasilja u Republici Srpskoj \n11:00 – 11:30       Pauza \n11:30 – 13:00      Unaprjeđenje postupanja policijskih inspektora i tužilaca u istrazi i procesuiranju slučajeva seksualnog nasilja \n13:00 – 14:00     Ručak \n14:00 – 15:30     Podrška žrtvama seksualnog nasilja \n15:30 – 15:45      Evaluacija i finalizacija Radionice
URL:https://rs.cest.gov.ba/event/unaprijedjenje-postupanja-policijskih-inspektora-i-tuzilaca-u-istrazi-i-procesuiranju-slucajeva-seksualnog-nasilja-u-rs/
LOCATION:Banja Luka
CATEGORIES:Krivičnopravna oblast
END:VEVENT
BEGIN:VEVENT
DTSTART;TZID=Europe/Sarajevo:20250526T133000
DTEND;TZID=Europe/Sarajevo:20250527T130000
DTSTAMP:20260422T121333
CREATED:20250526T092025Z
LAST-MODIFIED:20250526T092025Z
UID:4208-1748266200-1748350800@rs.cest.gov.ba
SUMMARY:Koordinacioni sastanak sudija i tužilaca koji postupaju u predmetima u kojima se pojavljuju djeca i maloljetnici
DESCRIPTION:Na osnovu Programa stručnog usavršavanja i početne obuke za 2025. godinu\, Centar za edukaciju sudija i javnih tužilaca u Republici Srpskoj\, u saradnji sa Centrom za edukaciju sudija i tužilaca u FBiH\, a uz podršku UNICEF-ovog projekta „Pravda za svako dijete“\, organizuje: „Koordinacioni sastanak sudija i tužilaca koji postupaju u predmetima u kojima se pojavljuju djeca i maloljetnici”\, koji će se održati 26. i 27. maja 2025. godine u Banjaluci hotel “Jelena”. \nKroz dosadašnju saradnju predviđeno je da na ovom sastanku\, koji će se realizovati u formi okruglog stola\, pažnju usmjerimo ka smještaju djece u toku sudskog postupka i podršku djeci žrtvama svjedocima nakon završetka postupka\, zatim trendove iz oblasti seksualnog iskorištavanja i zlostavljanja djece u digitalnom okruženju i ostale teme koje nam predložite za koje smatrate da trebaju biti predmet sastanka. Takođe\, možete predložiti određenu temu koju planirate Vi izlagati tokom okruglog stola. \nIzlagači su: Željka Fabić\, okružni javni tužilac\, Okružno javno tužilaštvo u Banjoj Luci i Darko Vukić\, Ministarstvo unuštrašnjih poslova RS – Odjeljenje za visokotehnološki kriminalitet \nDnevni red: \nPrvi dan: Ponedjeljak 26.05.2025. godine  \n13:15 -13:25  – Pozdravni govor od strane predstavnika UNICEF BiH i CEST F BIH I CEST RS \n13:25-14:15 – Diskusija povodom zaključka sa prethodnog Koordinacionog sastanka \n„Formiranje Radne grupe koju će činiti predstavnici nadležnih institucija\, (kantonalna tužilaštva F BIH\, Ministarstvo rada i socijalne politike F BIH\, Federalno ministarstvo pravde F BIH\, Centri za socijalni rad pri opštinama\, Centra za mentalno zdravlje)\, gdje će se izložiti problemi u praksi\, predložiti protokoli i mjere zajedničkog pristupanja navedenoj problematici oko trenutnog smještaja djece i maloljetnika odnosno da se izvrši analiza ko konkretno od kojih ustanova ima koje nadležnosti u okviru brige i zaštite djece i maloljetnika“. \n14:15-14:45 Pauza za kafu \n14:45-15:30- „Krivična djela na štetu djece“ \n\n„Predstavljanje problema u praksi od strane prisutnih pojedinačno po tužilaštvima u vezi problema sa kojima se susreću u praksi u pogledu provremenog smještaja i zaštite djece u toku i poslije okončanja postupka“\n\n15:15-16:00- Razno \nDrugi dan: Utorak 27.05.2025. godine  \n09:00-10:00    Diskusija i zaključci povodom realizacije iznesene problematike prvi dan \n10:00-10:30 –  Pauza \n10:30-12:00 –  “Noviteti u oblicima krivičnih djela seksualnog zlostavljanja i iskorištavanja djece   koristeći informaciono komunikacijske tehnologije \n12:00-13:00 Ručak \n 
URL:https://rs.cest.gov.ba/event/koordinacioni-sastanak-sudija-i-tuzilaca-koji-postupaju-u-predmetima-u-kojima-se-pojavljuju-djeca-i-maloljetnici/
LOCATION:Banja Luka
CATEGORIES:Krivičnopravna oblast
END:VEVENT
BEGIN:VEVENT
DTSTART;TZID=Europe/Sarajevo:20250530T100000
DTEND;TZID=Europe/Sarajevo:20250530T143000
DTSTAMP:20260422T121333
CREATED:20250429T110909Z
LAST-MODIFIED:20250526T081933Z
UID:4164-1748599200-1748615400@rs.cest.gov.ba
SUMMARY:Efikasno planiranje i rukovođenje glavnim pretresom
DESCRIPTION:Na osnovu Programa stručnog usavršavanja i početne obuke za 2025. godinu\, Centar za edukaciju sudija i javnih tužilaca u Republici Srpskoj organizuje seminar iz krivičnopravne oblasti na temu: „Efikasno planiranje i rukovođenje glavnim pretresom“\, koji će se održati 30. maja 2025. godine u prostorijama Centra za edukaciju sudija i javnih tužilaca u Republici Srpskoj\, u Banjoj Luci (ul. Vojvode Stepe Stepanovića br. 60). \nEdukator na ovom seminaru će biti sudija mr Srđan Forca\, Okružni sud u Banjoj Luci. \nDnevni red: \n9:45 – 10:00       Registracija učesnika\n10:00 – 10:15     Uvodno obraćanje- predstavnici CEST-a\n10:15 – 12:00     Održavanje pretrpretresnog ročišta\, pripremanje i rukovođenje glavnim pretresom\n– primjeri iz prakse –\n12:00 – 12:30      Pauza za kafu\n12:30 – 14:00     1. Održavanje glavnog pretresa\n2. Dokazni postupak\, izmjena optužnice i završne riječi\n– primjeri iz prakse –\n14:00 – 14:30     Zaključci\, evaluacija i registracija učešća
URL:https://rs.cest.gov.ba/event/efikasno-planiranje-i-rukovodjenje-glavnim-pretresom/
LOCATION:Banja Luka
CATEGORIES:Krivičnopravna oblast
END:VEVENT
END:VCALENDAR