BEGIN:VCALENDAR
VERSION:2.0
PRODID:-//Javna ustanova Centar za edukaciju sudija i tužilaca u Republici Srpskoj - ECPv6.15.20//NONSGML v1.0//EN
CALSCALE:GREGORIAN
METHOD:PUBLISH
X-ORIGINAL-URL:https://rs.cest.gov.ba
X-WR-CALDESC:Events for Javna ustanova Centar za edukaciju sudija i tužilaca u Republici Srpskoj
REFRESH-INTERVAL;VALUE=DURATION:PT1H
X-Robots-Tag:noindex
X-PUBLISHED-TTL:PT1H
BEGIN:VTIMEZONE
TZID:Europe/Sarajevo
BEGIN:DAYLIGHT
TZOFFSETFROM:+0100
TZOFFSETTO:+0200
TZNAME:CEST
DTSTART:20250330T010000
END:DAYLIGHT
BEGIN:STANDARD
TZOFFSETFROM:+0200
TZOFFSETTO:+0100
TZNAME:CET
DTSTART:20251026T010000
END:STANDARD
BEGIN:DAYLIGHT
TZOFFSETFROM:+0100
TZOFFSETTO:+0200
TZNAME:CEST
DTSTART:20260329T010000
END:DAYLIGHT
BEGIN:STANDARD
TZOFFSETFROM:+0200
TZOFFSETTO:+0100
TZNAME:CET
DTSTART:20261025T010000
END:STANDARD
BEGIN:DAYLIGHT
TZOFFSETFROM:+0100
TZOFFSETTO:+0200
TZNAME:CEST
DTSTART:20270328T010000
END:DAYLIGHT
BEGIN:STANDARD
TZOFFSETFROM:+0200
TZOFFSETTO:+0100
TZNAME:CET
DTSTART:20271031T010000
END:STANDARD
END:VTIMEZONE
BEGIN:VEVENT
DTSTART;TZID=Europe/Sarajevo:20260409T100000
DTEND;TZID=Europe/Sarajevo:20260409T143000
DTSTAMP:20260421T182520
CREATED:20260311T101016Z
LAST-MODIFIED:20260312T114513Z
UID:4771-1775728800-1775745000@rs.cest.gov.ba
SUMMARY:Specifične situacije u izvršnom postupku
DESCRIPTION:Na osnovu Programa stručnog usavršavanja i početne obuke za 2026. godinu\, Centar za edukaciju sudija i javnih tužilaca u Republici Srpskoj\, organizuje seminar za sudije iz izvršne oblasti na temu: „Specifične situacije u izvršnom postupku”\, koji će se održati 09. aprila 2026. godine\, u prostorijama Centra za edukaciju sudija i javnih tužilaca u RS u Ul. Bulevar vojvode Stepe Stepanovića 60\, Banja Luka.\nEdukator na ovom seminaru će biti gđa Mediha Ćosić\, sudija i predsjednik Izvršnog odjeljenja Okružnog suda u Bijeljini. \nDnevni red: \n10:00-10:30        Pozdravni govori\, predstavljanje predavača i učesnika seminara \n10:30−11:15         Smrt izvršenika: Kako utvrditi iz koje imovine i do koje visine naslednik može  odgovarati ( npr.ako nije univerzalni sukcesor- da li uputiti tražioca izvršena na parnicu?) \n11:15−11:45          Pauza \n11:45−12:30        Mogu li se suvlasnici nepokretnosti obavještavati preko Oglasne table suda? \n12:30−13:00       Praktična vježba i diskusija \n13:00−14:00       Donošenje smjernica za procjenu i utvrđivanje najboljeg interesa djeteta u izvršnom postupku\, u skladu sa izmjenama Porodičnog  Zakona RS. \n14:00−14:30       Diskusija\, evaluacija i registracija učesnika
URL:https://rs.cest.gov.ba/event/specificne-situacije-u-izvrsnom-postupku/
LOCATION:Banja Luka
CATEGORIES:Izvršnopravna oblast
END:VEVENT
END:VCALENDAR