BEGIN:VCALENDAR
VERSION:2.0
PRODID:-//Javna ustanova Centar za edukaciju sudija i tužilaca u Republici Srpskoj - ECPv6.15.20//NONSGML v1.0//EN
CALSCALE:GREGORIAN
METHOD:PUBLISH
X-WR-CALNAME:Javna ustanova Centar za edukaciju sudija i tužilaca u Republici Srpskoj
X-ORIGINAL-URL:https://rs.cest.gov.ba
X-WR-CALDESC:Events for Javna ustanova Centar za edukaciju sudija i tužilaca u Republici Srpskoj
REFRESH-INTERVAL;VALUE=DURATION:PT1H
X-Robots-Tag:noindex
X-PUBLISHED-TTL:PT1H
BEGIN:VTIMEZONE
TZID:Europe/Sarajevo
BEGIN:DAYLIGHT
TZOFFSETFROM:+0100
TZOFFSETTO:+0200
TZNAME:CEST
DTSTART:20230326T010000
END:DAYLIGHT
BEGIN:STANDARD
TZOFFSETFROM:+0200
TZOFFSETTO:+0100
TZNAME:CET
DTSTART:20231029T010000
END:STANDARD
BEGIN:DAYLIGHT
TZOFFSETFROM:+0100
TZOFFSETTO:+0200
TZNAME:CEST
DTSTART:20240331T010000
END:DAYLIGHT
BEGIN:STANDARD
TZOFFSETFROM:+0200
TZOFFSETTO:+0100
TZNAME:CET
DTSTART:20241027T010000
END:STANDARD
BEGIN:DAYLIGHT
TZOFFSETFROM:+0100
TZOFFSETTO:+0200
TZNAME:CEST
DTSTART:20250330T010000
END:DAYLIGHT
BEGIN:STANDARD
TZOFFSETFROM:+0200
TZOFFSETTO:+0100
TZNAME:CET
DTSTART:20251026T010000
END:STANDARD
END:VTIMEZONE
BEGIN:VEVENT
DTSTART;TZID=Europe/Sarajevo:20241203T103000
DTEND;TZID=Europe/Sarajevo:20241203T143000
DTSTAMP:20260422T202421
CREATED:20241028T135218Z
LAST-MODIFIED:20241126T104103Z
UID:3588-1733221800-1733236200@rs.cest.gov.ba
SUMMARY:Izvršenje na nekretninama
DESCRIPTION:Izlagač: gđa Nives Ćetojević\, sudija Osnovnog suda u Banjoj Luci \n10:25 – 10:30    Otvaranje seminara i pozdravna riječ organizatora \n10:30– 12:00     Izvršenje na nekretninama- aktuelni problemi\, primjena principa proporcionalnosti \n12:00 – 12:30    Pauza \n12:30 – 14:00    Izvršenje na nekretninama koje su u vanknjižnom vlasništvu \n14:00 – 14:30    Diskusija\, evaluacija i registracija učesnika
URL:https://rs.cest.gov.ba/event/izvrsenje-na-nekretninama/
LOCATION:Banja Luka
CATEGORIES:Izvršnopravna oblast
END:VEVENT
END:VCALENDAR