BEGIN:VCALENDAR
VERSION:2.0
PRODID:-//Javna ustanova Centar za edukaciju sudija i tužilaca u Republici Srpskoj - ECPv6.15.20//NONSGML v1.0//EN
CALSCALE:GREGORIAN
METHOD:PUBLISH
X-WR-CALNAME:Javna ustanova Centar za edukaciju sudija i tužilaca u Republici Srpskoj
X-ORIGINAL-URL:https://rs.cest.gov.ba
X-WR-CALDESC:Events for Javna ustanova Centar za edukaciju sudija i tužilaca u Republici Srpskoj
REFRESH-INTERVAL;VALUE=DURATION:PT1H
X-Robots-Tag:noindex
X-PUBLISHED-TTL:PT1H
BEGIN:VTIMEZONE
TZID:Europe/Sarajevo
BEGIN:DAYLIGHT
TZOFFSETFROM:+0100
TZOFFSETTO:+0200
TZNAME:CEST
DTSTART:20240331T010000
END:DAYLIGHT
BEGIN:STANDARD
TZOFFSETFROM:+0200
TZOFFSETTO:+0100
TZNAME:CET
DTSTART:20241027T010000
END:STANDARD
BEGIN:DAYLIGHT
TZOFFSETFROM:+0100
TZOFFSETTO:+0200
TZNAME:CEST
DTSTART:20250330T010000
END:DAYLIGHT
BEGIN:STANDARD
TZOFFSETFROM:+0200
TZOFFSETTO:+0100
TZNAME:CET
DTSTART:20251026T010000
END:STANDARD
BEGIN:DAYLIGHT
TZOFFSETFROM:+0100
TZOFFSETTO:+0200
TZNAME:CEST
DTSTART:20260329T010000
END:DAYLIGHT
BEGIN:STANDARD
TZOFFSETFROM:+0200
TZOFFSETTO:+0100
TZNAME:CET
DTSTART:20261025T010000
END:STANDARD
END:VTIMEZONE
BEGIN:VEVENT
DTSTART;TZID=Europe/Sarajevo:20251203T110000
DTEND;TZID=Europe/Sarajevo:20251203T143000
DTSTAMP:20260422T003924
CREATED:20251120T111651Z
LAST-MODIFIED:20251120T111651Z
UID:4624-1764759600-1764772200@rs.cest.gov.ba
SUMMARY:Primjena Porodičnog zakona Republike Srpske u sudskoj praksi
DESCRIPTION:Centar za edukaciju sudija i javnih tužilaca u Republici Srpskoj\, u okviru Programa stručnog usavršavanja i početne obuke za 2025. godinu\, organizuje seminar iz građanske oblasti\, na temu: „Primjena Porodičnog zakona Republike Srpske u sudskoj praksi“\, koji će se održati u srijedu 03. decembra 2025. godine\, u prostorijama Centra za edukaciju sudija i javnih tužilaca u RS\, u Ul. Bulevar vojvode Stepe Stepanovića 60\, Banja Luka.\nIzlagači na ovom seminaru će biti gđa Božana Vulić\, sudija Vrhovnog suda Republike Srpske i prof. dr Darko Radić\, profesor na Pravnom fakultetu Univerziteta u Banjoj Luci. \nDnevni red: \n10:55 – 11:00     Otvaranje seminara i pozdravna riječ organizatora \n11:00– 12:00      Primjena Porodičnog zakona Republike Srpske u sudskoj praksi \n12:00 – 12:15     Pauza \n12:15 – 14:00     Primjena Porodičnog zakona Republike Srpske u sudskoj praksi \n14:00 – 14:30    Diskusija\, evaluacija i registracija učesnika
URL:https://rs.cest.gov.ba/event/primjena-porodicnog-zakona-republike-srpske-u-sudskoj-praksi/
LOCATION:Banja Luka
CATEGORIES:Građanskopravna oblast
END:VEVENT
END:VCALENDAR