BEGIN:VCALENDAR
VERSION:2.0
PRODID:-//Javna ustanova Centar za edukaciju sudija i tužilaca u Republici Srpskoj - ECPv6.15.20//NONSGML v1.0//EN
CALSCALE:GREGORIAN
METHOD:PUBLISH
X-WR-CALNAME:Javna ustanova Centar za edukaciju sudija i tužilaca u Republici Srpskoj
X-ORIGINAL-URL:https://rs.cest.gov.ba
X-WR-CALDESC:Events for Javna ustanova Centar za edukaciju sudija i tužilaca u Republici Srpskoj
REFRESH-INTERVAL;VALUE=DURATION:PT1H
X-Robots-Tag:noindex
X-PUBLISHED-TTL:PT1H
BEGIN:VTIMEZONE
TZID:Europe/Sarajevo
BEGIN:DAYLIGHT
TZOFFSETFROM:+0100
TZOFFSETTO:+0200
TZNAME:CEST
DTSTART:20240331T010000
END:DAYLIGHT
BEGIN:STANDARD
TZOFFSETFROM:+0200
TZOFFSETTO:+0100
TZNAME:CET
DTSTART:20241027T010000
END:STANDARD
BEGIN:DAYLIGHT
TZOFFSETFROM:+0100
TZOFFSETTO:+0200
TZNAME:CEST
DTSTART:20250330T010000
END:DAYLIGHT
BEGIN:STANDARD
TZOFFSETFROM:+0200
TZOFFSETTO:+0100
TZNAME:CET
DTSTART:20251026T010000
END:STANDARD
BEGIN:DAYLIGHT
TZOFFSETFROM:+0100
TZOFFSETTO:+0200
TZNAME:CEST
DTSTART:20260329T010000
END:DAYLIGHT
BEGIN:STANDARD
TZOFFSETFROM:+0200
TZOFFSETTO:+0100
TZNAME:CET
DTSTART:20261025T010000
END:STANDARD
END:VTIMEZONE
BEGIN:VEVENT
DTSTART;TZID=Europe/Sarajevo:20250526T100000
DTEND;TZID=Europe/Sarajevo:20250526T143000
DTSTAMP:20260422T121523
CREATED:20250507T084804Z
LAST-MODIFIED:20250507T084804Z
UID:4180-1748253600-1748269800@rs.cest.gov.ba
SUMMARY:Naknada materijalne štete u slučaju auto odgovornosti
DESCRIPTION:Centar za edukaciju sudija i javnih tužilaca u Republici Srpskoj\, u okviru Programa stručnog usavršavanja i početne obuke za 2025. godinu\, u saradnji sa Pravosudnom komisijom Brčko Distrikta i Centra za edukaciju sudija i tužilaca Federacije Bosne i Hercegovine\, organizuje seminar iz građanskopravne oblasti\, na temu:\n„Naknada materijalne štete u slučaju auto odgovornosti“\, koji će se održati 26.05.2025. godine\, u prostorijama Pravosudne komisije Brčko Distrikta\, ul. Trg pravde 10\, Brčko. \nEdukator na ovom seminaru će biti dr.sc Faruk Latifović\, sudija Kantonalnog suda u Tuzli.
URL:https://rs.cest.gov.ba/event/naknada-materijalne-stete-u-slucaju-auto-odgovornosti/
LOCATION:Brčko
CATEGORIES:Građanskopravna oblast
END:VEVENT
END:VCALENDAR