BEGIN:VCALENDAR
VERSION:2.0
PRODID:-//Javna ustanova Centar za edukaciju sudija i tužilaca u Republici Srpskoj - ECPv6.15.20//NONSGML v1.0//EN
CALSCALE:GREGORIAN
METHOD:PUBLISH
X-WR-CALNAME:Javna ustanova Centar za edukaciju sudija i tužilaca u Republici Srpskoj
X-ORIGINAL-URL:https://rs.cest.gov.ba
X-WR-CALDESC:Events for Javna ustanova Centar za edukaciju sudija i tužilaca u Republici Srpskoj
REFRESH-INTERVAL;VALUE=DURATION:PT1H
X-Robots-Tag:noindex
X-PUBLISHED-TTL:PT1H
BEGIN:VTIMEZONE
TZID:Europe/Sarajevo
BEGIN:DAYLIGHT
TZOFFSETFROM:+0100
TZOFFSETTO:+0200
TZNAME:CEST
DTSTART:20240331T010000
END:DAYLIGHT
BEGIN:STANDARD
TZOFFSETFROM:+0200
TZOFFSETTO:+0100
TZNAME:CET
DTSTART:20241027T010000
END:STANDARD
BEGIN:DAYLIGHT
TZOFFSETFROM:+0100
TZOFFSETTO:+0200
TZNAME:CEST
DTSTART:20250330T010000
END:DAYLIGHT
BEGIN:STANDARD
TZOFFSETFROM:+0200
TZOFFSETTO:+0100
TZNAME:CET
DTSTART:20251026T010000
END:STANDARD
BEGIN:DAYLIGHT
TZOFFSETFROM:+0100
TZOFFSETTO:+0200
TZNAME:CEST
DTSTART:20260329T010000
END:DAYLIGHT
BEGIN:STANDARD
TZOFFSETFROM:+0200
TZOFFSETTO:+0100
TZNAME:CET
DTSTART:20261025T010000
END:STANDARD
END:VTIMEZONE
BEGIN:VEVENT
DTSTART;TZID=Europe/Sarajevo:20250512T100000
DTEND;TZID=Europe/Sarajevo:20250512T143000
DTSTAMP:20260422T121523
CREATED:20250423T115540Z
LAST-MODIFIED:20250507T074008Z
UID:4143-1747044000-1747060200@rs.cest.gov.ba
SUMMARY:Proces ocjene dokaza i obrazloženje presude
DESCRIPTION:Centar za edukaciju sudija i javnih tužilaca u Republici Srpskoj\, u okviru Programa stručnog usavršavanja i početne obuke za 2025. godinu\, a u saradnji sa Centrom za edukaciju sudija i tužilaca Federacije Bosne i Hercegovine\, organizuje seminar iz građanskopravne oblasti\, na temu: „Proces ocjene dokaza i obrazloženje presude“\, koji će se održati 12. maja 2025. godine\, u Banjaluci\,  Bulevaru vojvode Stepe Stepanovića 60. \nEdukator na ovom seminaru je gin Smajo Šabić\, sudija Kantonalnog suda u Sarajevu. \nDnevni red: \n09.00 – 09.30             Pozdravna riječ organizatora \n09.30 -11.00               Bitni procesni stadijii toku parničnog postupka  (Prethodno ispitivanie tužbe\, dostavlianie tužbe na odgovor tuženom. održavanie pripremnog ročišta. zakazivanie glavne rasprave) \n11.00 – 11.30                Pauza \n11.30 – 12.30              Teret dokazivanja  sa aktuelnom sudskom praksom \n12.45-14.00                 Ocjena dokaza sa aktuelnom sudskom praksom \n14.00 – 14.30              Diskusiju\, evaluacija seminara i registracija učesnika
URL:https://rs.cest.gov.ba/event/proces-ocjene-dokaza-i-obrazlozenje-presude/
LOCATION:Banja Luka
CATEGORIES:Građanskopravna oblast
END:VEVENT
END:VCALENDAR