BEGIN:VCALENDAR
VERSION:2.0
PRODID:-//Javna ustanova Centar za edukaciju sudija i tužilaca u Republici Srpskoj - ECPv6.15.20//NONSGML v1.0//EN
CALSCALE:GREGORIAN
METHOD:PUBLISH
X-WR-CALNAME:Javna ustanova Centar za edukaciju sudija i tužilaca u Republici Srpskoj
X-ORIGINAL-URL:https://rs.cest.gov.ba
X-WR-CALDESC:Events for Javna ustanova Centar za edukaciju sudija i tužilaca u Republici Srpskoj
REFRESH-INTERVAL;VALUE=DURATION:PT1H
X-Robots-Tag:noindex
X-PUBLISHED-TTL:PT1H
BEGIN:VTIMEZONE
TZID:Europe/Sarajevo
BEGIN:DAYLIGHT
TZOFFSETFROM:+0100
TZOFFSETTO:+0200
TZNAME:CEST
DTSTART:20230326T010000
END:DAYLIGHT
BEGIN:STANDARD
TZOFFSETFROM:+0200
TZOFFSETTO:+0100
TZNAME:CET
DTSTART:20231029T010000
END:STANDARD
BEGIN:DAYLIGHT
TZOFFSETFROM:+0100
TZOFFSETTO:+0200
TZNAME:CEST
DTSTART:20240331T010000
END:DAYLIGHT
BEGIN:STANDARD
TZOFFSETFROM:+0200
TZOFFSETTO:+0100
TZNAME:CET
DTSTART:20241027T010000
END:STANDARD
BEGIN:DAYLIGHT
TZOFFSETFROM:+0100
TZOFFSETTO:+0200
TZNAME:CEST
DTSTART:20250330T010000
END:DAYLIGHT
BEGIN:STANDARD
TZOFFSETFROM:+0200
TZOFFSETTO:+0100
TZNAME:CET
DTSTART:20251026T010000
END:STANDARD
END:VTIMEZONE
BEGIN:VEVENT
DTSTART;TZID=Europe/Sarajevo:20241115T100000
DTEND;TZID=Europe/Sarajevo:20241115T150000
DTSTAMP:20260422T215644
CREATED:20241015T074748Z
LAST-MODIFIED:20241111T115917Z
UID:3538-1731664800-1731682800@rs.cest.gov.ba
SUMMARY:Aktuelna praksa Okružnih sudova u I.Sarajevu i Trebinju (parnica)
DESCRIPTION:Izlagači: gđa Nizama Lojo\, sudija Okružnog suda u Istočnom Sarajevu i gdin Milosav Pikula\, sudija Okružnog suda u Trebinju \nDnevni red: \n10:25 – 10:30  Otvaranje seminara i pozdravna riječ organizatora \n10:30– 12:00   Aktuelna praksa Okružnog suda u Istočnom Sarajevu \n12:00 – 12:30   Pauza \n12:30 – 14:00   Aktuelna praksa Okružnog suda u Trebinju \n14:00 – 14:30   Diskusija\, evaluacija i registracija učesnika \n 
URL:https://rs.cest.gov.ba/event/aktuelna-praksa-okruznih-sudova-u-istocnom-sarajevu-i-trebinju/
LOCATION:Istočno Sarajevo
CATEGORIES:Građanskopravna oblast
END:VEVENT
END:VCALENDAR