BEGIN:VCALENDAR
VERSION:2.0
PRODID:-//Javna ustanova Centar za edukaciju sudija i tužilaca u Republici Srpskoj - ECPv6.15.20//NONSGML v1.0//EN
CALSCALE:GREGORIAN
METHOD:PUBLISH
X-ORIGINAL-URL:https://rs.cest.gov.ba
X-WR-CALDESC:Events for Javna ustanova Centar za edukaciju sudija i tužilaca u Republici Srpskoj
REFRESH-INTERVAL;VALUE=DURATION:PT1H
X-Robots-Tag:noindex
X-PUBLISHED-TTL:PT1H
BEGIN:VTIMEZONE
TZID:Europe/Sarajevo
BEGIN:DAYLIGHT
TZOFFSETFROM:+0100
TZOFFSETTO:+0200
TZNAME:CEST
DTSTART:20240331T010000
END:DAYLIGHT
BEGIN:STANDARD
TZOFFSETFROM:+0200
TZOFFSETTO:+0100
TZNAME:CET
DTSTART:20241027T010000
END:STANDARD
BEGIN:DAYLIGHT
TZOFFSETFROM:+0100
TZOFFSETTO:+0200
TZNAME:CEST
DTSTART:20250330T010000
END:DAYLIGHT
BEGIN:STANDARD
TZOFFSETFROM:+0200
TZOFFSETTO:+0100
TZNAME:CET
DTSTART:20251026T010000
END:STANDARD
BEGIN:DAYLIGHT
TZOFFSETFROM:+0100
TZOFFSETTO:+0200
TZNAME:CEST
DTSTART:20260329T010000
END:DAYLIGHT
BEGIN:STANDARD
TZOFFSETFROM:+0200
TZOFFSETTO:+0100
TZNAME:CET
DTSTART:20261025T010000
END:STANDARD
END:VTIMEZONE
BEGIN:VEVENT
DTSTART;TZID=Europe/Sarajevo:20250910T100000
DTEND;TZID=Europe/Sarajevo:20250910T150000
DTSTAMP:20260422T034527
CREATED:20250827T084519Z
LAST-MODIFIED:20250905T113217Z
UID:4465-1757498400-1757516400@rs.cest.gov.ba
SUMMARY:Naplata zateznih kamata i troškova u izvršnom postupku
DESCRIPTION:Na osnovu Programa stručnog usavršavanja i početne obuke za 2025. godinu\, Centar za edukaciju sudija i javnih tužilaca u Republici Srpskoj\, u saradnji sa Centrom za edukaciju sudija i tužilaca Federacije Bosne i Hercegovine\, organizuje seminar za sudije iz izvršne oblasti na temu:\n„Naplata zateznih kamata i troškova u izvršnom postupku“\, koji će se održati 10. septembra 2025. godine\, u prostorijama Centra za edukaciju sudija i javnih tužilaca u Republici Srpskoj\, Bulevar vojvode Stepe Stepanovića 60\, Banja Luka. \nEdukator na ovom seminaru će biti gđa Nives Ćetojević sudija Osnovnog suda u Banjoj Luci. \nDnevni red: \n10.30-10.40     Pozdravna riječ organizatora i otvaranje seminara \n10.40-11.30     Naplata zateznih kamata i troškova izvršnog postupka \n11.30 -12.00    Pauza \n12.00-12.45     Problemi koji se javljaju u praksi  i najnovije odluke Okružnog suda u Banjoj Luci \n12.45-13.00     Diskusija \n13.00-13.30     Zaključci\, evaluacija seminara i registracija učesnika
URL:https://rs.cest.gov.ba/event/naplata-zateznih-kamata-i-troskova-u-izvrsnom-postupku/
LOCATION:Banja Luka
CATEGORIES:Građanskopravna oblast
END:VEVENT
BEGIN:VEVENT
DTSTART;TZID=Europe/Sarajevo:20250919T103000
DTEND;TZID=Europe/Sarajevo:20250919T143000
DTSTAMP:20260422T034527
CREATED:20250827T085200Z
LAST-MODIFIED:20250827T085200Z
UID:4468-1758277800-1758292200@rs.cest.gov.ba
SUMMARY:Aktuelna pitanja iz stečajnog postupka
DESCRIPTION:Centar za edukaciju sudija i javnih tužilaca u Republici Srpskoj\, u okviru Programa stručnog usavršavanja i početne obuke za 2025. godinu\, organizuje seminar iz privrednopravne oblasti\, na temu: „Aktuelna pitanja iz stečajnog postupka“\, koji će se održati u petak 19. septembra 2025. godine\, u prostorijama Centra za edukaciju sudija i javnih tužilaca u RS ( u daljem tekstu „CEST“ )\, u Bulevaru vojvode Stepe Stepanovića 60\, Banja Luka. \nEdukator na ovom seminaru će biti Božana Gužvić\, sudija i predsjednica Okružnog privrednog suda u Bijeljini. \nDnevni red: \n10:15 – 10:25              Dolazak učesnika \n10:25 – 10:30              Otvaranje seminara \n10:30 – 12:00              Prodaja stečajnog dužnika kao pravnog lica \n12:00 – 12:30              Pauza \n12:30 – 14:00              Prodaja potraživanja povjerilaca prema stečajnom dužniku u toku stečajnog postupka \n14:00 – 14:30              Diskusija\, evaluacija seminara i registracija učesnika
URL:https://rs.cest.gov.ba/event/aktuelna-pitanja-iz-stecajnog-postupka/
LOCATION:Banja Luka
CATEGORIES:Građanskopravna oblast
END:VEVENT
BEGIN:VEVENT
DTSTART;TZID=Europe/Sarajevo:20250924T100000
DTEND;TZID=Europe/Sarajevo:20250924T153000
DTSTAMP:20260422T034527
CREATED:20250821T100943Z
LAST-MODIFIED:20250821T100943Z
UID:4461-1758708000-1758727800@rs.cest.gov.ba
SUMMARY:Izazovi utvrđivanja diskriminacije i primjene posebnih proceduralnih pravila i obrnuti teret dokazivanja
DESCRIPTION:Na osnovu Programa stručnog usavršavanja i početne obuke za 2025. godinu\, Centar za edukaciju sudija i javnih tužilaca u Republici Srpskoj\, u saradnji sa Centrom za edukaciju sudija i tužilaca Federacije Bosne i Hercegovine\, a uz podršku Misije OSCE-a u BiH\, organizuje seminar za sudije iz građanskopravne oblasti na temu: „Izazovi utvrđivanja diskriminacije i primjene posebnih proceduralnih pravila u diskriminacijskim parnicama i obrnuti teret dokazivanja“ koji će se održati 24. septembra 2025. godine\, u prostorijama Centra za edukaciju sudija i javnih tužilaca u Republici Srpskoj\, Bulevar vojvode Stepe Stepanovića broj 60\, Banja Luka. \nEdukatori na ovom seminaru će biti Goran Nezirović\, sudija Vrhovnog suda Federacije Bosne i Hercegovine i Biljana Majkić Marinković\, sudija Vrhovnog suda Republike Srpske \nDnevni red: \n10:00 – 10:15   Registracija učesnika/ca \n10:15 – 11:45    Osnovni elementi pojma diskriminacije \n–           Direktna i indirektna diskriminacija \n–           Ostali oblici diskriminacije \n11:45 – 12:00    Pauza \n12:00 – 13:30   Incidentalne (prejuducijalne) tužbe za zaštitu od diskriminacije \n– Posebne antidiskriminacijske tužbe i kolektivne tužbe za zaštitu od diskriminacije \n– Teret dokazivanja \n13:30 – 14:00    Ručak \n14:00 – 14:30    Dokazna sredstva u antidiskriminacijskim parnicama \n14:30 – 15:15     Naknada nematerijalne štete u slučajevima diskriminacije
URL:https://rs.cest.gov.ba/event/izazovi-utvrdjivanja-diskriminacije-i-primjene-posebnih-proceduralnih-pravila-i-obrnuti-teret-dokazivanja/
LOCATION:Banja Luka
CATEGORIES:Građanskopravna oblast
END:VEVENT
BEGIN:VEVENT
DTSTART;TZID=Europe/Sarajevo:20250925T100000
DTEND;TZID=Europe/Sarajevo:20250925T143000
DTSTAMP:20260422T034527
CREATED:20250829T103937Z
LAST-MODIFIED:20250829T103937Z
UID:4481-1758794400-1758810600@rs.cest.gov.ba
SUMMARY:Proces ocjene dokaza i obrazloženje presude
DESCRIPTION:Centar za edukaciju sudija i javnih tužilaca u Republici Srpskoj\, u okviru Programa stručnog usavršavanja i početne obuke za 2025. godinu\, a u saradnji sa Centrom za edukaciju sudija i tužilaca Federacije Bosne i Hercegovine\, organizuje seminar iz građanskopravne oblasti\, na temu:„Proces ocjene dokaza i obrazloženje presude“\, koji će se održati 25. septembra 2025. godine\, u prostorijama Centra za edukaciju sudija i tužilaca Federacije Bosne i Hercegovine\, ul.Halida Nazečića 4 \, Sarajevo. \nEdukator na ovom seminaru je Smajo Šabić\, sudija Kantonalnog suda u Sarajevu. \nDnevni red: \n09.30 – 10.00             Registracija učesnika i pozdravna riječ organizatora \n10.00 – 11.30              Bitni procesni stadijii toku parničnog postupka  (Prethodno ispitivanje tužbe\, dostavljanje tužbe na odgovor tuženom\, održavanje pripremnog ročišta\, zakazivanje glavne rasprave) \n11.30 – 12.00              Pauza \n12.00 – 13.00             Teret dokazivanja  sa aktuelnom sudskom praksom \n13.00 – 14:15              Ocjena dokaza sa aktuelnom sudskom praksom \n14.15 – 14.45               Diskusija i pitanja učesnika\, evaluacija seminara
URL:https://rs.cest.gov.ba/event/proces-ocjene-dokaza-i-obrazlozenje-presude-2/
LOCATION:Sarajevo
CATEGORIES:Građanskopravna oblast
END:VEVENT
END:VCALENDAR