BEGIN:VCALENDAR
VERSION:2.0
PRODID:-//Javna ustanova Centar za edukaciju sudija i tužilaca u Republici Srpskoj - ECPv6.15.20//NONSGML v1.0//EN
CALSCALE:GREGORIAN
METHOD:PUBLISH
X-ORIGINAL-URL:https://rs.cest.gov.ba
X-WR-CALDESC:Events for Javna ustanova Centar za edukaciju sudija i tužilaca u Republici Srpskoj
REFRESH-INTERVAL;VALUE=DURATION:PT1H
X-Robots-Tag:noindex
X-PUBLISHED-TTL:PT1H
BEGIN:VTIMEZONE
TZID:Europe/Sarajevo
BEGIN:DAYLIGHT
TZOFFSETFROM:+0100
TZOFFSETTO:+0200
TZNAME:CEST
DTSTART:20240331T010000
END:DAYLIGHT
BEGIN:STANDARD
TZOFFSETFROM:+0200
TZOFFSETTO:+0100
TZNAME:CET
DTSTART:20241027T010000
END:STANDARD
BEGIN:DAYLIGHT
TZOFFSETFROM:+0100
TZOFFSETTO:+0200
TZNAME:CEST
DTSTART:20250330T010000
END:DAYLIGHT
BEGIN:STANDARD
TZOFFSETFROM:+0200
TZOFFSETTO:+0100
TZNAME:CET
DTSTART:20251026T010000
END:STANDARD
BEGIN:DAYLIGHT
TZOFFSETFROM:+0100
TZOFFSETTO:+0200
TZNAME:CEST
DTSTART:20260329T010000
END:DAYLIGHT
BEGIN:STANDARD
TZOFFSETFROM:+0200
TZOFFSETTO:+0100
TZNAME:CET
DTSTART:20261025T010000
END:STANDARD
END:VTIMEZONE
BEGIN:VEVENT
DTSTART;TZID=Europe/Sarajevo:20250304T100000
DTEND;TZID=Europe/Sarajevo:20250304T140000
DTSTAMP:20260422T133444
CREATED:20250211T095807Z
LAST-MODIFIED:20250227T084141Z
UID:3953-1741082400-1741096800@rs.cest.gov.ba
SUMMARY:Primjena propisa iz oblasti radnih odnosa u Republici Srpskoj
DESCRIPTION:Centar za edukaciju sudija i javnih tužilaca u Republici Srpskoj\, u okviru Programa stručnog usavršavanja i početne obuke za 2025. godinu\, organizuje seminar iz građanskopravne oblasti\, na temu: „Primjena propisa iz oblasti radnih odnosa u Republici Srpskoj“\, koji će se održati u utorak 04. marta 2025. godine\, u prostorijama Centra za edukaciju sudija i javnih tužilaca u RS\, u Ul. Bulevar vojvode Stepe Stepanovića 60\, Banja Luka. \nIzlagač:  Nevenka Mitrić\, sudija Okružnog suda u Banjoj Luci. \nDnevni red: \n10:25 – 10:30            Otvaranje seminara i pozdravna riječ organizatora \n10:30– 12:00             Ugovor o radu na određeno vrijeme\, \nIzmjene ugovora o radu na neodređeno vrijeme \nSporovi između radnika i poslodavca \n12:00 – 12:30             Pauza \n12:30 – 14:00             Prava radnika na naknadu troškova prevoza i toplog obroka\, \nPropisivanje težih povreda radne obaveze \nSudska praksa \n14:00 – 14:30             Diskusija\, evaluacija i registracija učesnika
URL:https://rs.cest.gov.ba/event/primjena-propisa-iz-oblasti-radnih-odnosa-u-republici-srpskoj-3/
LOCATION:Banja Luka
CATEGORIES:Građanskopravna oblast
END:VEVENT
BEGIN:VEVENT
DTSTART;TZID=Europe/Sarajevo:20250311T103000
DTEND;TZID=Europe/Sarajevo:20250311T143000
DTSTAMP:20260422T133444
CREATED:20250211T100157Z
LAST-MODIFIED:20250227T102240Z
UID:3955-1741689000-1741703400@rs.cest.gov.ba
SUMMARY:Aktuelna pitanja iz Zakona o stvarnim pravima Republike Srpske
DESCRIPTION:Centar za edukaciju sudija i javnih tužilaca u Republici Srpskoj\, u okviru Programa stručnog usavršavanja i početne obuke za 2025. godinu\, organizuje seminar iz građanskopravne oblasti\, na temu: „Aktuelna pitanja iz Zakona o stvarnim pravima Republike Srpske“\, koji će se održati u utorak 11. marta 2025. godine\, u prostorijama Centra za edukaciju sudija i javnih tužilaca u RS ( u daljem tekstu „CEST“ )\, u Ul. Bulevar vojvode Stepe Stepanovića 60\, Banja Luka. \nIzlagač:  Nermana Sadiković\, sudija Okružnog suda u Banjoj Luci. \nDnevni red: \n10:25 – 10:30            Otvaranje seminara i pozdravna riječ organizatora \n10:30– 12:00             Susvojina i ostala zajednička svojina \n12:00 – 12:30            Pauza \n12:30 – 14:00            Sudska praksa iz Zakona o stvarnim pravima \n14:00 – 14:30            Diskusija\, evaluacija seminara i registracija učesnika
URL:https://rs.cest.gov.ba/event/aktuelna-pitanja-iz-zakona-o-stvarnim-pravima-republike-srpske/
LOCATION:Banja Luka
CATEGORIES:Građanskopravna oblast
END:VEVENT
BEGIN:VEVENT
DTSTART;TZID=Europe/Sarajevo:20250324T103000
DTEND;TZID=Europe/Sarajevo:20250324T143000
DTSTAMP:20260422T133445
CREATED:20250324T102620Z
LAST-MODIFIED:20250324T102620Z
UID:4070-1742812200-1742826600@rs.cest.gov.ba
SUMMARY:Naknada štete
DESCRIPTION:Centar za edukaciju sudija i javnih tužilaca u Republici Srpskoj\, u okviru Programa stručnog usavršavanja i početne obuke za 2025. godinu\, organizuje seminar iz građanskopravne oblasti\, na temu:  „Naknada štete“\, koji će se održati u utorak 16. aprila 2025. godine\, u prostorijama Centra za edukaciju sudija i javnih tužilaca u RS\, u Ul. Bulevar vojvode Stepe Stepanovića 60\, Banja Luka. \nIzlagač će biti gdin Dejan Pilipović\, Pravni fakultet Univerziteta u Banjoj Luci\, Katedra za građansko i poslovno pravo. \nDnevni red: \n10:25 – 10:30             Otvaranje seminara i pozdravna riječ organizatora \n10:30– 12:00              Ugovorna odgovornost za štetu \nOdgovornost pravnog lica za štetu koju prouzrokuje njegov organ \n12:00 – 12:30             Pauza \n12:30 – 14:00             Naknada štete prema posebnim propisima \n14:00 – 14:30             Diskusija\, evaluacija i registracija učesnika
URL:https://rs.cest.gov.ba/event/naknada-stete/
LOCATION:Banja Luka
CATEGORIES:Građanskopravna oblast
END:VEVENT
END:VCALENDAR