BEGIN:VCALENDAR
VERSION:2.0
PRODID:-//Javna ustanova Centar za edukaciju sudija i tužilaca u Republici Srpskoj - ECPv6.15.20//NONSGML v1.0//EN
CALSCALE:GREGORIAN
METHOD:PUBLISH
X-ORIGINAL-URL:https://rs.cest.gov.ba
X-WR-CALDESC:Events for Javna ustanova Centar za edukaciju sudija i tužilaca u Republici Srpskoj
REFRESH-INTERVAL;VALUE=DURATION:PT1H
X-Robots-Tag:noindex
X-PUBLISHED-TTL:PT1H
BEGIN:VTIMEZONE
TZID:Europe/Sarajevo
BEGIN:DAYLIGHT
TZOFFSETFROM:+0100
TZOFFSETTO:+0200
TZNAME:CEST
DTSTART:20230326T010000
END:DAYLIGHT
BEGIN:STANDARD
TZOFFSETFROM:+0200
TZOFFSETTO:+0100
TZNAME:CET
DTSTART:20231029T010000
END:STANDARD
BEGIN:DAYLIGHT
TZOFFSETFROM:+0100
TZOFFSETTO:+0200
TZNAME:CEST
DTSTART:20240331T010000
END:DAYLIGHT
BEGIN:STANDARD
TZOFFSETFROM:+0200
TZOFFSETTO:+0100
TZNAME:CET
DTSTART:20241027T010000
END:STANDARD
BEGIN:DAYLIGHT
TZOFFSETFROM:+0100
TZOFFSETTO:+0200
TZNAME:CEST
DTSTART:20250330T010000
END:DAYLIGHT
BEGIN:STANDARD
TZOFFSETFROM:+0200
TZOFFSETTO:+0100
TZNAME:CET
DTSTART:20251026T010000
END:STANDARD
END:VTIMEZONE
BEGIN:VEVENT
DTSTART;TZID=Europe/Sarajevo:20241202T103000
DTEND;TZID=Europe/Sarajevo:20241202T143000
DTSTAMP:20260422T202305
CREATED:20241028T135017Z
LAST-MODIFIED:20241126T103606Z
UID:3586-1733135400-1733149800@rs.cest.gov.ba
SUMMARY:Aktuelna praksa Okružnog suda u Banjaluci (parnica)
DESCRIPTION:Izlagač: gđa Nevenka Mitrić\, sudija i predsjednik Građanskog odjeljenja Okružnog suda u Banjaluci \nDnevni red: \n10:25 – 10:30    Otvaranje seminara i pozdravna riječ organizatora \n10:30– 12:00     Aktuelna praksa Okružnog suda u Banjaluci \n12:00 – 12:30    Pauza \n12:30 – 14:00    Aktuelna praksa Okružnog suda u Banjaluci \n14:00 – 14:30    Diskusija\, evaluacija i registracija učesnika
URL:https://rs.cest.gov.ba/event/aktuelna-praksa-okruznog-suda-u-banjaluci-parnica/
LOCATION:Banja Luka
CATEGORIES:Građanskopravna oblast
END:VEVENT
BEGIN:VEVENT
DTSTART;TZID=Europe/Sarajevo:20241206T100000
DTEND;TZID=Europe/Sarajevo:20241206T150000
DTSTAMP:20260422T202305
CREATED:20241118T105724Z
LAST-MODIFIED:20241126T105411Z
UID:3750-1733479200-1733497200@rs.cest.gov.ba
SUMMARY:Izazovi odlučivanja o starateljstvu u slučajevima nasilja u porodici- preporuke GREVIO komiteta
DESCRIPTION:U okviru Programa stručnog usavršavanja i početne obuke za 2024. godinu\, Centar za edukaciju sudija i javnih tužilaca u Republici Srpskoj\, u saradnji sa Gender Centrom Vlade Republike Srpske\, a uz podršku projekta „EU za sovijalnu inkluziju u BiH“\, organizuje seminar iz građanskopravne oblasti\, na temu: „Izazovi odlučivanja o starateljstvu u slučajevima nasilja u porodici- preporuke GREVIO komiteta“ koji će se održati 06.12.2024. godine\, u hotelu Jelena\, ul. Jovana Dučića 25\, Banja Luka.\nIzlagač: gdin Adnan Kadribašić\, viši stručnjak za ljudska prava/ voditelj tima EU4HR. \nDnevni red: \n10:30 – 11:15    Modul 1: Uvod u nasilje u porodici i njegov uticaj na starateljske odluke \n– Nasilje u porodici: pojmovno određenje \n– Uloga sudova u zaštiti djece i ne-nasilnog roditelja \n11:15 – 11:30     Kafe pauza \n11:30 – 12:15     Modul 2: Međunarodni standardi i najbolja praksa \n– Pregled Istanbulske konvencije i Člana 31. \n– Relevantni slučajevi i preporuke GREVIO i Evropskog suda za ljudska prava \n12:15 – 13:00    Modul 3: Procjena i upravljanje rizicima u starateljskim predmetima \n– Praktične smjernice za procjenu rizika za djecu i ne-nasilnog roditelja \n– Primjeri multi-agencijskih modela za visokorizične slučajeve \n13:00 – 14:00   Pauza za ručak \n14:00 – 15:30   Modul 5: Sudske najbolje prakse za rješavanje visokorizičnih slučajeva \n– Praktične preporuke za donošenje odluka koje prioritetiziraju sigurnost djece i roditelja \n– Praktična vježba: analiza studije slučaja i donošenje odluka \n15:30 – 15:45    Evaluacija i zaključci \n– Povratne informacije učesnika \n– Zaključak i dodjela materijala sa smjernicama i resursima
URL:https://rs.cest.gov.ba/event/izazovi-odlucivanja-o-starateljstvu-u-slucajevima-nasilja-u-porodici-preporuke-grevio-komiteta/
LOCATION:Banja Luka
CATEGORIES:Građanskopravna oblast
END:VEVENT
BEGIN:VEVENT
DTSTART;TZID=Europe/Sarajevo:20241223T100000
DTEND;TZID=Europe/Sarajevo:20241223T140000
DTSTAMP:20260422T202305
CREATED:20241202T134744Z
LAST-MODIFIED:20241217T091918Z
UID:3809-1734948000-1734962400@rs.cest.gov.ba
SUMMARY:Aktuelna praksa Vrhovnog suda u RS na parničnom referatu
DESCRIPTION:U skladu sa Programom stručnog usavršavanja i početne obuke za 2024. godinu\, Centar za edukaciju sudija i javnih tužilaca u Republici Srpskoj organizuje seminar iz građanskopravne oblasti na temu: „Aktuelna praksa Vrhovnog suda u Republici Srpskoj na parničnom referatu“\, koji će se održati u ponedjeljak\, 23. decembra 2024. godine u prostorijama Centra za edukaciju sudija i javnih tužilaca u RS  u Ul. Bulevar vojvode Stepe Stepanovića 60\, Banja Luka.\nIzlagač: gđa Biljana Majkić Marinković\, sudija Vrhovnog suda Republike Srpske. \nDnevni red: \n10:25 – 10:30 Otvaranje seminara i pozdravna riječ organizatora \n10:30– 12:00 Aktuelna praksa Vrhovnog suda Republike Srpske na parničnom referatu \n12:00 – 12:30 Pauza \n12:30 – 14:00 Aktuelna praksa Vrhovnog suda Republike Srpske na parničnom referatu \n14:00 – 14:30 Diskusija\, evaluacija i registracija učesnika
URL:https://rs.cest.gov.ba/event/aktuelna-praksa-vrhovnog-suda-u-rs-na-parnicnom-referatu/
CATEGORIES:Građanskopravna oblast
END:VEVENT
END:VCALENDAR