BEGIN:VCALENDAR
VERSION:2.0
PRODID:-//Javna ustanova Centar za edukaciju sudija i tužilaca u Republici Srpskoj - ECPv6.15.20//NONSGML v1.0//EN
CALSCALE:GREGORIAN
METHOD:PUBLISH
X-ORIGINAL-URL:https://rs.cest.gov.ba
X-WR-CALDESC:Events for Javna ustanova Centar za edukaciju sudija i tužilaca u Republici Srpskoj
REFRESH-INTERVAL;VALUE=DURATION:PT1H
X-Robots-Tag:noindex
X-PUBLISHED-TTL:PT1H
BEGIN:VTIMEZONE
TZID:Europe/Sarajevo
BEGIN:DAYLIGHT
TZOFFSETFROM:+0100
TZOFFSETTO:+0200
TZNAME:CEST
DTSTART:20250330T010000
END:DAYLIGHT
BEGIN:STANDARD
TZOFFSETFROM:+0200
TZOFFSETTO:+0100
TZNAME:CET
DTSTART:20251026T010000
END:STANDARD
BEGIN:DAYLIGHT
TZOFFSETFROM:+0100
TZOFFSETTO:+0200
TZNAME:CEST
DTSTART:20260329T010000
END:DAYLIGHT
BEGIN:STANDARD
TZOFFSETFROM:+0200
TZOFFSETTO:+0100
TZNAME:CET
DTSTART:20261025T010000
END:STANDARD
BEGIN:DAYLIGHT
TZOFFSETFROM:+0100
TZOFFSETTO:+0200
TZNAME:CEST
DTSTART:20270328T010000
END:DAYLIGHT
BEGIN:STANDARD
TZOFFSETFROM:+0200
TZOFFSETTO:+0100
TZNAME:CET
DTSTART:20271031T010000
END:STANDARD
END:VTIMEZONE
BEGIN:VEVENT
DTSTART;TZID=Europe/Sarajevo:20260407T090000
DTEND;TZID=Europe/Sarajevo:20260408T150000
DTSTAMP:20260421T162006
CREATED:20260220T131311Z
LAST-MODIFIED:20260220T131311Z
UID:4729-1775552400-1775660400@rs.cest.gov.ba
SUMMARY:Primjena Strategije za unapređenje rodne ravnopravnosti u pravosuđu Bosne i Hercegovine
DESCRIPTION:Na osnovu Programa stručnog usavršavanja i početne obuke za 2026. godinu\, Centar za edukaciju sudija i javnih tužilaca u Republici Srpskoj  i Centar za edukaciju sudija i tužilaca Federacije Bosne i Hercegovine\, u saradnji sa Visokim sudskim i tužilačkim savjetom Bosne i Hercegovine\, organizuju seminar\, na temu: „Primjena Strategije za unapređenje rodne ravnopravnosti u pravosuđu Bosne i Hercegovine“\, koji će se održati 07- 08. aprila 2026. godine u Sarajevu\, hotel „Hollywood“\, Dr. Mustafe Pintole 23\, Ilidža. \nVisoki sudski i tužilački savjet Bosne i Hercegovine snosi troškove smještaja sa doručkom za dva dana (06/07/08. april)\, ručak i osvježenja za učesnika tokom seminara.\nTroškove prevoza snose učesnici. \nIzlagači će biti Meliha Sendić i Duška Ružičić Andrić iz Centra ženskih prava Zanica.
URL:https://rs.cest.gov.ba/event/primjena-strategije-za-unapredjenje-rodne-ravnopravnosti-u-pravosudju-bosne-i-hercegovine/
LOCATION:Sarajevo
CATEGORIES:Posebne teme
END:VEVENT
END:VCALENDAR