BEGIN:VCALENDAR
VERSION:2.0
PRODID:-//Javna ustanova Centar za edukaciju sudija i tužilaca u Republici Srpskoj - ECPv6.15.20//NONSGML v1.0//EN
CALSCALE:GREGORIAN
METHOD:PUBLISH
X-WR-CALNAME:Javna ustanova Centar za edukaciju sudija i tužilaca u Republici Srpskoj
X-ORIGINAL-URL:https://rs.cest.gov.ba
X-WR-CALDESC:Events for Javna ustanova Centar za edukaciju sudija i tužilaca u Republici Srpskoj
REFRESH-INTERVAL;VALUE=DURATION:PT1H
X-Robots-Tag:noindex
X-PUBLISHED-TTL:PT1H
BEGIN:VTIMEZONE
TZID:Europe/Sarajevo
BEGIN:DAYLIGHT
TZOFFSETFROM:+0100
TZOFFSETTO:+0200
TZNAME:CEST
DTSTART:20250330T010000
END:DAYLIGHT
BEGIN:STANDARD
TZOFFSETFROM:+0200
TZOFFSETTO:+0100
TZNAME:CET
DTSTART:20251026T010000
END:STANDARD
BEGIN:DAYLIGHT
TZOFFSETFROM:+0100
TZOFFSETTO:+0200
TZNAME:CEST
DTSTART:20260329T010000
END:DAYLIGHT
BEGIN:STANDARD
TZOFFSETFROM:+0200
TZOFFSETTO:+0100
TZNAME:CET
DTSTART:20261025T010000
END:STANDARD
BEGIN:DAYLIGHT
TZOFFSETFROM:+0100
TZOFFSETTO:+0200
TZNAME:CEST
DTSTART:20270328T010000
END:DAYLIGHT
BEGIN:STANDARD
TZOFFSETFROM:+0200
TZOFFSETTO:+0100
TZNAME:CET
DTSTART:20271031T010000
END:STANDARD
END:VTIMEZONE
BEGIN:VEVENT
DTSTART;TZID=Europe/Sarajevo:20260330T093000
DTEND;TZID=Europe/Sarajevo:20260330T150000
DTSTAMP:20260421T161754
CREATED:20260303T132441Z
LAST-MODIFIED:20260303T132441Z
UID:4736-1774863000-1774882800@rs.cest.gov.ba
SUMMARY:Nasilje nad ženama i djevojčicama potpomognuto tehnologijama
DESCRIPTION:Na osnovu Programa stručnog usavršavanja i početne obuke za 2026. godinu\, Centar za edukaciju sudija i javnih tužilaca u Republici Srpskoj\, u saradnji sa Fondacijom Udružene žene Banja Luka\, organizuje seminar iz krivičnopravne oblasti na temu: „Nasilje nad ženama i djevojčicama potpomognuto tehnologijama – praksa i izazovi“\, koji će se održati 30. marta 2026. godine u hotelu „Jelena“ u Banjoj Luci. \nDnevni red: \n09:30 – 10:00     Registracija učesnika/ca i kafa dobrodošlice \n10:00 – 10:15      Otvaranje seminara i uvodne riječi \n10:15 – 11:00       Nasilje nad ženama i djevojčicama potpomognuto tehnologijama (uvod\, osnovni pojmovi\, rasprostranjenost) – Gorica Ivić\, Fondacija Udružene žene Banja Luka \n11:00 – 12. 00     Evropski i domaći pravni okviri suprotstavljanja digitalnoj dimenziji nasilja nad ženama uključujući slucaj ESLjP \n12:00 – 12: 30     Pauza za kafu \n12:30 – 14.00      Panel : Odgovor\, praksa i izazovi tužilaštva u procesuiranju nasilja nad ženama sa posebnim osvrtom na upotrebu savremenih tehnologija prilikom izvršenja krivičnih djela (glavni okružni javni tužioci: Mladen Mitrović\, Okružno javno tužilaštvo u Banjoj Luci\, Slađana Marić\, Okružno javno tužilaštvo u Prijedoru\, Olivera Rauković\, Okružno javno tužilaštvo u Doboju i Milimir Pojužina\, Okružno javno tužilaštvo u Trebinju) \n14:00 – 14:30      Diskusija \n14:30                      Zaključci\, evaulacija i zatvaranje seminara \n15.00                      Zajednički ručak
URL:https://rs.cest.gov.ba/event/nasilje-nad-zenama-i-djevojcicama-potpomognuto-tehnologijama/
LOCATION:Banja Luka
CATEGORIES:Krivičnopravna oblast
END:VEVENT
END:VCALENDAR