BEGIN:VCALENDAR
VERSION:2.0
PRODID:-//Javna ustanova Centar za edukaciju sudija i tužilaca u Republici Srpskoj - ECPv6.15.20//NONSGML v1.0//EN
CALSCALE:GREGORIAN
METHOD:PUBLISH
X-WR-CALNAME:Javna ustanova Centar za edukaciju sudija i tužilaca u Republici Srpskoj
X-ORIGINAL-URL:https://rs.cest.gov.ba
X-WR-CALDESC:Events for Javna ustanova Centar za edukaciju sudija i tužilaca u Republici Srpskoj
REFRESH-INTERVAL;VALUE=DURATION:PT1H
X-Robots-Tag:noindex
X-PUBLISHED-TTL:PT1H
BEGIN:VTIMEZONE
TZID:Europe/Sarajevo
BEGIN:DAYLIGHT
TZOFFSETFROM:+0100
TZOFFSETTO:+0200
TZNAME:CEST
DTSTART:20250330T010000
END:DAYLIGHT
BEGIN:STANDARD
TZOFFSETFROM:+0200
TZOFFSETTO:+0100
TZNAME:CET
DTSTART:20251026T010000
END:STANDARD
BEGIN:DAYLIGHT
TZOFFSETFROM:+0100
TZOFFSETTO:+0200
TZNAME:CEST
DTSTART:20260329T010000
END:DAYLIGHT
BEGIN:STANDARD
TZOFFSETFROM:+0200
TZOFFSETTO:+0100
TZNAME:CET
DTSTART:20261025T010000
END:STANDARD
BEGIN:DAYLIGHT
TZOFFSETFROM:+0100
TZOFFSETTO:+0200
TZNAME:CEST
DTSTART:20270328T010000
END:DAYLIGHT
BEGIN:STANDARD
TZOFFSETFROM:+0200
TZOFFSETTO:+0100
TZNAME:CET
DTSTART:20271031T010000
END:STANDARD
END:VTIMEZONE
BEGIN:VEVENT
DTSTART;TZID=Europe/Sarajevo:20260316T093000
DTEND;TZID=Europe/Sarajevo:20260316T140000
DTSTAMP:20260421T174835
CREATED:20260310T115010Z
LAST-MODIFIED:20260310T115010Z
UID:4757-1773653400-1773669600@rs.cest.gov.ba
SUMMARY:Posebne istražne radnje
DESCRIPTION:U skladu sa Programom početne obuke i programom stručnog usavršavanja Centra za edukaciju sudija i tužilaca FBiH i Centra za edukaciju sudija i javnih tužilaca u RS za 2026. godinu\, realizovat će se Specijalistička obuka za sudije i tužioce koji rade na predmetima korupcije\, privrednog i organizovanog kriminala visokog nivoa – III godina. \nEdukator: Dr Miodrag Bajić\, zamjenik glavnog republičkog javnog tužioca – specijalni tužilac\, Posebno odjeljenje za suzbijanje korupcije\, organizovanog i najtežih oblika privrednog kriminala\, Republičko javno tužilaštvo Republike Srpske \nDnevni red: \n9:30 – 10:00       Dolazak i registracija učesnika \n10:00 – 11:30      Uslovi za primjenu posebnih istražnih radnji \nKrivična djela za koja se mogu odrediti posebne istražne radnje \nPosebne istražne radnje kao mjera ogranničenja osnovnih ljudskih prava i obaveza koje iz istog proizilaze \n11:30 – 12:00      Pauza \n12:00 – 13:30     Prijedlog tužioca za određivanje posebnih istražnih radnji \nNaredba suda za posebne istražne radnje i izdavanje usmene naredbe \nPraktičan primjer \n13:30 – 14:00     Diskusija \n14:00 –                Zaključci\, evaluacija i kraj seminara
URL:https://rs.cest.gov.ba/event/posebne-istrazne-radnje/
LOCATION:Banja Luka
CATEGORIES:Krivičnopravna oblast
END:VEVENT
END:VCALENDAR