BEGIN:VCALENDAR
VERSION:2.0
PRODID:-//Javna ustanova Centar za edukaciju sudija i tužilaca u Republici Srpskoj - ECPv6.15.20//NONSGML v1.0//EN
CALSCALE:GREGORIAN
METHOD:PUBLISH
X-ORIGINAL-URL:https://rs.cest.gov.ba
X-WR-CALDESC:Events for Javna ustanova Centar za edukaciju sudija i tužilaca u Republici Srpskoj
REFRESH-INTERVAL;VALUE=DURATION:PT1H
X-Robots-Tag:noindex
X-PUBLISHED-TTL:PT1H
BEGIN:VTIMEZONE
TZID:Europe/Sarajevo
BEGIN:DAYLIGHT
TZOFFSETFROM:+0100
TZOFFSETTO:+0200
TZNAME:CEST
DTSTART:20250330T010000
END:DAYLIGHT
BEGIN:STANDARD
TZOFFSETFROM:+0200
TZOFFSETTO:+0100
TZNAME:CET
DTSTART:20251026T010000
END:STANDARD
BEGIN:DAYLIGHT
TZOFFSETFROM:+0100
TZOFFSETTO:+0200
TZNAME:CEST
DTSTART:20260329T010000
END:DAYLIGHT
BEGIN:STANDARD
TZOFFSETFROM:+0200
TZOFFSETTO:+0100
TZNAME:CET
DTSTART:20261025T010000
END:STANDARD
BEGIN:DAYLIGHT
TZOFFSETFROM:+0100
TZOFFSETTO:+0200
TZNAME:CEST
DTSTART:20270328T010000
END:DAYLIGHT
BEGIN:STANDARD
TZOFFSETFROM:+0200
TZOFFSETTO:+0100
TZNAME:CET
DTSTART:20271031T010000
END:STANDARD
END:VTIMEZONE
BEGIN:VEVENT
DTSTART;TZID=Europe/Sarajevo:20260311T090000
DTEND;TZID=Europe/Sarajevo:20260312T150000
DTSTAMP:20260421T175128
CREATED:20260220T130847Z
LAST-MODIFIED:20260220T130847Z
UID:4727-1773219600-1773327600@rs.cest.gov.ba
SUMMARY:Obuka o zabrani diskriminacije\, govoru mržnje i zločinu iz mržnje
DESCRIPTION:Centar za edukaciju sudija i javnih tužilaca u Republici Srpskoj i Centar za edukaciju sudija i tužilaca Federacije Bosne i Hercegovine\, u okviru projekta Savjeta Evrope „Podrška dosljednoj nacionalnoj provedbi Evropske konvencije o ljudskim pravima i olakšavanje izvršenja presuda Evropskog suda za ljudska prava u BiH“\, organizuju nastavak edukacije iz oblasti ljudskim prava\, na temu: „Obuka o zabrani diskriminacije\, govoru mržnje i zločinu iz mržnje“\, koji će se održati 11 -12. mart 2026. godine u Sarajevu/naziv hotela biće naknadno potvrđen. \nIzlagači će biti prof. dr Midhat Izmirlija i Sevima Sali Terzić\, eksperti Savjeta Evrope. \nProjekat snosi troškove smještaja učesnika kako slijedi: \n\n(10/11. mart) za učesnike koji su udaljeni više od sat vremena vožnje od Sarajeva\n(11/12. mart) za ostale učesnike koji dolaze izvan Sarajeva i regije.\n\nTroškove prevoza snose učesnici. \nPozivamo Vas da pisane prijave\, potpisane od predsjednika suda/glavnog tužioca\, uz naznaku da li je potrebna usluga smještaja u hotelu\, i za koje dane\, dostavite CEST-u RS\, najkasnije do 03. marta 2026. godine. Vaše prijave molimo da dostavite na e-mail adresu: nikola.mitrovic@rs.cest.gov.ba ili faksom na broj: 051/434-040. \nOvoj edukaciji mogu prisustvovati samo sudije i javni tužioci\, koji su\, kao novoimenovani nosioci pravosudne funkcije tokom 2025. godine (četvrta generacija) uspješno okončali obaveznu obuku iz oblasti ljudskih prava za ovu ciljnu grupu\, realizovanu na osnovu Programa stručnog usavršavanja i početne obuke CEST-a RS za 2025. godinu. \nBroj učesnika seminara je ograničen. Ukoliko Vaša prijava ne bude prihvaćena zbog ograničenog broja učesnika\, bićete o tome posebno obaviješteni. \nNapominjemo da je za pristup ovom seminaru uživo\, neophodno ispuniti preduslov\, odnosno završiti online (HELP) kurs\, koji se nalazi na sljedećem linku: \nLink za kurs: Section: ℹ️ Course information | Antidiskriminacija\, CEST RS i FBiH\, generacija 2025 | HELP Programme\, ADBIH2602 \nDostavljamo i linkove za još dva kursa\, koje je poželjno završiti do 31. jula 2026. godine. Radi se o kratkim\, ali izuzetno važnim kursevima: \n\nGovor mržnje: Section: ℹ️ Course information | Govor mržnje\, CEST RS i FBiH\, generacija 2025 | HELP Programme\, HSBIH2602\nZločin iz mržnje: Section: ℹ️ Course information | Zločin iz mržnje\, CEST RS i FBiH\, generacija 2025 | HELP Programme\, HCBIH2602\n\nUčesnici se sami upisuju na kurs\, naravno\, pod uslovom da su već registrovani na HELP platformi.  Kako kreirati profil \nKoleginica iz HELP-a je kreirala podstranicu na platformi za kurs\, što će nam omogućiti pregled informacija o tome ko je završio kurseve\, bez potrebe da polaznici pojedinačno dostavljaju certifikate i time dodatno opterećuju organizatore.
URL:https://rs.cest.gov.ba/event/obuka-o-zabrani-diskriminacije-govoru-mrznje-i-zlocinu-iz-mrznje/
LOCATION:Sarajevo
CATEGORIES:Posebne teme
END:VEVENT
END:VCALENDAR