BEGIN:VCALENDAR
VERSION:2.0
PRODID:-//Javna ustanova Centar za edukaciju sudija i tužilaca u Republici Srpskoj - ECPv6.15.20//NONSGML v1.0//EN
CALSCALE:GREGORIAN
METHOD:PUBLISH
X-WR-CALNAME:Javna ustanova Centar za edukaciju sudija i tužilaca u Republici Srpskoj
X-ORIGINAL-URL:https://rs.cest.gov.ba
X-WR-CALDESC:Events for Javna ustanova Centar za edukaciju sudija i tužilaca u Republici Srpskoj
REFRESH-INTERVAL;VALUE=DURATION:PT1H
X-Robots-Tag:noindex
X-PUBLISHED-TTL:PT1H
BEGIN:VTIMEZONE
TZID:Europe/Sarajevo
BEGIN:DAYLIGHT
TZOFFSETFROM:+0100
TZOFFSETTO:+0200
TZNAME:CEST
DTSTART:20250330T010000
END:DAYLIGHT
BEGIN:STANDARD
TZOFFSETFROM:+0200
TZOFFSETTO:+0100
TZNAME:CET
DTSTART:20251026T010000
END:STANDARD
BEGIN:DAYLIGHT
TZOFFSETFROM:+0100
TZOFFSETTO:+0200
TZNAME:CEST
DTSTART:20260329T010000
END:DAYLIGHT
BEGIN:STANDARD
TZOFFSETFROM:+0200
TZOFFSETTO:+0100
TZNAME:CET
DTSTART:20261025T010000
END:STANDARD
BEGIN:DAYLIGHT
TZOFFSETFROM:+0100
TZOFFSETTO:+0200
TZNAME:CEST
DTSTART:20270328T010000
END:DAYLIGHT
BEGIN:STANDARD
TZOFFSETFROM:+0200
TZOFFSETTO:+0100
TZNAME:CET
DTSTART:20271031T010000
END:STANDARD
END:VTIMEZONE
BEGIN:VEVENT
DTSTART;TZID=Europe/Sarajevo:20260220T093000
DTEND;TZID=Europe/Sarajevo:20260220T143000
DTSTAMP:20260421T193214
CREATED:20260204T120530Z
LAST-MODIFIED:20260204T120530Z
UID:4688-1771579800-1771597800@rs.cest.gov.ba
SUMMARY:Krivična djela protiv izbornih prava
DESCRIPTION:Na osnovu Programa stručnog usavršavanja i početne obuke za 2026. godinu\, Centar za edukaciju sudija i javnih tužilaca u Republici Srpskoj\, u saradnji sa Centrom za edukaciju sudija i tužilaca u FBiH\, organizuje seminar iz krivičnopravne oblasti na temu: „Krivična djela protiv izbornih prava“\, koji će se održati 20. februara 2026. godine u prostorijama Centra za edukaciju sudija i javnih tužilaca u Republici Srpskoj\, Banja Luka. \nIzlagači će biti sudija Nebojša Savić\, Osnovni sud Brčko distrikta BiH\, glavni okružni javni tužilac Olivera Rauković\, Okružno javno tužilaštvo u Doboju\, glavni okružni javni tužilac Milimir Pojužina\, Okružno javno tužilaštvo u Trebinju i g. Goran Mišković\, sekretar Sekretarijata Centralne izborne komisije BiH. \nDnevni red: \n09:30 – 10:00     Dolazak učesnika/ica \n10:00 – 10:15     Uvodno obraćanje \n10:15 – 11:00      Procesuiranje izbornih nepravilnosti u CIK BiH u kontekstu izmjena i dopuna  Izbornog zakona Bosne i Hercegovine od 26.03.2024. godine \n\nNajčešći oblici izbornih nepravilnosti\nPrimjeri iz dosadašnje prakse CIK BiH\nSaradnja sa drugim institucijama (policija\, tužilaštva\, sudovi)\n\n11:00– 11:45        Sudska praksa u procesuiranju krivičnih djela protiv izbornih prava \n11:45 – 12:15        Pauza \n12:15 – 13:45       Uloga tužilaštava u procesuiranju izbornih prevara i krivičnih djela u izbornom procesu\, analiza konkretnih slučajeva – iskustva iz dosadašnje prakse tužilaštava \n13:45 – 14:30       Diskusija\, zaključci\, evaluacija i kraj seminara
URL:https://rs.cest.gov.ba/event/krivicna-djela-protiv-izbornih-prava-2/
LOCATION:Banja Luka
CATEGORIES:Krivičnopravna oblast
END:VEVENT
END:VCALENDAR