BEGIN:VCALENDAR
VERSION:2.0
PRODID:-//Javna ustanova Centar za edukaciju sudija i tužilaca u Republici Srpskoj - ECPv6.15.20//NONSGML v1.0//EN
CALSCALE:GREGORIAN
METHOD:PUBLISH
X-WR-CALNAME:Javna ustanova Centar za edukaciju sudija i tužilaca u Republici Srpskoj
X-ORIGINAL-URL:https://rs.cest.gov.ba
X-WR-CALDESC:Events for Javna ustanova Centar za edukaciju sudija i tužilaca u Republici Srpskoj
REFRESH-INTERVAL;VALUE=DURATION:PT1H
X-Robots-Tag:noindex
X-PUBLISHED-TTL:PT1H
BEGIN:VTIMEZONE
TZID:Europe/Sarajevo
BEGIN:DAYLIGHT
TZOFFSETFROM:+0100
TZOFFSETTO:+0200
TZNAME:CEST
DTSTART:20240331T010000
END:DAYLIGHT
BEGIN:STANDARD
TZOFFSETFROM:+0200
TZOFFSETTO:+0100
TZNAME:CET
DTSTART:20241027T010000
END:STANDARD
BEGIN:DAYLIGHT
TZOFFSETFROM:+0100
TZOFFSETTO:+0200
TZNAME:CEST
DTSTART:20250330T010000
END:DAYLIGHT
BEGIN:STANDARD
TZOFFSETFROM:+0200
TZOFFSETTO:+0100
TZNAME:CET
DTSTART:20251026T010000
END:STANDARD
BEGIN:DAYLIGHT
TZOFFSETFROM:+0100
TZOFFSETTO:+0200
TZNAME:CEST
DTSTART:20260329T010000
END:DAYLIGHT
BEGIN:STANDARD
TZOFFSETFROM:+0200
TZOFFSETTO:+0100
TZNAME:CET
DTSTART:20261025T010000
END:STANDARD
END:VTIMEZONE
BEGIN:VEVENT
DTSTART;TZID=Europe/Sarajevo:20251119T100000
DTEND;TZID=Europe/Sarajevo:20251119T143000
DTSTAMP:20260421T161752
CREATED:20251022T112006Z
LAST-MODIFIED:20251022T112006Z
UID:4582-1763546400-1763562600@rs.cest.gov.ba
SUMMARY:Modul 4 – Izvršna i upravna oblast
DESCRIPTION:Obavještavamo Vas da Centar za edukaciju sudija i javnih tužilaca u Republici Srpskoj\, na osnovu Programa stručnog usavršavanja i početne obuke za 2025. godinu\, u okviru druge godine početne obuke stručnih saradnika\, organizuje obaveznu obuku za stručne saradnike zaposlene u sudovima i tužilaštvima\, i to: “Modul 4 – Izvršna i upravna oblast”\, koji će se održati 19. novembra 2025. godine u Banjaluci\, prostorije CEST-a RS\, Bulevar vojvode Stepe Stepanovića 60. \nEdukatori će biti Darko Stamenić\, sudija Vrhovnog suda Republike Srpske i Nives Ćetojević\, sudija Okružnog suda u Banjoj Luci.\nPozivamo Vas da\, pisane prijave sa imenima stručnih saradnika\, dostavite CEST-u RS\, najkasnije do 12. novembra 2025. godine.\nOvom seminaru obavezni su da prisustvuju stručni saradnici koji su imenovani nakon njegovog održavanja u 2022. godini\, kao i oni stručni saradnici koji su u tom periodu već obavljali funkciju stručnog saradnika\, ali iz određenih razloga nisu prisustvovali ovom seminaru. Podrazumijeva se da će se ovoj grupi polaznika obuke priključiti i stručni saradnici koji budu imenovani tokom 2025. godine\, dok obuka za drugu godinu još uvijek bude trajala.\nNapominjemo da svi stručni saradnici koji nisu pohađali ovaj seminar 2022. godine\, bez obzira na kojem referatu su trenutno raspoređeni\, podliježu obavezi prisustva seminaru.
URL:https://rs.cest.gov.ba/event/modul-4-izvrsna-i-upravna-oblast/
LOCATION:Banja Luka
CATEGORIES:Obuka za stručne saradnike
END:VEVENT
END:VCALENDAR