BEGIN:VCALENDAR
VERSION:2.0
PRODID:-//Javna ustanova Centar za edukaciju sudija i tužilaca u Republici Srpskoj - ECPv6.15.20//NONSGML v1.0//EN
CALSCALE:GREGORIAN
METHOD:PUBLISH
X-ORIGINAL-URL:https://rs.cest.gov.ba
X-WR-CALDESC:Events for Javna ustanova Centar za edukaciju sudija i tužilaca u Republici Srpskoj
REFRESH-INTERVAL;VALUE=DURATION:PT1H
X-Robots-Tag:noindex
X-PUBLISHED-TTL:PT1H
BEGIN:VTIMEZONE
TZID:Europe/Sarajevo
BEGIN:DAYLIGHT
TZOFFSETFROM:+0100
TZOFFSETTO:+0200
TZNAME:CEST
DTSTART:20240331T010000
END:DAYLIGHT
BEGIN:STANDARD
TZOFFSETFROM:+0200
TZOFFSETTO:+0100
TZNAME:CET
DTSTART:20241027T010000
END:STANDARD
BEGIN:DAYLIGHT
TZOFFSETFROM:+0100
TZOFFSETTO:+0200
TZNAME:CEST
DTSTART:20250330T010000
END:DAYLIGHT
BEGIN:STANDARD
TZOFFSETFROM:+0200
TZOFFSETTO:+0100
TZNAME:CET
DTSTART:20251026T010000
END:STANDARD
BEGIN:DAYLIGHT
TZOFFSETFROM:+0100
TZOFFSETTO:+0200
TZNAME:CEST
DTSTART:20260329T010000
END:DAYLIGHT
BEGIN:STANDARD
TZOFFSETFROM:+0200
TZOFFSETTO:+0100
TZNAME:CET
DTSTART:20261025T010000
END:STANDARD
END:VTIMEZONE
BEGIN:VEVENT
DTSTART;TZID=Europe/Sarajevo:20251118T103000
DTEND;TZID=Europe/Sarajevo:20251118T140000
DTSTAMP:20260421T162050
CREATED:20251022T111419Z
LAST-MODIFIED:20251022T111419Z
UID:4580-1763461800-1763474400@rs.cest.gov.ba
SUMMARY:Specifični aspekti pristupa pravdi sa stanovišta pripadnika ranjivih grupa
DESCRIPTION:Na osnovu Programa stručnog usavršavanja i početne obuke za 2025. godinu\, Centar za edukaciju sudija i javnih tužilaca u Republici Srpskoj  i Centar za edukaciju sudija i tužilaca Federacije Bosne i Hercegovine\, organizuju seminar\, na temu: „Specifični aspekti pristupa pravdi sa stanovišta pripadnika ranjivih grupa (djeca\, osobe sa invaliditetom\, Romi\, LGBTI osobe\, mariginalizovane kategorije žena )“\, koji će se održati 18. novembra 2025. godine u Banjaluci\, sala CEST-a RS\, Bulevar vojvode Stepe Stepanovića 60. \nIzlagač će biti Melisa Vardo\, psiholog\, Kantonalno tužilaštvo u Zenici.\nU skladu sa Odlukom Visokog sudskog i tužilačkog savjeta Bosne i Hercegovine o minimalnom obimu početne obuke i stručnog usavršavanja sudija i tužilaca u Bosni i Hercegovini od 24. oktobra 2018. godine\, ovaj seminar je obavezujući za novoimenovane javne tužioce koji su imenovani i stupili na dužnost u 2025. godini. Takođe\, javni tužioci koji su prvi put imenovani i stupili na dužnost u 2024. godini\, nakon realizovanja ove obuke u 2024. godini\, imaju obavezu da\, zajedno sa novoimenovanim javnim tužiocima koji su stupili na dužnost u 2025. godini\, pohađaju ovaj seminar. \nDnevni red: \n10:30 – 10:40 \n\nOtvaranje Seminara\, predstavljanje učesnika i programa Seminara\nOsnovne vještine komunikacije – komunikacija sa svjedocima\, žrtvama\, oštećenima\nO stigmatizaciji i predrasudama\n\n10:40 – 12:00 \n\nKomunikacija sa različitim ranjivim kategorijama osoba; prepoznavanje specifičnih potreba\nKomunikacija u situacijama ekspresije intenzivnih osjećanja\n\n12:00 – 12:30    Pauza \n12:30 – 13:45     Profesionalna ograničenja u radu sa osjetljivim kategorijama \n13:45 – 14:00 \n\nEvaluacija seminara\nZatvaranje seminara
URL:https://rs.cest.gov.ba/event/specificni-aspekti-pristupa-pravdi-sa-stanovista-pripadnika-ranjivih-grupa-2/
LOCATION:Banja Luka
CATEGORIES:Obuka za novoimenovane NPF
END:VEVENT
END:VCALENDAR