BEGIN:VCALENDAR
VERSION:2.0
PRODID:-//Javna ustanova Centar za edukaciju sudija i tužilaca u Republici Srpskoj - ECPv6.15.20//NONSGML v1.0//EN
CALSCALE:GREGORIAN
METHOD:PUBLISH
X-ORIGINAL-URL:https://rs.cest.gov.ba
X-WR-CALDESC:Events for Javna ustanova Centar za edukaciju sudija i tužilaca u Republici Srpskoj
REFRESH-INTERVAL;VALUE=DURATION:PT1H
X-Robots-Tag:noindex
X-PUBLISHED-TTL:PT1H
BEGIN:VTIMEZONE
TZID:Europe/Sarajevo
BEGIN:DAYLIGHT
TZOFFSETFROM:+0100
TZOFFSETTO:+0200
TZNAME:CEST
DTSTART:20240331T010000
END:DAYLIGHT
BEGIN:STANDARD
TZOFFSETFROM:+0200
TZOFFSETTO:+0100
TZNAME:CET
DTSTART:20241027T010000
END:STANDARD
BEGIN:DAYLIGHT
TZOFFSETFROM:+0100
TZOFFSETTO:+0200
TZNAME:CEST
DTSTART:20250330T010000
END:DAYLIGHT
BEGIN:STANDARD
TZOFFSETFROM:+0200
TZOFFSETTO:+0100
TZNAME:CET
DTSTART:20251026T010000
END:STANDARD
BEGIN:DAYLIGHT
TZOFFSETFROM:+0100
TZOFFSETTO:+0200
TZNAME:CEST
DTSTART:20260329T010000
END:DAYLIGHT
BEGIN:STANDARD
TZOFFSETFROM:+0200
TZOFFSETTO:+0100
TZNAME:CET
DTSTART:20261025T010000
END:STANDARD
END:VTIMEZONE
BEGIN:VEVENT
DTSTART;TZID=Europe/Sarajevo:20251113T093000
DTEND;TZID=Europe/Sarajevo:20251114T123000
DTSTAMP:20260421T162051
CREATED:20251030T130725Z
LAST-MODIFIED:20251107T125104Z
UID:4595-1763026200-1763123400@rs.cest.gov.ba
SUMMARY:Aktuelna pitanja iz prakse privrednih sudova u Republici Srpskoj
DESCRIPTION:Centar za edukaciju sudija i javnih tužilaca u Republici Srpskoj\, u okviru Programa stručnog usavršavanja i početne obuke za 2025. godinu\, organizuje seminar iz privrednopravne oblasti\, na temu: „Aktuelna pitanja iz prakse privrednih sudova u Republici Srpskoj“\, koji će se održati 13-14. novembra 2024. godine\, u Palati pravde\, Vojvode Stepe Stepanovića br. 2\, Trebinje.\nEdukatori na ovom seminaru će biti gđa Branka Skoko\, sudija i predsjednica Višeg privrednog suda Republike Srpske i gdin Bogdan Gajić\, sudija Višeg privrednog suda Republike Srpske. \nDnevni red: \n13. novembar 2025. godine \n09:15 – 09:30      Otvaranje seminara i pozdravna riječ organizatora \n09:30– 12:30       Aktuelna pitanja iz prakse privrednih sudova u Republici Srpskoj \n12:30 – 13:00       Pauza \n13:00 – 15:30       Aktuelna pitanja iz prakse privrednih sudova u Republici Srpskoj \n14. novembar 2025. godine \n09:00 – 10:15       Aktuelna pitanja iz prakse privrednih sudova u Republici Srpskoj \n10:15 – 10:45        Pauza \n10:45 – 12:00       Aktuelna pitanja iz prakse privrednih sudova u Republici Srpskoj \n12:00 – 12:30        Diskusija\, evaluacija i registracija učesnika
URL:https://rs.cest.gov.ba/event/aktuelna-pitanja-iz-prakse-privrednih-sudova-u-republici-srpskoj-2/
LOCATION:Trebinje
CATEGORIES:Privrednopravna oblast
END:VEVENT
BEGIN:VEVENT
DTSTART;TZID=Europe/Sarajevo:20251114T103000
DTEND;TZID=Europe/Sarajevo:20251114T143000
DTSTAMP:20260421T162051
CREATED:20251022T110844Z
LAST-MODIFIED:20251022T110914Z
UID:4578-1763116200-1763130600@rs.cest.gov.ba
SUMMARY:Uloga oštećenog u krivičnom postupku
DESCRIPTION:Na osnovu Programa stručnog usavršavanja i početne obuke za 2025. godinu\, Centar za edukaciju sudija i javnih tužilaca u Republici Srpskoj organizuje seminar iz krivičnopravne oblasti na temu: „Uloga oštećenog u krivičnom postupku“\, koji će se održati u petak\, 14. novembra 2025. godine u prostorijama Centra za edukaciju sudija i javnih tužilaca u Republici Srpskoj\, Banja Luka. \nIzlagač će biti dr Radenko Janković\, republički javni tužilac\, Republičko javno tužilaštvo Republike Srpske. \nDnevni red: \n10:00 – 10:30   Registracija učesnika \n10:30– 12:00    Prava i dužnosti oštećenog u krivičnom postupku\nOštećeni kao tužilac u krivičnom postupku \n12:00 – 12:30   Pauza za kafu \n12:30 – 14:00   Imovinskopravni zahtjevi oštećenog u krivičnom postupku\nPravna sredstva oštećenog u krivičnom postupku (pritužbe i prigovori) \n14:00 – 14:30   Diskusija\, zaključci i evaluacija seminara
URL:https://rs.cest.gov.ba/event/uloga-ostecenog-u-krivicnom-postupku/
LOCATION:Banja Luka
CATEGORIES:Krivičnopravna oblast
END:VEVENT
END:VCALENDAR