BEGIN:VCALENDAR
VERSION:2.0
PRODID:-//Javna ustanova Centar za edukaciju sudija i tužilaca u Republici Srpskoj - ECPv6.15.20//NONSGML v1.0//EN
CALSCALE:GREGORIAN
METHOD:PUBLISH
X-WR-CALNAME:Javna ustanova Centar za edukaciju sudija i tužilaca u Republici Srpskoj
X-ORIGINAL-URL:https://rs.cest.gov.ba
X-WR-CALDESC:Events for Javna ustanova Centar za edukaciju sudija i tužilaca u Republici Srpskoj
REFRESH-INTERVAL;VALUE=DURATION:PT1H
X-Robots-Tag:noindex
X-PUBLISHED-TTL:PT1H
BEGIN:VTIMEZONE
TZID:Europe/Sarajevo
BEGIN:DAYLIGHT
TZOFFSETFROM:+0100
TZOFFSETTO:+0200
TZNAME:CEST
DTSTART:20240331T010000
END:DAYLIGHT
BEGIN:STANDARD
TZOFFSETFROM:+0200
TZOFFSETTO:+0100
TZNAME:CET
DTSTART:20241027T010000
END:STANDARD
BEGIN:DAYLIGHT
TZOFFSETFROM:+0100
TZOFFSETTO:+0200
TZNAME:CEST
DTSTART:20250330T010000
END:DAYLIGHT
BEGIN:STANDARD
TZOFFSETFROM:+0200
TZOFFSETTO:+0100
TZNAME:CET
DTSTART:20251026T010000
END:STANDARD
BEGIN:DAYLIGHT
TZOFFSETFROM:+0100
TZOFFSETTO:+0200
TZNAME:CEST
DTSTART:20260329T010000
END:DAYLIGHT
BEGIN:STANDARD
TZOFFSETFROM:+0200
TZOFFSETTO:+0100
TZNAME:CET
DTSTART:20261025T010000
END:STANDARD
END:VTIMEZONE
BEGIN:VEVENT
DTSTART;TZID=Europe/Sarajevo:20251104T090000
DTEND;TZID=Europe/Sarajevo:20251106T170000
DTSTAMP:20260421T161754
CREATED:20250917T121203Z
LAST-MODIFIED:20250917T121203Z
UID:4524-1762246800-1762448400@rs.cest.gov.ba
SUMMARY:Istraga i procesuiranje digitalne piraterije i visokotehnološkog kriminala
DESCRIPTION:Kancelarija za razvoj\, podršku i obuku tužioca Ministarstva pravde SAD-a (OPDAT)\, implementacioni partner Kancelarije za borbu protiv međunarodne trgovine narkotika i provođenje zakona(INL) u saradnji sa Centrom za edukaciju sudija i javnih tužilaca u RS i Centrom za edukaciju sudija i tužilaca FBiH\, organizuje seminar na temu: „Istraga i procesuiranje digitalne piraterije i visokotehnološkog kriminala“\, koji će se održati od 4. do 6. novembra 2025. godine u Sarajevu. \nOvaj program okuplja istražioce\, tužioce i forenzičke analitičare iz regije\, sa stručnjacima iz Sjedinjenih Američkih Država\, te će biti fokusiran na prikupljanje i analizu digitalnih dokaza\, vođenje internet istraga\, te procesuiranje predmeta digitalne piraterije i visokotehnološkog kriminala. Radionica će se održavati na engleskom jeziku uz simultani prevod
URL:https://rs.cest.gov.ba/event/istraga-i-procesuiranje-digitalne-piraterije-i-visokotehnoloskog-kriminala/
LOCATION:Sarajevo
CATEGORIES:Krivičnopravna oblast
END:VEVENT
BEGIN:VEVENT
DTSTART;TZID=Europe/Sarajevo:20251105T093000
DTEND;TZID=Europe/Sarajevo:20251106T160000
DTSTAMP:20260421T161754
CREATED:20251022T094353Z
LAST-MODIFIED:20251022T094353Z
UID:4570-1762335000-1762444800@rs.cest.gov.ba
SUMMARY:Obuka o govoru mržnje i zločinu iz mržnje
DESCRIPTION:Centar za edukaciju sudija i javnih tužilaca u Republici Srpskoj i Centar za edukaciju sudija i tužilaca u Federaciji Bosne i Hercegovine\, u okviru projekta Savjeta Evrope „Podrška dosljednoj nacionalnoj provedbi Evropske konvencije o ljudskim pravima i olakšavanje izvršenja presuda Evropskog suda za ljudska prava u BiH“\, organizuju nastavak edukacije iz oblasti ljudskim prava\, na temu: „Obuka o govoru mržnje i zločinu iz mržnje“\, koji će se održati 05 -06. novembra 2025. godine u Sarajevu (naziv hotela biće naknadno iskomuniciran). \nEdukatori će biti eksperti iz ove oblasti. \nProjekat snosi troškove smještaja učesnika za dva noćenja (04/05/06. novembar)\, a troškove prevoza snose učesnici. \nPozivamo Vas da pisane prijave\, potpisane od predsjednika suda/glavnog tužioca\, uz naznaku da li je potrebna usluga smještaja u hotelu\, i za koje dane\, dostavite CEST-u RS\, najkasnije do 26. oktobra 2025. godine. \nOvoj edukaciji mogu prisustvovati samo sudije i javni tužioci\, koji su\, kao novoimenovani nosioci pravosudne funkcije tokom 2023. godine (druga generacija) uspješno okončali obaveznu obuku iz oblasti ljudskih prava za ovu ciljnu grupu\, realizovanu na osnovu Programa stručnog usavršavanja i početne obuke CEST-a RS za 2023. godinu. \nBroj učesnika seminara je ograničen. Ukoliko Vaša prijava ne bude prihvaćena zbog ograničenog broja učesnika\, bićete o tome posebno obaviješteni. \nNapominjemo da je za pristup ovom seminaru uživo\, neophodno ispuniti preduslov\, odnosno završiti online (HELP) kurseve\, koji se nalaze na sljedećim linkovima: \nhttps://help.elearning.ext.coe.int/course/view.php?id=6157 \nhttps://help.elearning.ext.coe.int/course/view.php?id=1810 \nTakođe\, za prisustvo na ovom seminaru\, in vivo\, potrebno je da nam dostavite certifikat o tome da ste uspješno odslušali navedene HELP online seminare.
URL:https://rs.cest.gov.ba/event/obuka-o-govoru-mrznje-i-zlocinu-iz-mrznje-3/
LOCATION:Sarajevo
CATEGORIES:Ljudska prava
END:VEVENT
BEGIN:VEVENT
DTSTART;TZID=Europe/Sarajevo:20251105T100000
DTEND;TZID=Europe/Sarajevo:20251106T133000
DTSTAMP:20260421T161754
CREATED:20251022T094758Z
LAST-MODIFIED:20251030T131648Z
UID:4572-1762336800-1762435800@rs.cest.gov.ba
SUMMARY:Uloga predsjednika sudova i glavnih tužilaca u očuvanju integriteta pravosudnih institucija
DESCRIPTION:Na prijedlog Visokog sudskog i tužilačkog savjeta Bosne i Hercegovine\, Centar za edukaciju sudija i javnih tužilaca u Republici Srpskoj i Centar za edukaciju sudija i tužilaca Federacije Bosne i Hercegovine\, u skladu s Programom stručnog usavršavanja i početne obuke za 2025. godinu\, organizuju seminar\, na temu: „Uloga predsjednika sudova i glavnih tužilaca u očuvanju integriteta pravosudnih institucija“\, koji će se održati 05 – 06. novembra 2025. godine u Banjaluci\, sala CEST-a RS\, Bulevar vojvode Stepe Stepanovića 60. \nIzlagači na seminaru su: mr\, Dragoslav Erdelić\, sudija Okružnog suda u Bijeljini\, Neven Kramer\, sekretar Okružnog javnog tužilaštva u Istočnom Sarajevu i Kristijan Vasilić\, stručni savjetnik u Ministarstvu sigurnosti Bosne i Hercegovine – Sektoru za zaštitu tajnih podataka\, državni sigurnosni organ \nDnevni red: \nSrijeda\, 05. 11. 2025. godine \n10:00 – 10:10         Dolazak  učesnika i registracija \n10:10 – 10:20        Otvaranje i uvodne napomene \n10:20 – 10:30        Znanje kao bitan faktor integriteta i uloga edukacije \n10:30 – 11:30          Novine uvedene Zakonom o izmjenama i dopunama Zakona o VSTS-u BiH sa osvrtom na disciplinske prakse \n11:30 – 11:45           Diskusija\, pitanja i odgovori \n11:45 – 12:15            Pauza \n12:15 – 13:15            Povjerljivo savjetovanje \n13:15 – 13:30           Diskusija\, pitanja i odgovori \n13:30-                       Kraj prvog dana seminara \nČetvrtak\, 06. 11. 2025. godine \n10:00 –  10:30         Dolazak učesnika i registracija \n10:30 – 11:15            Planovi integriteta – svrha i druge mjere iz planova integriteta“ \nImplementacija mjera iz planova integriteta \nIskustva pravosudnih institucija u BiH u primjeni planova integriteta \n11:15– 11:30             Diskusija\, pitanja i odgovori \n11:30 – 12:00           Pauza \n12:00- 13:00            Iskustva u primjeni Zakona o zaštiti tajnih podataka \n13:00- 13:15             Diskusija\, pitanja i odgovori \n13:15- 13:30              Evaluacija seminara i završne riječi
URL:https://rs.cest.gov.ba/event/uloga-predsjednika-sudova-i-glavnih-tuzilaca-u-ocuvanju-integriteta-pravosudnih-institucija-4/
LOCATION:Banja Luka
CATEGORIES:Obuka za rukovodioce NPF
END:VEVENT
END:VCALENDAR