BEGIN:VCALENDAR
VERSION:2.0
PRODID:-//Javna ustanova Centar za edukaciju sudija i tužilaca u Republici Srpskoj - ECPv6.15.20//NONSGML v1.0//EN
CALSCALE:GREGORIAN
METHOD:PUBLISH
X-ORIGINAL-URL:https://rs.cest.gov.ba
X-WR-CALDESC:Events for Javna ustanova Centar za edukaciju sudija i tužilaca u Republici Srpskoj
REFRESH-INTERVAL;VALUE=DURATION:PT1H
X-Robots-Tag:noindex
X-PUBLISHED-TTL:PT1H
BEGIN:VTIMEZONE
TZID:Europe/Sarajevo
BEGIN:DAYLIGHT
TZOFFSETFROM:+0100
TZOFFSETTO:+0200
TZNAME:CEST
DTSTART:20240331T010000
END:DAYLIGHT
BEGIN:STANDARD
TZOFFSETFROM:+0200
TZOFFSETTO:+0100
TZNAME:CET
DTSTART:20241027T010000
END:STANDARD
BEGIN:DAYLIGHT
TZOFFSETFROM:+0100
TZOFFSETTO:+0200
TZNAME:CEST
DTSTART:20250330T010000
END:DAYLIGHT
BEGIN:STANDARD
TZOFFSETFROM:+0200
TZOFFSETTO:+0100
TZNAME:CET
DTSTART:20251026T010000
END:STANDARD
BEGIN:DAYLIGHT
TZOFFSETFROM:+0100
TZOFFSETTO:+0200
TZNAME:CEST
DTSTART:20260329T010000
END:DAYLIGHT
BEGIN:STANDARD
TZOFFSETFROM:+0200
TZOFFSETTO:+0100
TZNAME:CET
DTSTART:20261025T010000
END:STANDARD
END:VTIMEZONE
BEGIN:VEVENT
DTSTART;TZID=Europe/Sarajevo:20250930T100000
DTEND;TZID=Europe/Sarajevo:20250930T150000
DTSTAMP:20260421T150024
CREATED:20250820T111442Z
LAST-MODIFIED:20250820T111442Z
UID:4459-1759226400-1759244400@rs.cest.gov.ba
SUMMARY:Neovlaštena proizvodnja i promet opojnih droga
DESCRIPTION:Na osnovu Programa stručnog usavršavanja i početne obuke za 2025. godinu\, Centar za edukaciju sudija i javnih tužilaca u Republici Srpskoj organizuje seminar iz krivičnopravne oblasti na temu: „Neovlaštena proizvodnja i promet opojnih droga“ (Otkrivanje i detektovanje ilegalnih laboratorija za proizvodnju psihoaktivnih supstanci i prekursora\, te identifikacija i analiza opojnih droga i psihoaktivnih supstanci)\, koji će se održati 30. septembra 2025. godine u prostorijama Centra za edukaciju sudija i javnih tužilaca u Republici Srpskoj\, u Banjoj Luci (ul. Vojvode Stepe Stepanovića br. 60). \nEdukatori će biti tužilac Sanja Guzina\, Okružno javno tužilaštvo u Banjoj Luci\, g. Saša Labotić\, advokat iz Banjaluke i dr Mirjana Dragoljić\, vještak za hemijsko-tehnološku oblast.
URL:https://rs.cest.gov.ba/event/neovlastena-proizvodnja-i-promet-opojnih-droga/
LOCATION:Banja Luka
CATEGORIES:Krivičnopravna oblast
END:VEVENT
END:VCALENDAR