BEGIN:VCALENDAR
VERSION:2.0
PRODID:-//Javna ustanova Centar za edukaciju sudija i tužilaca u Republici Srpskoj - ECPv6.15.20//NONSGML v1.0//EN
CALSCALE:GREGORIAN
METHOD:PUBLISH
X-WR-CALNAME:Javna ustanova Centar za edukaciju sudija i tužilaca u Republici Srpskoj
X-ORIGINAL-URL:https://rs.cest.gov.ba
X-WR-CALDESC:Events for Javna ustanova Centar za edukaciju sudija i tužilaca u Republici Srpskoj
REFRESH-INTERVAL;VALUE=DURATION:PT1H
X-Robots-Tag:noindex
X-PUBLISHED-TTL:PT1H
BEGIN:VTIMEZONE
TZID:Europe/Sarajevo
BEGIN:DAYLIGHT
TZOFFSETFROM:+0100
TZOFFSETTO:+0200
TZNAME:CEST
DTSTART:20240331T010000
END:DAYLIGHT
BEGIN:STANDARD
TZOFFSETFROM:+0200
TZOFFSETTO:+0100
TZNAME:CET
DTSTART:20241027T010000
END:STANDARD
BEGIN:DAYLIGHT
TZOFFSETFROM:+0100
TZOFFSETTO:+0200
TZNAME:CEST
DTSTART:20250330T010000
END:DAYLIGHT
BEGIN:STANDARD
TZOFFSETFROM:+0200
TZOFFSETTO:+0100
TZNAME:CET
DTSTART:20251026T010000
END:STANDARD
BEGIN:DAYLIGHT
TZOFFSETFROM:+0100
TZOFFSETTO:+0200
TZNAME:CEST
DTSTART:20260329T010000
END:DAYLIGHT
BEGIN:STANDARD
TZOFFSETFROM:+0200
TZOFFSETTO:+0100
TZNAME:CET
DTSTART:20261025T010000
END:STANDARD
END:VTIMEZONE
BEGIN:VEVENT
DTSTART;TZID=Europe/Sarajevo:20250929T100000
DTEND;TZID=Europe/Sarajevo:20250929T143000
DTSTAMP:20260421T145838
CREATED:20250827T094108Z
LAST-MODIFIED:20250827T094108Z
UID:4476-1759140000-1759156200@rs.cest.gov.ba
SUMMARY:Pravosuđe i sloboda izražavanja u sudnici
DESCRIPTION:Centar za edukaciju sudija i javnih tužilaca u Republici Srpskoj i Centar za edukaciju sudija i tužilaca Federacije Bosne i Hercegovine\, u saradnji sa Kancelarijom visokog komesara Ujedinjenih nacija za ljudska prava (OHCHR)\, na osnovu Programa stručnog usavršavanja i početne obuke za 2025. godinu\, organizuju seminar: „Pravosuđe i sloboda izražavanja u sudnici”\, koji će se održati 29. septembra 2025 godine u Sarajevu\, sala CEST-a FBiH\, Halida Nazečića 4. \nEdukator će biti g. Harun Išerić\, viši asistent\, Pravni fakultet Univerziteta u Sarajevu.
URL:https://rs.cest.gov.ba/event/pravosudje-i-sloboda-izrazavanja-u-sudnici/
LOCATION:Sarajevo
CATEGORIES:Posebne teme
END:VEVENT
BEGIN:VEVENT
DTSTART;TZID=Europe/Sarajevo:20250929T103000
DTEND;TZID=Europe/Sarajevo:20250929T143000
DTSTAMP:20260421T145838
CREATED:20250905T110007Z
LAST-MODIFIED:20250905T110007Z
UID:4499-1759141800-1759156200@rs.cest.gov.ba
SUMMARY:Aktuelna pitanja izvršnog postupka
DESCRIPTION:Na osnovu Programa stručnog usavršavanja i početne obuke za 2024. godinu\, Centar za edukaciju sudija i javnih tužilaca u Republici Srpskoj\, organizuje seminar za sudije iz izvršne oblasti na temu: „Aktuelna pitanja izvršnog postupka”\, koji će se održati 29. septembra 2025. godine\, u prostorijama Centra za edukaciju sudija i javnih tužilaca u RS u Ul. Bulevar vojvode Stepe Stepanovića 60\, Banja Luka.\nEdukatori na ovom seminaru će biti gđa Nevenka Mitrić\, sudija Okružnog suda u Banjoj Luci\, i gđa Dragana Simanić\, sudija Okružnog suda u Bijeljini. \nDnevni red: \n10:15 – 10:25      Dolazak učesnika\n10:25 – 10:30     Otvaranje seminara i pozdravna riječ organizatora\n10:30 – 12:00     Sudske prakse u izvršnom postupku i najčešći problemi u provođenju izvršnog postupka\n12:00- 12:30       Pauza\n12:30- 14:00       Vjerodostojne i izvršne isprave\n14:00-14:30        Diskusija\, evaluacija seminara i registracija učesnika
URL:https://rs.cest.gov.ba/event/aktuelna-pitanja-izvrsnog-postupka-2/
LOCATION:Banja Luka
CATEGORIES:Izvršnopravna oblast
END:VEVENT
END:VCALENDAR