BEGIN:VCALENDAR
VERSION:2.0
PRODID:-//Javna ustanova Centar za edukaciju sudija i tužilaca u Republici Srpskoj - ECPv6.15.20//NONSGML v1.0//EN
CALSCALE:GREGORIAN
METHOD:PUBLISH
X-WR-CALNAME:Javna ustanova Centar za edukaciju sudija i tužilaca u Republici Srpskoj
X-ORIGINAL-URL:https://rs.cest.gov.ba
X-WR-CALDESC:Events for Javna ustanova Centar za edukaciju sudija i tužilaca u Republici Srpskoj
REFRESH-INTERVAL;VALUE=DURATION:PT1H
X-Robots-Tag:noindex
X-PUBLISHED-TTL:PT1H
BEGIN:VTIMEZONE
TZID:Europe/Sarajevo
BEGIN:DAYLIGHT
TZOFFSETFROM:+0100
TZOFFSETTO:+0200
TZNAME:CEST
DTSTART:20240331T010000
END:DAYLIGHT
BEGIN:STANDARD
TZOFFSETFROM:+0200
TZOFFSETTO:+0100
TZNAME:CET
DTSTART:20241027T010000
END:STANDARD
BEGIN:DAYLIGHT
TZOFFSETFROM:+0100
TZOFFSETTO:+0200
TZNAME:CEST
DTSTART:20250330T010000
END:DAYLIGHT
BEGIN:STANDARD
TZOFFSETFROM:+0200
TZOFFSETTO:+0100
TZNAME:CET
DTSTART:20251026T010000
END:STANDARD
BEGIN:DAYLIGHT
TZOFFSETFROM:+0100
TZOFFSETTO:+0200
TZNAME:CEST
DTSTART:20260329T010000
END:DAYLIGHT
BEGIN:STANDARD
TZOFFSETFROM:+0200
TZOFFSETTO:+0100
TZNAME:CET
DTSTART:20261025T010000
END:STANDARD
END:VTIMEZONE
BEGIN:VEVENT
DTSTART;TZID=Europe/Sarajevo:20250925T103000
DTEND;TZID=Europe/Sarajevo:20250926T140000
DTSTAMP:20260421T161854
CREATED:20250905T105604Z
LAST-MODIFIED:20250905T105604Z
UID:4497-1758796200-1758895200@rs.cest.gov.ba
SUMMARY:Krivičnopravna zaštita životne sredine
DESCRIPTION:Na osnovu Programa stručnog usavršavanja i početne obuke za 2025. godinu\, Centar za edukaciju sudija i javnih tužilaca u RS i Centar za edukaciju sudija i tužilaca u FBiH\, u saradnji sa UNDP\, organizuju seminar iz krivičnopravne oblasti za sudije na temu: „Krivičnopravna zaštita životne sredine“\, koja će se održati 25. i 26. septembra 2025. godine u hotelu Buna\, Mostar. \nIzlagači će biti: prof. Amina Nikolajev\, Pravni fakultet Univerziteta u Sarajevu\, g. Petar Pavlović\, pravni ekspert\, g. Dušan Dakić\, sudija\, Osnovni sud u Novom Sadu\, g. Dženan Rovčanin\, pravni ekspert\, g. Dino Redžović\, tužilac\, Okružno javno tužilaštvo Trebinje\, gđa. Nevena Srećković-Duštinac\, sudija\, Osnovni sud u Obrenovcu\, šef Odsjeka/Carinske laboratorije\, Uprava za indirektno oporezivanje BiH i prof.dr. Predrag Ilić\, direktor\, JNU Institut za zaštitu i ekologiju Republike Srpske \nDnevni red: \n25. septembar 2025. \n10.30 – 11.00     Uvodna obraćanja \n11.00 – 11.15      Početna aktivnost (upitnik) \n11.15 – 12.00      Razvoj ekološkog prava u Evropskoj uniji \n12.00 – 12.30     Nova direktiva o ekološkom kriminalu u Evropskoj uniji – šta sudije trebaju znati \n12.30 – 13.30     Ručak \n13.30 – 14.30     Praksa Evropskog suda za ljudska prava – zaštita prava kroz presude \n14.30 – 15.15      Izazovi koordinacije institucionalnih mehanizama u svrhu zaštite okoliša/životne sredine \n15.15 – 15.45       Diskusija: Izazovi u primjeni u domaćem kontekstu \n15.45 – 16.00     Zaključna diskusija i rezimiranje prvog dana (*upitnik) \n26. septembar 2025. \n09.30 – 10.15    Krivična djela protiv okoliša/životne sredine u zakonodavstvu: izazovi kvalifikacije i dokazivanja \n10.15 – 11.30     Predstavljanje predmeta iz prakse u oblasti opasnog otpada \n11.30 – 11.45      Pauza \n11.45 – 12.30      Predstavljanje hipotetičkog slučaja i njegovo rješavanje \n12.30 – 13.15      Laboratorijski kapaciteti u funkciji krivično-pravne zaštite okoliša \n13.15 – 13.45      Zaključna diskusija \n13:45                    Ručak \n 
URL:https://rs.cest.gov.ba/event/krivicnopravna-zastita-zivotne-sredine/
LOCATION:Mostar
CATEGORIES:Krivičnopravna oblast
END:VEVENT
END:VCALENDAR