BEGIN:VCALENDAR
VERSION:2.0
PRODID:-//Javna ustanova Centar za edukaciju sudija i tužilaca u Republici Srpskoj - ECPv6.15.20//NONSGML v1.0//EN
CALSCALE:GREGORIAN
METHOD:PUBLISH
X-WR-CALNAME:Javna ustanova Centar za edukaciju sudija i tužilaca u Republici Srpskoj
X-ORIGINAL-URL:https://rs.cest.gov.ba
X-WR-CALDESC:Events for Javna ustanova Centar za edukaciju sudija i tužilaca u Republici Srpskoj
REFRESH-INTERVAL;VALUE=DURATION:PT1H
X-Robots-Tag:noindex
X-PUBLISHED-TTL:PT1H
BEGIN:VTIMEZONE
TZID:Europe/Sarajevo
BEGIN:DAYLIGHT
TZOFFSETFROM:+0100
TZOFFSETTO:+0200
TZNAME:CEST
DTSTART:20240331T010000
END:DAYLIGHT
BEGIN:STANDARD
TZOFFSETFROM:+0200
TZOFFSETTO:+0100
TZNAME:CET
DTSTART:20241027T010000
END:STANDARD
BEGIN:DAYLIGHT
TZOFFSETFROM:+0100
TZOFFSETTO:+0200
TZNAME:CEST
DTSTART:20250330T010000
END:DAYLIGHT
BEGIN:STANDARD
TZOFFSETFROM:+0200
TZOFFSETTO:+0100
TZNAME:CET
DTSTART:20251026T010000
END:STANDARD
BEGIN:DAYLIGHT
TZOFFSETFROM:+0100
TZOFFSETTO:+0200
TZNAME:CEST
DTSTART:20260329T010000
END:DAYLIGHT
BEGIN:STANDARD
TZOFFSETFROM:+0200
TZOFFSETTO:+0100
TZNAME:CET
DTSTART:20261025T010000
END:STANDARD
END:VTIMEZONE
BEGIN:VEVENT
DTSTART;TZID=Europe/Sarajevo:20250903T133000
DTEND;TZID=Europe/Sarajevo:20250904T133000
DTSTAMP:20260421T161854
CREATED:20250805T103934Z
LAST-MODIFIED:20250826T091001Z
UID:4389-1756906200-1756992600@rs.cest.gov.ba
SUMMARY:Pravosudni odgovor na nasilje u porodici i nasilje nad ženama
DESCRIPTION:Na osnovu Programa stručnog usavršavanja i početne obuke za 2025. godinu\, Centar za edukaciju sudija i javnih tužilaca u Republici Srpskoj\, u saradnji sa Fondacijom Udružene žene Banja Luka\, organizuje seminar iz krivičnopravne oblasti na temu: „Pravosudni odgovor na nasilje u porodici i nasilje nad ženama: Krivičnopravni aspekti i multisektorska saradnja“\, koji će se održati 3. i 4. septembra 2025. godine u hotelu “Terme Ozren”\, Opština Petrovo. \nEdukatori će biti sudija Sanja Salčić Sabljica\, Osnovni sud u Sokocu\, tužilac Miroslav Kotur\, Okružno javno tužilaštvo u Banjoj Luci i sudija Vedrana Grmuša\, Osnovni sud u Banjaluci. Moderator seminara će biti sudija Igor Cimeša\, Okružni sud u Banjoj Luci. \nDnevni red: \nPrvi dan 3.9. \n13:30 – 14:00    Otvaranje seminara i uvodna obraćanja \n14:00 – 15:00    Postupanje tužilaca u istrazi i prikupljanje dokaza kod krivičnih djela nasilja u porodici \n15:00 – 16:00    Ocjena dokaza – Izazovi u radu sudija na predmetima nasilja u porodici –iskustva iz prakse \n16:00 – 16:30    Pauza \n16:30 – 17:30     Sudska praksa u predmetima nasilja u porodici i nasilja nad ženama \n17:30 – 18:00    Diskusija i razmjena iskustava \nDrugi dan 4.9. \n09:30 – 10:30   Obaveze država i dužna pažnja u kontekstu nasilja u porodici \n10:30 – 11:00    Pauza \n11:00 – 13:00    Panel i diskusija: Efikasno postupanje i saradnja u zaštiti žrtava i efikasnom procesuiranju počinilaca \n13:00 – 13:30    Završne napomene i zaključci seminara \n 
URL:https://rs.cest.gov.ba/event/pravosudni-odgovor-na-nasilje-u-porodici-i-nasilje-nad-zenama/
LOCATION:Ozren
CATEGORIES:Krivičnopravna oblast
END:VEVENT
END:VCALENDAR