BEGIN:VCALENDAR
VERSION:2.0
PRODID:-//Javna ustanova Centar za edukaciju sudija i tužilaca u Republici Srpskoj - ECPv6.15.20//NONSGML v1.0//EN
CALSCALE:GREGORIAN
METHOD:PUBLISH
X-WR-CALNAME:Javna ustanova Centar za edukaciju sudija i tužilaca u Republici Srpskoj
X-ORIGINAL-URL:https://rs.cest.gov.ba
X-WR-CALDESC:Events for Javna ustanova Centar za edukaciju sudija i tužilaca u Republici Srpskoj
REFRESH-INTERVAL;VALUE=DURATION:PT1H
X-Robots-Tag:noindex
X-PUBLISHED-TTL:PT1H
BEGIN:VTIMEZONE
TZID:Europe/Sarajevo
BEGIN:DAYLIGHT
TZOFFSETFROM:+0100
TZOFFSETTO:+0200
TZNAME:CEST
DTSTART:20240331T010000
END:DAYLIGHT
BEGIN:STANDARD
TZOFFSETFROM:+0200
TZOFFSETTO:+0100
TZNAME:CET
DTSTART:20241027T010000
END:STANDARD
BEGIN:DAYLIGHT
TZOFFSETFROM:+0100
TZOFFSETTO:+0200
TZNAME:CEST
DTSTART:20250330T010000
END:DAYLIGHT
BEGIN:STANDARD
TZOFFSETFROM:+0200
TZOFFSETTO:+0100
TZNAME:CET
DTSTART:20251026T010000
END:STANDARD
BEGIN:DAYLIGHT
TZOFFSETFROM:+0100
TZOFFSETTO:+0200
TZNAME:CEST
DTSTART:20260329T010000
END:DAYLIGHT
BEGIN:STANDARD
TZOFFSETFROM:+0200
TZOFFSETTO:+0100
TZNAME:CET
DTSTART:20261025T010000
END:STANDARD
END:VTIMEZONE
BEGIN:VEVENT
DTSTART;TZID=Europe/Sarajevo:20250521T100000
DTEND;TZID=Europe/Sarajevo:20250521T153000
DTSTAMP:20260421T224157
CREATED:20250429T080159Z
LAST-MODIFIED:20250508T122712Z
UID:4162-1747821600-1747841400@rs.cest.gov.ba
SUMMARY:Izazovi u primjeni Zakona o zaštiti lica koja prijavljuju korupciju
DESCRIPTION:Centar za edukaciju sudija i javnih tužilaca u Republici Srpskoj\, u skladu sa Programom stručnog usavršavanja i početne obuke za 2025. godinu\, i na prijedlog Ministarstva pravde Republike Srpske\, organizuje seminar\, na temu: „Izazovi u primjeni Zakona o zaštiti lica koja prijavljuju korupciju“\, koji će se održati 21. maja 2025. godine u Banjaluci\, prostorije CEST-a RS\, Bulevar vojvode Stepe Stepanovića 60. \nEdukatori će biti Bojana Milanović Kresojević i Mladen Maksimović\, Ministarstvo pravde Republike Srpske. \nDnevni red: \n10:00 – 10:30  Registracija učešća i pozdravna riječ/predstavnik CEST-a RS \n10:30 – 11:30   Analiza Zakona o zaštiti lici koja prijavljuju korupciju (\,\,Službeni glasnik Republike Srpske“\, broj 62/17 i 98/24)\, s fokusom na mehanizme prijave korupcije \n11:30- 12:00     Pauza za kafu \n12:00- 13:00     Analiza nedostataka u Zakonu o zaštiti lica koja prijavljuje korupciju (\,\,Službeni glasnik Republike Srpske“\, broj 62/17 i 98/24) \n13:00 – 14:00   Preporuke za unapređenje Zakona o zaštiti lica koja prijavljuju korupciju \n14:00 – 15:00   Diskusija\, zaključna razmatranja\, evaluacija seminara \n15:00-                Završne riječi i odlazak učesnika
URL:https://rs.cest.gov.ba/event/izazovi-u-primjeni-zakona-o-zastiti-lica-koja-prijavljuju-korupciju/
LOCATION:Banja Luka
CATEGORIES:Posebne teme
END:VEVENT
BEGIN:VEVENT
DTSTART;TZID=Europe/Sarajevo:20250521T103000
DTEND;TZID=Europe/Sarajevo:20250521T143000
DTSTAMP:20260421T224157
CREATED:20250414T090719Z
LAST-MODIFIED:20250414T090719Z
UID:4126-1747823400-1747837800@rs.cest.gov.ba
SUMMARY:Postupak pred drugostepenim sudom u parničnom postupku
DESCRIPTION:Centar za edukaciju sudija i javnih tužilaca u Republici Srpskoj\, u okviru Programa stručnog usavršavanja i početne obuke za 2024. godinu\, organizuje seminar iz građanskopravne oblasti\, na temu: „Postupak pred drugostepenim sudom u parničnom postupku“\, koji će se održati u srijedu 21. maja 2025. godine\, u prostorijama Centra za edukaciju sudija i javnih tužilaca u RS\, u Bulevaru vojvode Stepe Stepanovića 60\, Banja Luka. \nIzlagač na ovom seminaru će biti Biljana Vidimlić\, sudija Okružnog suda u Banjoj Luci. \nDnevni red: \n10:25 – 10:30             Otvaranje seminara i pozdravna riječ organizatora \n10:30– 12:00              Propusti kod prethodnog ispitivanja tužbe \nTroškovi postupka \n12:00 – 12:30              Pauza \n12:30 – 14:00              Propusti prvostepenog suda u obrazlaganju odluka \n14:00 – 14:30              Diskusija\, evaluacija i registracija učesnika \n 
URL:https://rs.cest.gov.ba/event/postupak-pred-drugostepenim-sudom-u-parnicnom-postupku-2/
LOCATION:Banja Luka
CATEGORIES:Građanskopravna oblast
END:VEVENT
END:VCALENDAR