BEGIN:VCALENDAR
VERSION:2.0
PRODID:-//Javna ustanova Centar za edukaciju sudija i tužilaca u Republici Srpskoj - ECPv6.15.20//NONSGML v1.0//EN
CALSCALE:GREGORIAN
METHOD:PUBLISH
X-ORIGINAL-URL:https://rs.cest.gov.ba
X-WR-CALDESC:Events for Javna ustanova Centar za edukaciju sudija i tužilaca u Republici Srpskoj
REFRESH-INTERVAL;VALUE=DURATION:PT1H
X-Robots-Tag:noindex
X-PUBLISHED-TTL:PT1H
BEGIN:VTIMEZONE
TZID:Europe/Sarajevo
BEGIN:DAYLIGHT
TZOFFSETFROM:+0100
TZOFFSETTO:+0200
TZNAME:CEST
DTSTART:20240331T010000
END:DAYLIGHT
BEGIN:STANDARD
TZOFFSETFROM:+0200
TZOFFSETTO:+0100
TZNAME:CET
DTSTART:20241027T010000
END:STANDARD
BEGIN:DAYLIGHT
TZOFFSETFROM:+0100
TZOFFSETTO:+0200
TZNAME:CEST
DTSTART:20250330T010000
END:DAYLIGHT
BEGIN:STANDARD
TZOFFSETFROM:+0200
TZOFFSETTO:+0100
TZNAME:CET
DTSTART:20251026T010000
END:STANDARD
BEGIN:DAYLIGHT
TZOFFSETFROM:+0100
TZOFFSETTO:+0200
TZNAME:CEST
DTSTART:20260329T010000
END:DAYLIGHT
BEGIN:STANDARD
TZOFFSETFROM:+0200
TZOFFSETTO:+0100
TZNAME:CET
DTSTART:20261025T010000
END:STANDARD
END:VTIMEZONE
BEGIN:VEVENT
DTSTART;TZID=Europe/Sarajevo:20250505T080000
DTEND;TZID=Europe/Sarajevo:20250509T170000
DTSTAMP:20260421T224237
CREATED:20250401T090227Z
LAST-MODIFIED:20250401T090227Z
UID:4094-1746432000-1746810000@rs.cest.gov.ba
SUMMARY:Borba protiv nedozvoljene trgovine kulturnim dobrima korištenjem tehnologije
DESCRIPTION:Kancelarija UNESCO u BiH\, u saradnji sa Agencijom za školovanje i stručno usavršavanje kadrova\, Centrom za edukaciju sudija i javnih tužilaca u Republici Srpskoj i Centrom za edukaciju sudija i tužilaca u FBiH\, u okviru projekta “Borba protiv nedozvoljene trgovine kulturnim dobrima na Zapadnom Balkanu” organizuje: \n„Obuku budućih trenera: Borba protiv nedozvoljene trgovine kulturnim dobrima korištenjem tehnologije“\, koja će se održati od 5. do 9. maja 2025. godine u Mostaru\, u prostorijama Agencije za školovanje i stručno usavršavanje kadrova. \nPredavači na obuci koji će donijeti svoju stručnost i podijeliti svoje iskustvo kroz stvarne studije slučaja uključuju predstavnike međunarodnih organizacija kao što su UNESCO\, INTERPOL\, EUROPOL\, španjolska Guardia Civil\, turske policijske snage – Središnji ured za kulturna dobra KOM\, Ministarstvo kulture Španjolske\, Ministarstvo kulture i turizma Turske\, kao i stručnjaci iz regije.
URL:https://rs.cest.gov.ba/event/borba-protiv-nedozvoljene-trgovine-kulturnim-dobrima-koristenjem-tehnologije/
LOCATION:Mostar
CATEGORIES:Krivičnopravna oblast
END:VEVENT
BEGIN:VEVENT
DTSTART;TZID=Europe/Sarajevo:20250505T100000
DTEND;TZID=Europe/Sarajevo:20250505T140000
DTSTAMP:20260421T224237
CREATED:20250411T082359Z
LAST-MODIFIED:20250424T092128Z
UID:4107-1746439200-1746453600@rs.cest.gov.ba
SUMMARY:Metodologija izrade sudske odluke u krivičnom postupku
DESCRIPTION:Centar za edukaciju sudija i javnih tužilaca u Republici Srpskoj\, kao novinu u okviru početne obuke pripravnika\, organizuje seminar prvenstveno namijenjen pripravnicima i volonterima iz sudova i (javnih) tužilaštava\, ali i pripravnicima zapopslenim u adovkaturi\, notarijatu\, upravi\, pravoblanilaštvu i privredi\, u svrhu pripreme za polaganje Pravosudnog ispita. Drugi seminar iz ovog domena\, koji se organizuje u skladu sa Programom stručnog usavršavanja i početne obuke za 2025. godinu nosi naziv: „Metodologija izrade sudske odluke u krivičnom postupku“\, koji će se održati 05. maj 2025. godine\, u Banjaluci\, prostorije CEST-a RS\, Bulevar vojvode Stepe Stepanovića 60. \nEdukator će biti Marija Aničić Zgonjanin\, predsjednica Okružnog suda u Banjoj Luci i stalni edukator CEST-a RS. \nDnevni red: \n10:00 – 10:30      Dolazak učesnika i pozdravna riječ predstavnika CEST-a RS \n10:30 – 12:30      Tehnike izrade presude (teorijski dio) – osnovni elementi sadržine presude \n12:30 – 13:00      Pauza \n13:00 – 15:00      Tehnike izrade presude (praktični dio) – ukazivanje na konkretne propuste u pojedinim odlukama \n15:00 – 15:30      Diskusija\, evaluacija seminara i evidentiranje učešća
URL:https://rs.cest.gov.ba/event/metodologija-izrade-sudske-odluke-u-krivicnom-postupku-2/
LOCATION:Banja Luka
CATEGORIES:Obuka za pripravnike
END:VEVENT
BEGIN:VEVENT
DTSTART;TZID=Europe/Sarajevo:20250505T100000
DTEND;TZID=Europe/Sarajevo:20250505T153000
DTSTAMP:20260421T224237
CREATED:20250505T110747Z
LAST-MODIFIED:20250505T110747Z
UID:4170-1746439200-1746459000@rs.cest.gov.ba
SUMMARY:Izazovi utvrđivanja diskriminacije i primjene posebnih proceduralnih pravila
DESCRIPTION:Na osnovu Programa stručnog usavršavanja i početne obuke za 2025. godinu\, Centar za edukaciju sudija i javnih tužilaca u Republici Srpskoj\, u saradnji sa Centrom za edukaciju sudija i tužilaca Federacije Bosne i Hercegovine\, a uz podršku Misije OSCE-a u BiH\, organizuje seminar za sudije iz građanskopravne oblasti na temu:\n„Izazovi utvrđivanja diskriminacije i primjene posebnih proceduralnih pravila u diskriminacijskim parnicama i obrnuti teret dokazivanja“\, koji će se održati 12. maja 2025. godine\, u hotelu Ibis Styles\, Sarajevo. \nEdukatori na ovom seminaru će biti gdin Goran Nezirović i Fatima Mrdović\, sudije Vrhovnog suda Federacije BiH. \nDnevni red: \n10:00 – 10:15       Registracija učesnika/ca i Uvodna obraćanja \n10:15 – 11:45         Osnovni elementi pojma diskriminacije \n–           Direktna i indirektna diskriminacija \n–           Ostali oblici diskriminacije \n11:45 – 12:00         Pauza \n12:00 – 13:30        Incidentalne (prejuducijalne) tužbe za zaštitu od diskriminacije \n– Posebne antidiskriminacijske tužbe i kolektivne tužbe za zaštitu od \ndiskriminacije \n– Teret dokazivanja \n13:30 – 14:00        Ručak \n14:00 – 14:30        Dokazna sredstva u antidiskriminacijskim parnicama \n14:30 – 15:15         Naknada nematerijalne štete u slučajevima diskriminacije
URL:https://rs.cest.gov.ba/event/izazovi-utvrdjivanja-diskriminacije-i-primjene-posebnih-proceduralnih-pravila/
LOCATION:Sarajevo
CATEGORIES:Građanskopravna oblast
END:VEVENT
END:VCALENDAR