BEGIN:VCALENDAR
VERSION:2.0
PRODID:-//Javna ustanova Centar za edukaciju sudija i tužilaca u Republici Srpskoj - ECPv6.15.20//NONSGML v1.0//EN
CALSCALE:GREGORIAN
METHOD:PUBLISH
X-WR-CALNAME:Javna ustanova Centar za edukaciju sudija i tužilaca u Republici Srpskoj
X-ORIGINAL-URL:https://rs.cest.gov.ba
X-WR-CALDESC:Events for Javna ustanova Centar za edukaciju sudija i tužilaca u Republici Srpskoj
REFRESH-INTERVAL;VALUE=DURATION:PT1H
X-Robots-Tag:noindex
X-PUBLISHED-TTL:PT1H
BEGIN:VTIMEZONE
TZID:Europe/Sarajevo
BEGIN:DAYLIGHT
TZOFFSETFROM:+0100
TZOFFSETTO:+0200
TZNAME:CEST
DTSTART:20240331T010000
END:DAYLIGHT
BEGIN:STANDARD
TZOFFSETFROM:+0200
TZOFFSETTO:+0100
TZNAME:CET
DTSTART:20241027T010000
END:STANDARD
BEGIN:DAYLIGHT
TZOFFSETFROM:+0100
TZOFFSETTO:+0200
TZNAME:CEST
DTSTART:20250330T010000
END:DAYLIGHT
BEGIN:STANDARD
TZOFFSETFROM:+0200
TZOFFSETTO:+0100
TZNAME:CET
DTSTART:20251026T010000
END:STANDARD
BEGIN:DAYLIGHT
TZOFFSETFROM:+0100
TZOFFSETTO:+0200
TZNAME:CEST
DTSTART:20260329T010000
END:DAYLIGHT
BEGIN:STANDARD
TZOFFSETFROM:+0200
TZOFFSETTO:+0100
TZNAME:CET
DTSTART:20261025T010000
END:STANDARD
END:VTIMEZONE
BEGIN:VEVENT
DTSTART;TZID=Europe/Sarajevo:20250423T093000
DTEND;TZID=Europe/Sarajevo:20250424T140000
DTSTAMP:20260422T001415
CREATED:20250321T121638Z
LAST-MODIFIED:20250326T115845Z
UID:4066-1745400600-1745503200@rs.cest.gov.ba
SUMMARY:Seminar za kontakt tačke za sigurnost novinara u BiH
DESCRIPTION:Na osnovu Programa stručnog usavršavanja i početne obuke za 2025. godinu\, Centar za edukaciju sudija i javnih tužilaca u Republici Srpskoj\, u saradnji sa Centrom za edukaciju sudija i tužilaca Federacije BiH\, a uz podršku Projekta „Zaštita slobode izražavanja i medija u BiH“- PROFREX Savjeta Evrope\, organizuje: „Seminar za kontakt tačke za sigurnost novinara u BiH“\, koji će se održati 23. i 24. aprila 2025. godine u Mostaru. \nDnevni red: \nSrijeda\, 23. april 2025. godine \n09.30 – 09.40    UVODNE NAPOMENE I PRE-TEST \n09.40- 11.10       IMPLEMENTACIJA SMJERNICA ZA ZAŠTITU NOVINARA I NOVINARKI – RAZMJENA ISKUSTAVA \n                           Toure de table: svi učesnici i učesnice dijele iskustva u primjeni Smjernica od Decembra 2024. godine naovamo. Pitanja za razmjenu informacija: Da li ste imali novih slučajeva; Koliko; Kako ih obilježavate; Koji je trenutni status tih slučajeva; Kakva je vaša komunikacija sa prijaviteljima nasilja/žrtvama; Kako surađujete sa partnerima (iz policije\, tužilaštava\, medija); Šta bi moglo/trebalo biti unaprijeđeno? \n11:10 -11.30      Pauza za kafu \n11.30 – 13:00    NOVINARKE KAO ŽRTVE RODNO ZASNOVANOG NASILJA ONLINE. KAKO TO UTIČE NA SLOBODU IZRAŽAVANJA? \nNasilje and novinarkama dešava se u širem društvenom kontekstu seksizma\, mizoginije i rodne neravnopravnosti. Globalno\, novinarke se susreću sa nasiljem na društvenim mrežama. Istraživanja pokazuju\, da novinarke\, koje su već suočene sa opresijom zbog rase\, etničke i religijske pripadnosti\, seksualne orijentacije\, dobi ili invaliditeta\, trpe više i oštrije online nasilje\, pri čemu se ostvaruje snažniji utjecaj na njihov život. Rodno zasnovano nasilje utječe na sve aspekte života novinarki. Za uspješnu borbu portiv njega\, potrebam je cjelovit pristup svih aktera\, vlasti\, policije\, platforme društvenih medija\, medijske kuće kao poslodavci I civilno društvo. \nDženana  Radončić\, konsultantica Vijeća Evrope (nepotvrđeno). Sesija podijeljena na 2 dijela\, do 45 minuta prdviđeno za prezentaciju\, a 45 minuta strukturirati kao diskusiju ili neki vid praktičnog zadataka\, koji bi podrazumijevao aktivan angažman sudionica i sudionika. \n13.00 – 14.00     Pauza za ručak \n14.00 – 15.15     NOVINARKE U BIH KAO ŽRTVE RODNO ZASNOVANOG NASILJA I RODNO ZASNOVANOG NASILJA ONLINE \nS kojim se tipovima rodno zasnovanog nasilja novinarke u BiH najčešže suočavaju? Zašto je nizak nivo prijavljivanja slučajeva nasilja and novinarima I novoinarkama\, uključujuću rodno zasnovano nasilje? Šta medijska zajednica\, institucije I civilno društvo\, mogu i trebaju učiniti za efikasniju zaštitu od rodno zasnovanog nasilja? \nKristina Ljevak Bajramović\, konsultantica Vijeća Evrope \n15.15 – 15.45     Pauza za kafu \n15.45 – 17.00     ZAŠTITA NOVINARA I NOVINARKI OD RODNO ZASNOVANOG NASILJA I RODNO ZASNOVANOG NASILJA ONLINE U SKLADU SA STANDARDIMA VIJEĆA EVROPE \nPrezentacija standarda baziranih na praksi Evropskog suda za ljudska prava\, Preporuci Vijeća Evrope CM/Rec (2016)4 o sigurnosti novinarstva\, novinara i drugih medijskih aktera; Preporuci Vijeća Evrope CM/rec (2019)1 o prevenciji i borbi protiv seksizma\, itd. \nDragan Sekulovski\, konsultant Vijeća Evrope \n17.00                   Kraj prvog dana \nČetvrtak \, 24. april 2025. godine \n09.00 – 11.00     STUDIJA SLUČAJA \n                            Grupni praktični rad – studija slučaja/simulacija odabranog slučaja \nDragan Sekulovski i Kristina Ljevak Bajramović\,  konsultant i konsultantica  Vijeća Evrope \n11.00 – 11.15      Pauza za kafu \n  \n11.15 – 12.30     ŠTA SE MOŽE NAUČITI IZ ISKUSTVA SJEVERNE MAKEDONIJE? Prezentacija i diskusija odabranih slučajeva /primjera iz Sjeverne Makedonije \n                           Dragan Sekulovski\, konsultant Vijeća Evrope \n12.30 – 13.30     Diskusija – definiranje narednih koraka u kontekstu zaštite novinara I novinarki\, preporuke za unaprijeđenje prakse \n13.30 – 14.00     Evaluacija i post testiranje \n14.00                 Ručak i odlazak učesnika i učesnica
URL:https://rs.cest.gov.ba/event/seminar-za-kontakt-tacke-za-sigurnost-novinara-u-bih/
LOCATION:Mostar
CATEGORIES:Posebne teme
END:VEVENT
BEGIN:VEVENT
DTSTART;TZID=Europe/Sarajevo:20250423T100000
DTEND;TZID=Europe/Sarajevo:20250424T140000
DTSTAMP:20260422T001415
CREATED:20250401T095600Z
LAST-MODIFIED:20250415T110052Z
UID:4097-1745402400-1745503200@rs.cest.gov.ba
SUMMARY:Uvod u Evropsku konvenciju o ljudskim pravima i osnovni principi tumačenja Konvencije
DESCRIPTION:Na osnovu Programa stručnog usavršavanja i početne obuke za 2024. godinu\, Centar za edukaciju sudija i javnih tužilaca u Republici Srpskoj i Centar za edukaciju sudija i tužilaca Federacije Bosne i Hercegovine\, u saradnji sa Savjetom Evrope\, koji ipmlementira projekat „Podrška dosljednoj nacionalnoj provedbi Evropske konvencije o ljudskim pravima i olakšavanje izvršenja presuda Evropskog suda za ljudska prava u BiH“\, organizuju seminar\, na temu: „Uvod u Evropsku konvenciju o ljudskim pravima i osnovni principi tumačenja Konvencije“\, koji će se održati 23 – 24. april 2025. godine u Sarajevu\, hotel „Holiday“\, Zmaja od Bosne 4. \nIzlagači će biti Sevima Sali – Terzić\, registrar\, Ustavni sud BiH i Midhat Izmirlija\, profesor\, Pravni fakultet Univezriteta u Sarajevu. \nDnevni red: \nSrijeda\, 23. april 2025. godine \n9:30 – 9:45        Registracija učesnika/kafa/čaj dobrodošlice \n9:45 – 10:00     Predstavljanje programa rada i predavača\, predstavnik CEST-a \n10:00 – 10:15     Upoznavanje sa učesnicima \n10:15 – 10:30     Anonimni pismeni test \n10:30 – 11:15     Primjena i pozicija Evropske konvencije o zaštiti ljudskih prava i osnovnih sloboda u pravnom sistemu BiH \n11:15 – 11:30       Pauza za kafu \n11:30 – 11:50     Izazovi u primjeni međunarodnih standarda ljudskih prava u BiH \n11:50 – 12:30     Supsidijarnost EKLJP i ESLJP-Rješavanje sukoba domaćih propisa i Konvencije \n12:30 – 13:00    Pojam (djelotvornosti) domaćeg pravnog lijeka kao uslova za obraćanje Evropskom sudu \n13:00 – 13:15     Diskusija \n13:15 – 14:15       Ručak \n14:15 – 15:00      Pristup sudskoj praksi: \n\nkorištenje HUDOC-a\nPretraga baze sudske prakse Ustavnog suda BiH\n\n15:00 – 16:00     Vježbe na primjerima \n16:00 – 16:15      Zaključci \nČetvrtak\, 24. april 2025 \n9:30 – 9:50        Rekapitulacija \n9:50 – 10:20      Osnovni principi primjene Evropske konvenicje \n10:20 – 11:00    Prepoznavanje dimenzije ljudskih prava u svakodnevnom životu \n11:00 – 11:15       Pauza za kafu \n11:15 – 11:45      Primjena trostepenog testa kod kvalifikovanih ljudskih prava \n11:45 – 12:15      Prepoznavanje značaja pristupa fokusiranog na žrtvu povrede ljudskih prava u sudskoj praksi \n12:15 – 13:30     Vježba \n13:30 – 13:45     Završni anonimni pismeni test sa ispravkama \n13:45 – 14:00    Evaluacija i zaključci \n14:00                  Ručak
URL:https://rs.cest.gov.ba/event/uvod-u-evropsku-konvenciju-o-ljudskim-pravima-i-osnovni-principi-tumacenja-konvencije/
LOCATION:Sarajevo
CATEGORIES:Ljudska prava
END:VEVENT
END:VCALENDAR