BEGIN:VCALENDAR
VERSION:2.0
PRODID:-//Javna ustanova Centar za edukaciju sudija i tužilaca u Republici Srpskoj - ECPv6.15.20//NONSGML v1.0//EN
CALSCALE:GREGORIAN
METHOD:PUBLISH
X-WR-CALNAME:Javna ustanova Centar za edukaciju sudija i tužilaca u Republici Srpskoj
X-ORIGINAL-URL:https://rs.cest.gov.ba
X-WR-CALDESC:Events for Javna ustanova Centar za edukaciju sudija i tužilaca u Republici Srpskoj
REFRESH-INTERVAL;VALUE=DURATION:PT1H
X-Robots-Tag:noindex
X-PUBLISHED-TTL:PT1H
BEGIN:VTIMEZONE
TZID:Europe/Sarajevo
BEGIN:DAYLIGHT
TZOFFSETFROM:+0100
TZOFFSETTO:+0200
TZNAME:CEST
DTSTART:20240331T010000
END:DAYLIGHT
BEGIN:STANDARD
TZOFFSETFROM:+0200
TZOFFSETTO:+0100
TZNAME:CET
DTSTART:20241027T010000
END:STANDARD
BEGIN:DAYLIGHT
TZOFFSETFROM:+0100
TZOFFSETTO:+0200
TZNAME:CEST
DTSTART:20250330T010000
END:DAYLIGHT
BEGIN:STANDARD
TZOFFSETFROM:+0200
TZOFFSETTO:+0100
TZNAME:CET
DTSTART:20251026T010000
END:STANDARD
BEGIN:DAYLIGHT
TZOFFSETFROM:+0100
TZOFFSETTO:+0200
TZNAME:CEST
DTSTART:20260329T010000
END:DAYLIGHT
BEGIN:STANDARD
TZOFFSETFROM:+0200
TZOFFSETTO:+0100
TZNAME:CET
DTSTART:20261025T010000
END:STANDARD
END:VTIMEZONE
BEGIN:VEVENT
DTSTART;TZID=Europe/Sarajevo:20250414T093000
DTEND;TZID=Europe/Sarajevo:20250415T153000
DTSTAMP:20260422T002408
CREATED:20250307T121522Z
LAST-MODIFIED:20250411T085522Z
UID:4021-1744623000-1744731000@rs.cest.gov.ba
SUMMARY:Neovlašteni promet oružjem i vojnom opremom te proizvodima dvojne namjene
DESCRIPTION:Na osnovu Programa stručnog usavršavanja i početne obuke za 2025. godinu\, Centar za edukaciju sudija i javnih tužilaca u Republici Srpskoj\, u saradnji sa UNODC- Globalnim programom za vatreno oružje\, organizuje seminar iz krivičnopravne oblasti na temu: „Prezentacija zakonskih rješenja i sudske prakse u BiH – neovlašteni promet oružjem i vojnom opremom te proizvodima dvojne namjene“\, koji će se održati 14. i 15. aprila 2025. godine u prostorijama Centra za edukaciju sudija i javnih tužilaca u Republici Srpskoj\, Banja Luka. \nEdukatori će biti sudija Hilmo Vučinić\, Sud BiH\, Belma Salić\,Ministarstvo spoljne trgovine i ekonomskih odnosa BiH\, predstavnik i vještak MUP-a Republike Srpske. U okviru prvog dana seminara\, biće organizovana posjeta balističkoj laboratoriji MUP-a Republike Srpske. \nDnevni red: \nPrvi dan\, 14.04.2025. godine  \n\n\n\n08:30–09:00\nRegistracija učesnika\n\n\n09:00–09:15\nPrezentacija ciljeva obuke/radionice \nPredstavljanje učesnika \nGovornici: Vesna Stevanović\, UNODC i Hilmo Vučinić\, sudija Suda Bosne i Hercegovine\n\n\n09:15–10:15\nPrva sesija – Međunarodni i nacionalni okvir za vatreno oružje \nKonvencija UN protiv transnacionalnog organizovanog kriminala i njen Protokol br. 3 \nDirektive EU koje se odnose na vatreno oružje \nZakon o graničnoj kontroli \nGovornici: Hilmo Vučinić\, sudija Suda Bosne i Hercegovine i učesnici\n\n\n10:15–11:15\nDruga sesija \nZakon o kontroli vanjskotrgovinskog prometa oružja\, vojne opreme i robe posebne namjene \nZakon o kontroli spoljnotrgovinskog  prometa roba dvojne \nNamjene \nZakona o ispitivanju\, žigosanju  i oblježavanju\, ručnog vatrenog oružja i municije \nGovornici: Marijana Milić\, pomoćnik ministra u Ministarstvu spoljne trgovine i  ekonomskih i odnosa i učesnici\n\n\n11:15–11:45\nPauza\n\n\n11:45–12:30\nTreća sesija –  Nastavak sa nacionalnim okvirom za vatreno oružje\, uključujući entitetski okvir i Brčko distrikt BiH.  \nZakon o kontroli kretanja oružja i vojne opreme \nZakon o oružju i municiji \nDefinicija i vrsta oružja A kategorije \nDefinicija i vrsta oružja B kategorije \nDefinicija i vrsta oružja C kategorije \nDefinicija i vrsta oružja D kategorije \nGovornici:  Predstavnici MUP-a Republike Srpske\n\n\n12:30–13:30\nPauza za ručak\n\n\n13:30–14:00\nTransfer od CEST RS do MUP Republike Srpske\n\n\n14:00–15:00\nČetvrta sesija – Posjeta KTC MUP MUP Republike Srpske – Balistička labaratorija  \nPregled načina identifikacije i obilježavanja oružja\, djelova i komponenti oružja\, municije i eksplozivnih materija \nVatreno oružje \nDijelovi i komponente oružja \nMunicija za oružje \nEksplozivne materije \nGovornici: Predstavnici MUP-a Republike Srpske\n\n\n15:00–15:15\nPauza\n\n\n15:15–16:00\nPeta sesija –  Nove vrste oružja i novi trendovi \nOružje proizvedeno pomoću 3D štampača \nPištolji duhovi (Ghost guns) \nKonvertori za pištolje marke „GLOCK“ \nGovornici: Predstavnici MUP-a Republike Srpske\n\n\n16:00–16:15\nKraj prvog dana i rezime sesija prvog dana\n\n\n\n  \nDrugi dan\, 15.04.2025.  \n\n\n\n09:00–09:15\nPredstavljanje ciljeva za drugi dan radionice \nGovornici: Vesna Stevanović\, UNODC i Hilmo Vučinić\, sudija Suda Bosne i Hercegovine i učesnici\n\n\n09:15–10:00\nPrva sesija: Krivičnopravni odgovor na neovlašćenu proizvodnju\, promet i držanje vatrenog oružja\, dijelova i komponenti\, municije i eksplozivnih materija \nPregled odredaba člana 193 KZ BiH \nPregled odredaba člana 371 KZ FBiH \nPregled odredaba člana 361 KZ RS \nPregled odredaba člana 365 KZ BD BiH \nKrivična djela propisana KZ pojedinih kantona \nGovornici: Hilmo Vučinić\, sudija Suda Bosne i Hercegovine i učesnici\n\n\n10:00–11:00\nDruga sesija – Otkrivanje\, dokazivanje i sudska praksa u vezi sa krivičnim delima neovlašćenog držanja i nabavke oružja\, delova i komponenti\, municije i eksplozivnih materija \nIzazovi u otkrivanju\, pravnoj kvalifikaciji i dokazivanju predmeta u vezi sa držanjem i nabavkom oružja od strane optuženih \nAnaliza presuda koje se odnose na držanje i nabavku oružja od strane optuženih \nKljučni momenti u presudama u vezi sa držanjem i nabavkom oružja od strane optuženih \nAnaliza kaznene politike sudova \nGovornici: Hilmo Vučinić\, sudija Suda Bosne i Hercegovine i učesnici\n\n\n11:00–11:30\nPauza\n\n\n11:30–12:30\nTreća sesija – Otkrivanje\, dokazivanje i sudska praksa u vezi sa  krivičnim delima neovlašćene proizvodnje oružja\, delova i komponenti\, municije i eksplozivnih materija \nIzazovi u otkrivanju\, pravnoj kvalifikaciji i dokazivanju predmeta u vezi sa proizvodnjom oružja od strane optuženih \nAnaliza presuda u vezi sa proizvodnjom oružja od strane optuženih \nKljučni momenti u presudama u vezi sa proizvodnjom oružja od strane optuženih \nAnaliza kaznene politike sudova \nGovornici: Hilmo Vučinić\, sudija Suda Bosne i Hercegovine i učesnici\n\n\n12:30–13:30\nPauza za ručak\n\n\n13:30–14:30\nČetvrta sesija – Otkrivanje\, dokazivanje i sudska praksa u vezi sa krivičnim delima neovlašćenog prometa oružja\, delova i komponenti\, municije i eksplozivnih materija \nIzazovi u otkrivanju\, pravnoj kvalifikaciji i dokazivanju predmeta u vezi sa trgovinom oružjem od strane optuženih \nAnaliza presuda u vezi sa trgovinom oružjem od strane optuženih \nKljučni momenti u presudama u vezi sa trgovinom oružjem od strane optuženih \nAnaliza kaznene politike sudova \nGovornici: Hilmo Vučinić\, sudija Suda Bosne i Hercegovine i učesnici\n\n\n14:30–15:00\nPauza\n\n\n15:00–16:00\nPeta sesija – Otkrivanje\, pravna kvalifikacija\, dokazivanje i postupanje sa oružjem u slučajevima kada se ono pojavljuje kao sredstvo za izvršenje drugih krivičnih dela \nAnaliza predmeta u vezi sa grupama za organizovani kriminal\, odnosno organizovanim grupama \nAnaliza predmeta u vezi sa krivičnim djelima protiv života i tijela \nAnaliza predmeta u vezi sa krivičnim djelima protiv braka i porodice \nAnaliza predmeta u vezi sa krivičnim djelima protiv imovine \nGovornici: Hilmo Vučinić\, sudija Suda Bosne i Hercegovine i učesnici\n\n\n16:00–16:15\nKraj drugog dana i sumiranje zaključaka obuke
URL:https://rs.cest.gov.ba/event/neovlasteni-promet-oruzjem-i-vojnom-opremom-te-proizvodima-dvojne-namjene/
LOCATION:Banja Luka
CATEGORIES:Krivičnopravna oblast
END:VEVENT
END:VCALENDAR